BEGIN:VCALENDAR
VERSION:2.0
PRODID:-//Wanaki Men&#039;s Club - ECPv6.15.18//NONSGML v1.0//EN
CALSCALE:GREGORIAN
METHOD:PUBLISH
X-ORIGINAL-URL:https://www.wanakimensclub.com
X-WR-CALDESC:Events for Wanaki Men&#039;s Club
REFRESH-INTERVAL;VALUE=DURATION:PT1H
X-Robots-Tag:noindex
X-PUBLISHED-TTL:PT1H
BEGIN:VTIMEZONE
TZID:America/Chicago
BEGIN:DAYLIGHT
TZOFFSETFROM:-0600
TZOFFSETTO:-0500
TZNAME:CDT
DTSTART:20180311T080000
END:DAYLIGHT
BEGIN:STANDARD
TZOFFSETFROM:-0500
TZOFFSETTO:-0600
TZNAME:CST
DTSTART:20181104T070000
END:STANDARD
BEGIN:DAYLIGHT
TZOFFSETFROM:-0600
TZOFFSETTO:-0500
TZNAME:CDT
DTSTART:20190310T080000
END:DAYLIGHT
BEGIN:STANDARD
TZOFFSETFROM:-0500
TZOFFSETTO:-0600
TZNAME:CST
DTSTART:20191103T070000
END:STANDARD
BEGIN:DAYLIGHT
TZOFFSETFROM:-0600
TZOFFSETTO:-0500
TZNAME:CDT
DTSTART:20200308T080000
END:DAYLIGHT
BEGIN:STANDARD
TZOFFSETFROM:-0500
TZOFFSETTO:-0600
TZNAME:CST
DTSTART:20201101T070000
END:STANDARD
BEGIN:DAYLIGHT
TZOFFSETFROM:-0600
TZOFFSETTO:-0500
TZNAME:CDT
DTSTART:20210314T080000
END:DAYLIGHT
BEGIN:STANDARD
TZOFFSETFROM:-0500
TZOFFSETTO:-0600
TZNAME:CST
DTSTART:20211107T070000
END:STANDARD
BEGIN:DAYLIGHT
TZOFFSETFROM:-0600
TZOFFSETTO:-0500
TZNAME:CDT
DTSTART:20220313T080000
END:DAYLIGHT
BEGIN:STANDARD
TZOFFSETFROM:-0500
TZOFFSETTO:-0600
TZNAME:CST
DTSTART:20221106T070000
END:STANDARD
BEGIN:DAYLIGHT
TZOFFSETFROM:-0600
TZOFFSETTO:-0500
TZNAME:CDT
DTSTART:20230312T080000
END:DAYLIGHT
BEGIN:STANDARD
TZOFFSETFROM:-0500
TZOFFSETTO:-0600
TZNAME:CST
DTSTART:20231105T070000
END:STANDARD
BEGIN:DAYLIGHT
TZOFFSETFROM:-0600
TZOFFSETTO:-0500
TZNAME:CDT
DTSTART:20240310T080000
END:DAYLIGHT
BEGIN:STANDARD
TZOFFSETFROM:-0500
TZOFFSETTO:-0600
TZNAME:CST
DTSTART:20241103T070000
END:STANDARD
BEGIN:DAYLIGHT
TZOFFSETFROM:-0600
TZOFFSETTO:-0500
TZNAME:CDT
DTSTART:20250309T080000
END:DAYLIGHT
BEGIN:STANDARD
TZOFFSETFROM:-0500
TZOFFSETTO:-0600
TZNAME:CST
DTSTART:20251102T070000
END:STANDARD
BEGIN:DAYLIGHT
TZOFFSETFROM:-0600
TZOFFSETTO:-0500
TZNAME:CDT
DTSTART:20260308T080000
END:DAYLIGHT
BEGIN:STANDARD
TZOFFSETFROM:-0500
TZOFFSETTO:-0600
TZNAME:CST
DTSTART:20261101T070000
END:STANDARD
END:VTIMEZONE
BEGIN:VEVENT
DTSTART;TZID=America/Chicago:20250930T200000
DTEND;TZID=America/Chicago:20250930T203000
DTSTAMP:20260423T165337
CREATED:20250117T162252Z
LAST-MODIFIED:20250117T162252Z
UID:10000526-1759262400-1759264200@www.wanakimensclub.com
SUMMARY:Club Championship Round 4 Deadline
DESCRIPTION:
URL:https://www.wanakimensclub.com/event/club-championship-round-4-deadline/
LOCATION:Wanaki Golf Course\, N50 W20830 Lisbon Rd\, Menomonee Falls\, WI\, WI\, 53051\, United States
CATEGORIES:Championship
ORGANIZER;CN="Todd Halverson":MAILTO:mensclubwanaki@gmail.com
END:VEVENT
BEGIN:VEVENT
DTSTART;TZID=America/Chicago:20250831T200000
DTEND;TZID=America/Chicago:20250831T203000
DTSTAMP:20260423T165337
CREATED:20250117T162146Z
LAST-MODIFIED:20250117T162146Z
UID:10000525-1756670400-1756672200@www.wanakimensclub.com
SUMMARY:Club Championship Round 3 Deadline
DESCRIPTION:
URL:https://www.wanakimensclub.com/event/club-championship-round-3-deadline/
LOCATION:Wanaki Golf Course\, N50 W20830 Lisbon Rd\, Menomonee Falls\, WI\, WI\, 53051\, United States
CATEGORIES:Championship
ORGANIZER;CN="Todd Halverson":MAILTO:mensclubwanaki@gmail.com
END:VEVENT
BEGIN:VEVENT
DTSTART;TZID=America/Chicago:20250731T200000
DTEND;TZID=America/Chicago:20250731T203000
DTSTAMP:20260423T165337
CREATED:20250117T162053Z
LAST-MODIFIED:20250117T162053Z
UID:10000524-1753992000-1753993800@www.wanakimensclub.com
SUMMARY:Club Championship Round 2 Deadline
DESCRIPTION:
URL:https://www.wanakimensclub.com/event/club-championship-round-2-deadline/
LOCATION:Wanaki Golf Course\, N50 W20830 Lisbon Rd\, Menomonee Falls\, WI\, WI\, 53051\, United States
CATEGORIES:Championship
ORGANIZER;CN="Todd Halverson":MAILTO:mensclubwanaki@gmail.com
END:VEVENT
BEGIN:VEVENT
DTSTART;TZID=America/Chicago:20250630T200000
DTEND;TZID=America/Chicago:20250630T203000
DTSTAMP:20260423T165337
CREATED:20250117T161929Z
LAST-MODIFIED:20250117T161929Z
UID:10000523-1751313600-1751315400@www.wanakimensclub.com
SUMMARY:Club Championship Round 1 Deadline
DESCRIPTION:
URL:https://www.wanakimensclub.com/event/club-championship-round-1-deadline/
LOCATION:Wanaki Golf Course\, N50 W20830 Lisbon Rd\, Menomonee Falls\, WI\, WI\, 53051\, United States
CATEGORIES:Championship
ORGANIZER;CN="Todd Halverson":MAILTO:mensclubwanaki@gmail.com
END:VEVENT
BEGIN:VEVENT
DTSTART;VALUE=DATE:20220930
DTEND;VALUE=DATE:20221001
DTSTAMP:20260423T165337
CREATED:20220124T222735Z
LAST-MODIFIED:20220124T222735Z
UID:10000164-1664496000-1664582399@www.wanakimensclub.com
SUMMARY:Club Championship Final Match Deadline
DESCRIPTION:
URL:https://www.wanakimensclub.com/event/club-championship-final-match-deadline-4/
LOCATION:Wanaki Golf Course\, N50 W20830 Lisbon Rd\, Menomonee Falls\, WI\, WI\, 53051\, United States
CATEGORIES:Championship
ORGANIZER;CN="Todd Halverson":MAILTO:mensclubwanaki@gmail.com
END:VEVENT
BEGIN:VEVENT
DTSTART;VALUE=DATE:20220831
DTEND;VALUE=DATE:20220901
DTSTAMP:20260423T165337
CREATED:20220124T222626Z
LAST-MODIFIED:20220124T222626Z
UID:10000163-1661904000-1661990399@www.wanakimensclub.com
SUMMARY:Club Championship Round 3 Match Deadline
DESCRIPTION:
URL:https://www.wanakimensclub.com/event/club-championship-round-3-match-deadline-4/
LOCATION:Wanaki Golf Course\, N50 W20830 Lisbon Rd\, Menomonee Falls\, WI\, WI\, 53051\, United States
CATEGORIES:Championship
ORGANIZER;CN="Todd Halverson":MAILTO:mensclubwanaki@gmail.com
END:VEVENT
BEGIN:VEVENT
DTSTART;VALUE=DATE:20220731
DTEND;VALUE=DATE:20220801
DTSTAMP:20260423T165337
CREATED:20220124T222544Z
LAST-MODIFIED:20220124T222544Z
UID:10000162-1659225600-1659311999@www.wanakimensclub.com
SUMMARY:Club Championship Round 2 Match Deadline
DESCRIPTION:
URL:https://www.wanakimensclub.com/event/club-championship-round-2-match-deadline-4/
LOCATION:Wanaki Golf Course\, N50 W20830 Lisbon Rd\, Menomonee Falls\, WI\, WI\, 53051\, United States
CATEGORIES:Championship
ORGANIZER;CN="Todd Halverson":MAILTO:mensclubwanaki@gmail.com
END:VEVENT
BEGIN:VEVENT
DTSTART;VALUE=DATE:20220630
DTEND;VALUE=DATE:20220701
DTSTAMP:20260423T165337
CREATED:20220124T222343Z
LAST-MODIFIED:20220124T222454Z
UID:10000160-1656547200-1656633599@www.wanakimensclub.com
SUMMARY:Club Championship Round 1 Match Deadline
DESCRIPTION:
URL:https://www.wanakimensclub.com/event/club-championship-round-1-match-deadline-4/
LOCATION:Wanaki Golf Course\, N50 W20830 Lisbon Rd\, Menomonee Falls\, WI\, WI\, 53051\, United States
CATEGORIES:Championship
ORGANIZER;CN="Todd Halverson":MAILTO:mensclubwanaki@gmail.com
END:VEVENT
BEGIN:VEVENT
DTSTART;VALUE=DATE:20210926
DTEND;VALUE=DATE:20210927
DTSTAMP:20260423T165337
CREATED:20210117T150925Z
LAST-MODIFIED:20210117T150925Z
UID:10000124-1632614400-1632700799@www.wanakimensclub.com
SUMMARY:Club Championship Final Match Deadline
DESCRIPTION:
URL:https://www.wanakimensclub.com/event/club-championship-final-match-deadline-3/
LOCATION:Wanaki Golf Course\, N50 W20830 Lisbon Rd\, Menomonee Falls\, WI\, WI\, 53051\, United States
CATEGORIES:Championship
ORGANIZER;CN="Todd Halverson":MAILTO:mensclubwanaki@gmail.com
END:VEVENT
BEGIN:VEVENT
DTSTART;VALUE=DATE:20210829
DTEND;VALUE=DATE:20210830
DTSTAMP:20260423T165337
CREATED:20210117T150752Z
LAST-MODIFIED:20210117T150752Z
UID:10000123-1630195200-1630281599@www.wanakimensclub.com
SUMMARY:Club Championship Round 3 Match Deadline
DESCRIPTION:
URL:https://www.wanakimensclub.com/event/club-championship-round-3-match-deadline-3/
LOCATION:Wanaki Golf Course\, N50 W20830 Lisbon Rd\, Menomonee Falls\, WI\, WI\, 53051\, United States
CATEGORIES:Championship
ORGANIZER;CN="Todd Halverson":MAILTO:mensclubwanaki@gmail.com
END:VEVENT
BEGIN:VEVENT
DTSTART;VALUE=DATE:20210725
DTEND;VALUE=DATE:20210726
DTSTAMP:20260423T165337
CREATED:20210117T150706Z
LAST-MODIFIED:20210117T150706Z
UID:10000247-1627171200-1627257599@www.wanakimensclub.com
SUMMARY:Club Championship Round 2 Match Deadline
DESCRIPTION:
URL:https://www.wanakimensclub.com/event/club-championship-round-2-match-deadline-3/
LOCATION:Wanaki Golf Course\, N50 W20830 Lisbon Rd\, Menomonee Falls\, WI\, WI\, 53051\, United States
CATEGORIES:Championship
ORGANIZER;CN="Todd Halverson":MAILTO:mensclubwanaki@gmail.com
END:VEVENT
BEGIN:VEVENT
DTSTART;VALUE=DATE:20210627
DTEND;VALUE=DATE:20210628
DTSTAMP:20260423T165337
CREATED:20210117T150605Z
LAST-MODIFIED:20210117T150606Z
UID:10000245-1624752000-1624838399@www.wanakimensclub.com
SUMMARY:Club Championship Round 1 Match Deadline
DESCRIPTION:
URL:https://www.wanakimensclub.com/event/club-championship-round-1-match-deadline-3/
LOCATION:Wanaki Golf Course\, N50 W20830 Lisbon Rd\, Menomonee Falls\, WI\, WI\, 53051\, United States
CATEGORIES:Championship
ORGANIZER;CN="Todd Halverson":MAILTO:mensclubwanaki@gmail.com
END:VEVENT
BEGIN:VEVENT
DTSTART;VALUE=DATE:20200920
DTEND;VALUE=DATE:20200921
DTSTAMP:20260423T165337
CREATED:20200128T170648Z
LAST-MODIFIED:20200128T170648Z
UID:10000024-1600560000-1600646399@www.wanakimensclub.com
SUMMARY:Club Championship Final Match Deadline
DESCRIPTION:
URL:https://www.wanakimensclub.com/event/club-championship-final-match-deadline-2/
LOCATION:Wanaki Golf Course\, N50 W20830 Lisbon Rd\, Menomonee Falls\, WI\, WI\, 53051\, United States
CATEGORIES:Championship
ORGANIZER;CN="Todd Halverson":MAILTO:mensclubwanaki@gmail.com
END:VEVENT
BEGIN:VEVENT
DTSTART;VALUE=DATE:20200823
DTEND;VALUE=DATE:20200824
DTSTAMP:20260423T165337
CREATED:20200128T170419Z
LAST-MODIFIED:20200128T170419Z
UID:10000021-1598140800-1598227199@www.wanakimensclub.com
SUMMARY:Club Championship Round 3 Match Deadline
DESCRIPTION:
URL:https://www.wanakimensclub.com/event/club-championship-round-3-match-deadline-2/
LOCATION:Wanaki Golf Course\, N50 W20830 Lisbon Rd\, Menomonee Falls\, WI\, WI\, 53051\, United States
CATEGORIES:Championship
ORGANIZER;CN="Todd Halverson":MAILTO:mensclubwanaki@gmail.com
END:VEVENT
BEGIN:VEVENT
DTSTART;VALUE=DATE:20200726
DTEND;VALUE=DATE:20200727
DTSTAMP:20260423T165337
CREATED:20200128T170259Z
LAST-MODIFIED:20200128T170259Z
UID:10000019-1595721600-1595807999@www.wanakimensclub.com
SUMMARY:Club Championship Round 2 Match Deadline
DESCRIPTION:
URL:https://www.wanakimensclub.com/event/club-championship-round-2-match-deadline-2/
LOCATION:Wanaki Golf Course\, N50 W20830 Lisbon Rd\, Menomonee Falls\, WI\, WI\, 53051\, United States
CATEGORIES:Championship
ORGANIZER;CN="Todd Halverson":MAILTO:mensclubwanaki@gmail.com
END:VEVENT
BEGIN:VEVENT
DTSTART;VALUE=DATE:20200628
DTEND;VALUE=DATE:20200629
DTSTAMP:20260423T165337
CREATED:20200128T170208Z
LAST-MODIFIED:20200128T170208Z
UID:10000027-1593302400-1593388799@www.wanakimensclub.com
SUMMARY:Club Championship Round 1 Match Deadline
DESCRIPTION:
URL:https://www.wanakimensclub.com/event/club-championship-round-1-match-deadline-2/
LOCATION:Wanaki Golf Course\, N50 W20830 Lisbon Rd\, Menomonee Falls\, WI\, WI\, 53051\, United States
CATEGORIES:Championship
ORGANIZER;CN="Todd Halverson":MAILTO:mensclubwanaki@gmail.com
END:VEVENT
BEGIN:VEVENT
DTSTART;VALUE=DATE:20190922
DTEND;VALUE=DATE:20190923
DTSTAMP:20260423T165337
CREATED:20190224T155005Z
LAST-MODIFIED:20190413T005046Z
UID:10000044-1569110400-1569196799@www.wanakimensclub.com
SUMMARY:Club Championship Final Match Deadline
DESCRIPTION:
URL:https://www.wanakimensclub.com/event/club-championship-final-match-deadline/
LOCATION:Wanaki Golf Course\, N50 W20830 Lisbon Rd\, Menomonee Falls\, WI\, WI\, 53051\, United States
CATEGORIES:Championship
ORGANIZER;CN="Todd Halverson":MAILTO:mensclubwanaki@gmail.com
END:VEVENT
BEGIN:VEVENT
DTSTART;VALUE=DATE:20190818
DTEND;VALUE=DATE:20190819
DTSTAMP:20260423T165337
CREATED:20190224T154900Z
LAST-MODIFIED:20190413T005522Z
UID:10000072-1566086400-1566172799@www.wanakimensclub.com
SUMMARY:Club Championship Round 3 Match Deadline
DESCRIPTION:
URL:https://www.wanakimensclub.com/event/club-championship-round-3-match-deadline/
LOCATION:Wanaki Golf Course\, N50 W20830 Lisbon Rd\, Menomonee Falls\, WI\, WI\, 53051\, United States
CATEGORIES:Championship
ORGANIZER;CN="Todd Halverson":MAILTO:mensclubwanaki@gmail.com
END:VEVENT
BEGIN:VEVENT
DTSTART;VALUE=DATE:20190728
DTEND;VALUE=DATE:20190729
DTSTAMP:20260423T165337
CREATED:20190224T154811Z
LAST-MODIFIED:20190413T005729Z
UID:10000017-1564272000-1564358399@www.wanakimensclub.com
SUMMARY:Club Championship Round 2 Match Deadline
DESCRIPTION:
URL:https://www.wanakimensclub.com/event/club-championship-round-2-match-deadline/
LOCATION:Wanaki Golf Course\, N50 W20830 Lisbon Rd\, Menomonee Falls\, WI\, WI\, 53051\, United States
CATEGORIES:Championship
ORGANIZER;CN="Todd Halverson":MAILTO:mensclubwanaki@gmail.com
END:VEVENT
BEGIN:VEVENT
DTSTART;VALUE=DATE:20190623
DTEND;VALUE=DATE:20190624
DTSTAMP:20260423T165337
CREATED:20190224T154710Z
LAST-MODIFIED:20190413T005831Z
UID:10000016-1561248000-1561334399@www.wanakimensclub.com
SUMMARY:Club Championship Round 1 Match Deadline
DESCRIPTION:
URL:https://www.wanakimensclub.com/event/club-championship-round-1-match-deadline/
LOCATION:Wanaki Golf Course\, N50 W20830 Lisbon Rd\, Menomonee Falls\, WI\, WI\, 53051\, United States
CATEGORIES:Championship
ORGANIZER;CN="Todd Halverson":MAILTO:mensclubwanaki@gmail.com
END:VEVENT
END:VCALENDAR