BEGIN:VCALENDAR
VERSION:2.0
PRODID:-//Wanaki Men&#039;s Club - ECPv6.15.18//NONSGML v1.0//EN
CALSCALE:GREGORIAN
METHOD:PUBLISH
X-WR-CALNAME:Wanaki Men&#039;s Club
X-ORIGINAL-URL:https://www.wanakimensclub.com
X-WR-CALDESC:Events for Wanaki Men&#039;s Club
REFRESH-INTERVAL;VALUE=DURATION:PT1H
X-Robots-Tag:noindex
X-PUBLISHED-TTL:PT1H
BEGIN:VTIMEZONE
TZID:America/Chicago
BEGIN:DAYLIGHT
TZOFFSETFROM:-0600
TZOFFSETTO:-0500
TZNAME:CDT
DTSTART:20240310T080000
END:DAYLIGHT
BEGIN:STANDARD
TZOFFSETFROM:-0500
TZOFFSETTO:-0600
TZNAME:CST
DTSTART:20241103T070000
END:STANDARD
BEGIN:DAYLIGHT
TZOFFSETFROM:-0600
TZOFFSETTO:-0500
TZNAME:CDT
DTSTART:20250309T080000
END:DAYLIGHT
BEGIN:STANDARD
TZOFFSETFROM:-0500
TZOFFSETTO:-0600
TZNAME:CST
DTSTART:20251102T070000
END:STANDARD
BEGIN:DAYLIGHT
TZOFFSETFROM:-0600
TZOFFSETTO:-0500
TZNAME:CDT
DTSTART:20260308T080000
END:DAYLIGHT
BEGIN:STANDARD
TZOFFSETFROM:-0500
TZOFFSETTO:-0600
TZNAME:CST
DTSTART:20261101T070000
END:STANDARD
END:VTIMEZONE
BEGIN:VEVENT
DTSTART;TZID=America/Chicago:20250601T073000
DTEND;TZID=America/Chicago:20250601T143000
DTSTAMP:20260424T133241
CREATED:20250117T163227Z
LAST-MODIFIED:20250530T231948Z
UID:10000530-1748763000-1748788200@www.wanakimensclub.com
SUMMARY:2025 Net Partners
DESCRIPTION:Net Partners is a golf format for teams comprised of two golfers. The team generates 3 scores for each hole during the round. \nHole Score = Player 1 Net + Player 2 Net + Lowest of Player 1/Player 2 Net. \nTee times start at 7:30am. \n 
URL:https://www.wanakimensclub.com/event/2025-net-partners/
LOCATION:Wanaki Golf Course\, N50 W20830 Lisbon Rd\, Menomonee Falls\, WI\, WI\, 53051\, United States
CATEGORIES:Club Tournament
ORGANIZER;CN="Todd Halverson":MAILTO:mensclubwanaki@gmail.com
END:VEVENT
BEGIN:VEVENT
DTSTART;TZID=America/Chicago:20250622T073000
DTEND;TZID=America/Chicago:20250622T153000
DTSTAMP:20260424T133241
CREATED:20250117T163326Z
LAST-MODIFIED:20250117T163326Z
UID:10000531-1750577400-1750606200@www.wanakimensclub.com
SUMMARY:2025 Stableford
DESCRIPTION:The Stableford is an individual event where each individual’s net score is used to calculate points awarded. Players will use 100% of their Wanaki WSGA handicap index from the competition set of tees.  Points are awarded on each hole using the net score as follows; \nDouble Bogey+ – 0 Points\nBogey – 1 Points\nPar – 2 Points\nBirdie – 3 Points\nEagle – 4 Points\nDouble Eagle – 5 \nTee times will start at 7:30am \n 
URL:https://www.wanakimensclub.com/event/2025-stableford/
LOCATION:Wanaki Golf Course\, N50 W20830 Lisbon Rd\, Menomonee Falls\, WI\, WI\, 53051\, United States
CATEGORIES:Club Tournament
ORGANIZER;CN="Todd Halverson":MAILTO:mensclubwanaki@gmail.com
END:VEVENT
BEGIN:VEVENT
DTSTART;TZID=America/Chicago:20250629T073000
DTEND;TZID=America/Chicago:20250629T143000
DTSTAMP:20260424T133241
CREATED:20250117T163456Z
LAST-MODIFIED:20250117T163456Z
UID:10000532-1751182200-1751207400@www.wanakimensclub.com
SUMMARY:2025 Wanaki Cup
DESCRIPTION:The Wanaki Cup is a unique event format in our club. Players sign up to play in groups of their choosing. After all entries have been received\, the players are divided up into teams of 6 players by the tournament director so that the total handicap for each team is as close to identical as possible. After the event is over and the scores are reported\, the makeup of the teams is disclosed and net scores are calculated for each team. All players receive 90% of their individual Wanaki WSGA handicap a the time of the event. \nTee times start at 7:30am. \n 
URL:https://www.wanakimensclub.com/event/2025-wanaki-cup/
LOCATION:Wanaki Golf Course\, N50 W20830 Lisbon Rd\, Menomonee Falls\, WI\, WI\, 53051\, United States
CATEGORIES:Club Tournament
ORGANIZER;CN="Todd Halverson":MAILTO:mensclubwanaki@gmail.com
END:VEVENT
END:VCALENDAR