BEGIN:VCALENDAR
VERSION:2.0
PRODID:-//Wanaki Men&#039;s Club - ECPv6.15.18//NONSGML v1.0//EN
CALSCALE:GREGORIAN
METHOD:PUBLISH
X-ORIGINAL-URL:https://www.wanakimensclub.com
X-WR-CALDESC:Events for Wanaki Men&#039;s Club
REFRESH-INTERVAL;VALUE=DURATION:PT1H
X-Robots-Tag:noindex
X-PUBLISHED-TTL:PT1H
BEGIN:VTIMEZONE
TZID:America/Chicago
BEGIN:DAYLIGHT
TZOFFSETFROM:-0600
TZOFFSETTO:-0500
TZNAME:CDT
DTSTART:20240310T080000
END:DAYLIGHT
BEGIN:STANDARD
TZOFFSETFROM:-0500
TZOFFSETTO:-0600
TZNAME:CST
DTSTART:20241103T070000
END:STANDARD
BEGIN:DAYLIGHT
TZOFFSETFROM:-0600
TZOFFSETTO:-0500
TZNAME:CDT
DTSTART:20250309T080000
END:DAYLIGHT
BEGIN:STANDARD
TZOFFSETFROM:-0500
TZOFFSETTO:-0600
TZNAME:CST
DTSTART:20251102T070000
END:STANDARD
BEGIN:DAYLIGHT
TZOFFSETFROM:-0600
TZOFFSETTO:-0500
TZNAME:CDT
DTSTART:20260308T080000
END:DAYLIGHT
BEGIN:STANDARD
TZOFFSETFROM:-0500
TZOFFSETTO:-0600
TZNAME:CST
DTSTART:20261101T070000
END:STANDARD
END:VTIMEZONE
BEGIN:VEVENT
DTSTART;TZID=America/Chicago:20250921T073000
DTEND;TZID=America/Chicago:20250921T143000
DTSTAMP:20260424T040146
CREATED:20250117T164049Z
LAST-MODIFIED:20250918T161448Z
UID:10000535-1758439800-1758465000@www.wanakimensclub.com
SUMMARY:2025 Tom Binney Flag Day Championship
DESCRIPTION:Flag day is one of the most fun formats of the Men’s Club season. Each participant is given a flag with a number on it. This number is calculated as 60 + your Wanaki WSGA Handicap on the day of the event. The flag travels with you throughout your round until the shot number corresponding to the number on your flag comes to rest. At that point you place your flag in the ground and continue playing your round. When the flag numbered shot does not end up on or around the green\, the flag is placed at the closest edge of the fairway at the same distance from the hole from where the flag numbered shot rests. If it is near or on the green\, the flag is placed at the edge of the green with a notation of how far the ball is from the hole when it came to rest. \nThe Tom Binney Championship is held in conjunction with this event. Participants will be divided in the Low Gross contest in flights making the Tom Binney an 18 hole stroke play championship  At registration players will choose Open or Senior\, with Open being divided into Championship\, A\, B\, and C flights with Low Gross being the winner.  Senior will be 1 flight but will have a Low Gross and Low Net champion. \nOpen Flight Tees:\nChampionship – Blue\nA – White\nB – White\nC – White \nSenior Flight Tees:\nAll Players – Gold \nTee times start at 7:30am.
URL:https://www.wanakimensclub.com/event/2025-flag-day/
LOCATION:Wanaki Golf Course\, N50 W20830 Lisbon Rd\, Menomonee Falls\, WI\, WI\, 53051\, United States
CATEGORIES:Club Tournament
ORGANIZER;CN="Todd Halverson":MAILTO:mensclubwanaki@gmail.com
END:VEVENT
END:VCALENDAR