BEGIN:VCALENDAR
VERSION:2.0
PRODID:-//Wanaki Men&#039;s Club - ECPv6.15.18//NONSGML v1.0//EN
CALSCALE:GREGORIAN
METHOD:PUBLISH
X-ORIGINAL-URL:https://www.wanakimensclub.com
X-WR-CALDESC:Events for Wanaki Men&#039;s Club
REFRESH-INTERVAL;VALUE=DURATION:PT1H
X-Robots-Tag:noindex
X-PUBLISHED-TTL:PT1H
BEGIN:VTIMEZONE
TZID:America/Chicago
BEGIN:DAYLIGHT
TZOFFSETFROM:-0600
TZOFFSETTO:-0500
TZNAME:CDT
DTSTART:20250309T080000
END:DAYLIGHT
BEGIN:STANDARD
TZOFFSETFROM:-0500
TZOFFSETTO:-0600
TZNAME:CST
DTSTART:20251102T070000
END:STANDARD
BEGIN:DAYLIGHT
TZOFFSETFROM:-0600
TZOFFSETTO:-0500
TZNAME:CDT
DTSTART:20260308T080000
END:DAYLIGHT
BEGIN:STANDARD
TZOFFSETFROM:-0500
TZOFFSETTO:-0600
TZNAME:CST
DTSTART:20261101T070000
END:STANDARD
BEGIN:DAYLIGHT
TZOFFSETFROM:-0600
TZOFFSETTO:-0500
TZNAME:CDT
DTSTART:20270314T080000
END:DAYLIGHT
BEGIN:STANDARD
TZOFFSETFROM:-0500
TZOFFSETTO:-0600
TZNAME:CST
DTSTART:20271107T070000
END:STANDARD
END:VTIMEZONE
BEGIN:VEVENT
DTSTART;TZID=America/Chicago:20260503T083000
DTEND;TZID=America/Chicago:20260503T130000
DTSTAMP:20260423T112820
CREATED:20260111T182228Z
LAST-MODIFIED:20260111T182228Z
UID:10000595-1777797000-1777813200@www.wanakimensclub.com
SUMMARY:2026 Early Bird
DESCRIPTION:Early Bird will be an 8:30am shotgun start. \nEach foursome makes up a 4 Man Best Ball team. We will combine registrations less than 4 to make full foursomes. If there is a group less than 4\, a blind draw of of 1 or more golfers in other groups will be used to to score the 4 Man Best Ball event for that team. 4 Man Best Ball is a golf format for teams comprised of four golfers. Each of the golfers on the team play their own ball throughout and the lowest score in the foursome counts as the team score. This is also sometimes referred to as “Better ball” when used in stroke play\, or “Fourball” when used in match play.  This is also played as 2 Best Balls or even 3 Best Balls depending on the event.
URL:https://www.wanakimensclub.com/event/2026-early-bird/
LOCATION:Wanaki Golf Course\, N50 W20830 Lisbon Rd\, Menomonee Falls\, WI\, WI\, 53051\, United States
CATEGORIES:Club Tournament
ORGANIZER;CN="Todd Halverson":MAILTO:mensclubwanaki@gmail.com
END:VEVENT
BEGIN:VEVENT
DTSTART;TZID=America/Chicago:20260517T080000
DTEND;TZID=America/Chicago:20260517T130000
DTSTAMP:20260423T112820
CREATED:20260111T182313Z
LAST-MODIFIED:20260111T182313Z
UID:10000596-1779004800-1779022800@www.wanakimensclub.com
SUMMARY:2026 Memorial 3-2-1
DESCRIPTION:Memorial 3-2-1  is a 4 man team event\, teams will be made up of players in your foursome\, not a blind draw.  The competition is played as follows : \nOn all Par 5’s\, 1 low net score (after handicap adjustment) is the team score\nOn all Par 4’s\, 2 low net scores (after handicap adjustment) is the team score\nOn all Par 3’s\, 3 low net scores (after handicap adjustment) is the team score \nEven par for this event is 137 and players will receive 90% of their individual Wanaki WSGA handicap at the time of the event. \n8:00am shotgun start with a complementary buffet offered for all men’s club members after golf.
URL:https://www.wanakimensclub.com/event/2026-memorial-3-2-1/
LOCATION:Wanaki Golf Course\, N50 W20830 Lisbon Rd\, Menomonee Falls\, WI\, WI\, 53051\, United States
CATEGORIES:Club Tournament
ORGANIZER;CN="Todd Halverson":MAILTO:mensclubwanaki@gmail.com
END:VEVENT
BEGIN:VEVENT
DTSTART;TZID=America/Chicago:20260531T073000
DTEND;TZID=America/Chicago:20260531T143000
DTSTAMP:20260423T112820
CREATED:20260111T182418Z
LAST-MODIFIED:20260111T182418Z
UID:10000597-1780212600-1780237800@www.wanakimensclub.com
SUMMARY:2026 Net Partners
DESCRIPTION:Net Partners is a golf format for teams comprised of two golfers. The team generates 3 scores for each hole during the round. \nHole Score = Player 1 Net + Player 2 Net + Lowest of Player 1/Player 2 Net. \nTee times start at 7:30am. \n 
URL:https://www.wanakimensclub.com/event/2026-net-partners/
LOCATION:Wanaki Golf Course\, N50 W20830 Lisbon Rd\, Menomonee Falls\, WI\, WI\, 53051\, United States
CATEGORIES:Club Tournament
ORGANIZER;CN="Todd Halverson":MAILTO:mensclubwanaki@gmail.com
END:VEVENT
END:VCALENDAR