BEGIN:VCALENDAR
VERSION:2.0
PRODID:-//Wanaki Men&#039;s Club - ECPv6.15.18//NONSGML v1.0//EN
CALSCALE:GREGORIAN
METHOD:PUBLISH
X-ORIGINAL-URL:https://www.wanakimensclub.com
X-WR-CALDESC:Events for Wanaki Men&#039;s Club
REFRESH-INTERVAL;VALUE=DURATION:PT1H
X-Robots-Tag:noindex
X-PUBLISHED-TTL:PT1H
BEGIN:VTIMEZONE
TZID:America/Chicago
BEGIN:DAYLIGHT
TZOFFSETFROM:-0600
TZOFFSETTO:-0500
TZNAME:CDT
DTSTART:20250309T080000
END:DAYLIGHT
BEGIN:STANDARD
TZOFFSETFROM:-0500
TZOFFSETTO:-0600
TZNAME:CST
DTSTART:20251102T070000
END:STANDARD
BEGIN:DAYLIGHT
TZOFFSETFROM:-0600
TZOFFSETTO:-0500
TZNAME:CDT
DTSTART:20260308T080000
END:DAYLIGHT
BEGIN:STANDARD
TZOFFSETFROM:-0500
TZOFFSETTO:-0600
TZNAME:CST
DTSTART:20261101T070000
END:STANDARD
BEGIN:DAYLIGHT
TZOFFSETFROM:-0600
TZOFFSETTO:-0500
TZNAME:CDT
DTSTART:20270314T080000
END:DAYLIGHT
BEGIN:STANDARD
TZOFFSETFROM:-0500
TZOFFSETTO:-0600
TZNAME:CST
DTSTART:20271107T070000
END:STANDARD
END:VTIMEZONE
BEGIN:VEVENT
DTSTART;TZID=America/Chicago:20260614T073000
DTEND;TZID=America/Chicago:20260614T143000
DTSTAMP:20260423T142212
CREATED:20260111T182532Z
LAST-MODIFIED:20260111T182620Z
UID:10000598-1781422200-1781447400@www.wanakimensclub.com
SUMMARY:2026 Wanaki Cup
DESCRIPTION:The Wanaki Cup is a unique event format in our club. Players sign up to play in groups of their choosing. After all entries have been received\, the players are divided up into teams of 6 players by the tournament director so that the total handicap for each team is as close to identical as possible. After the event is over and the scores are reported\, the makeup of the teams is disclosed and net scores are calculated for each team. All players receive 90% of their individual Wanaki WSGA handicap a the time of the event. \nTee times start at 7:30am. \n 
URL:https://www.wanakimensclub.com/event/2025-wanaki-cup-2/
LOCATION:Wanaki Golf Course\, N50 W20830 Lisbon Rd\, Menomonee Falls\, WI\, WI\, 53051\, United States
CATEGORIES:Club Tournament
ORGANIZER;CN="Todd Halverson":MAILTO:mensclubwanaki@gmail.com
END:VEVENT
BEGIN:VEVENT
DTSTART;TZID=America/Chicago:20260628T073000
DTEND;TZID=America/Chicago:20260628T153000
DTSTAMP:20260423T142212
CREATED:20260111T182718Z
LAST-MODIFIED:20260111T182718Z
UID:10000599-1782631800-1782660600@www.wanakimensclub.com
SUMMARY:2026 Stableford
DESCRIPTION:The Stableford is an individual event where each individual’s net score is used to calculate points awarded. Players will use 100% of their Wanaki WSGA handicap index from the competition set of tees.  Points are awarded on each hole using the net score as follows; \nDouble Bogey+ – 0 Points\nBogey – 1 Points\nPar – 2 Points\nBirdie – 3 Points\nEagle – 4 Points\nDouble Eagle – 5 \nTee times will start at 7:30am \n 
URL:https://www.wanakimensclub.com/event/2026-stableford/
LOCATION:Wanaki Golf Course\, N50 W20830 Lisbon Rd\, Menomonee Falls\, WI\, WI\, 53051\, United States
CATEGORIES:Club Tournament
ORGANIZER;CN="Todd Halverson":MAILTO:mensclubwanaki@gmail.com
END:VEVENT
END:VCALENDAR