BEGIN:VCALENDAR
VERSION:2.0
PRODID:-//Wanaki Men&#039;s Club - ECPv6.15.18//NONSGML v1.0//EN
CALSCALE:GREGORIAN
METHOD:PUBLISH
X-ORIGINAL-URL:https://www.wanakimensclub.com
X-WR-CALDESC:Events for Wanaki Men&#039;s Club
REFRESH-INTERVAL;VALUE=DURATION:PT1H
X-Robots-Tag:noindex
X-PUBLISHED-TTL:PT1H
BEGIN:VTIMEZONE
TZID:America/Chicago
BEGIN:DAYLIGHT
TZOFFSETFROM:-0600
TZOFFSETTO:-0500
TZNAME:CDT
DTSTART:20240310T080000
END:DAYLIGHT
BEGIN:STANDARD
TZOFFSETFROM:-0500
TZOFFSETTO:-0600
TZNAME:CST
DTSTART:20241103T070000
END:STANDARD
BEGIN:DAYLIGHT
TZOFFSETFROM:-0600
TZOFFSETTO:-0500
TZNAME:CDT
DTSTART:20250309T080000
END:DAYLIGHT
BEGIN:STANDARD
TZOFFSETFROM:-0500
TZOFFSETTO:-0600
TZNAME:CST
DTSTART:20251102T070000
END:STANDARD
BEGIN:DAYLIGHT
TZOFFSETFROM:-0600
TZOFFSETTO:-0500
TZNAME:CDT
DTSTART:20260308T080000
END:DAYLIGHT
BEGIN:STANDARD
TZOFFSETFROM:-0500
TZOFFSETTO:-0600
TZNAME:CST
DTSTART:20261101T070000
END:STANDARD
END:VTIMEZONE
BEGIN:VEVENT
DTSTART;TZID=America/Chicago:20250803T073000
DTEND;TZID=America/Chicago:20250803T143000
DTSTAMP:20260424T080621
CREATED:20250117T163631Z
LAST-MODIFIED:20250727T170030Z
UID:10000533-1754206200-1754231400@www.wanakimensclub.com
SUMMARY:2025 Lawrence Welk 123-234
DESCRIPTION:Lawrence Welk 123-234 is a 4 man team event. Teams will be made up of players you sign up with\, not a blind draw. If a team is short one or more player\, a blind draw will be made to provide the team with a full complement of players.  All players will receive 90% of their individual Wanaki WSGA handicap at the time of the event. \nThe 4 man team competition is played as follows : \nOn Holes 1-3 – 1 low net score (after handicap adjustment) is the team score\nOn holes 4-6 – 2 low net scores (after handicap adjustment) is the team score\nOn Holes 7-9 – 3 low net scores (after handicap adjustment) is the team score\nOn holes 10-12 – 2 low net scores (after handicap adjustment) is the team score\nOn Holes 13-15 – 3 low net scores (after handicap adjustment) is the team score\nOn holes 16-18 – 4 low net scores (after handicap adjustment) is the team score \nEven par for this event is 180.  Tee times start at 7:30am. \n 
URL:https://www.wanakimensclub.com/event/2025-lawrence-welk-123-234/
LOCATION:Wanaki Golf Course\, N50 W20830 Lisbon Rd\, Menomonee Falls\, WI\, WI\, 53051\, United States
CATEGORIES:Club Tournament
ORGANIZER;CN="Todd Halverson":MAILTO:mensclubwanaki@gmail.com
END:VEVENT
BEGIN:VEVENT
DTSTART;TZID=America/Chicago:20250817T080000
DTEND;TZID=America/Chicago:20250817T133000
DTSTAMP:20260424T080621
CREATED:20250117T163915Z
LAST-MODIFIED:20250808T173124Z
UID:10000534-1755417600-1755437400@www.wanakimensclub.com
SUMMARY:2025 Individual Net
DESCRIPTION:There is no mystery to the Individual Net tournament format.  Each player plays on their own ball and will record gross and net scores for each hole. The handicap for each player is 90% of their current WSGA Handicap Index for the course and tees being played. \nThis is an away event played at Naga-Waukee Golf Course\, tee times start at 8:04am.  There is room for 80 players and cost is $45 walking and $62 riding.
URL:https://www.wanakimensclub.com/event/2025-individual-net/
LOCATION:Naga-Waukee Golf Course\, W307N1897 Maple Ave\, Pewaukee\, 53072
CATEGORIES:Club Tournament
ORGANIZER;CN="Todd Halverson":MAILTO:mensclubwanaki@gmail.com
END:VEVENT
BEGIN:VEVENT
DTSTART;TZID=America/Chicago:20250921T073000
DTEND;TZID=America/Chicago:20250921T143000
DTSTAMP:20260424T080621
CREATED:20250117T164049Z
LAST-MODIFIED:20250918T161448Z
UID:10000535-1758439800-1758465000@www.wanakimensclub.com
SUMMARY:2025 Tom Binney Flag Day Championship
DESCRIPTION:Flag day is one of the most fun formats of the Men’s Club season. Each participant is given a flag with a number on it. This number is calculated as 60 + your Wanaki WSGA Handicap on the day of the event. The flag travels with you throughout your round until the shot number corresponding to the number on your flag comes to rest. At that point you place your flag in the ground and continue playing your round. When the flag numbered shot does not end up on or around the green\, the flag is placed at the closest edge of the fairway at the same distance from the hole from where the flag numbered shot rests. If it is near or on the green\, the flag is placed at the edge of the green with a notation of how far the ball is from the hole when it came to rest. \nThe Tom Binney Championship is held in conjunction with this event. Participants will be divided in the Low Gross contest in flights making the Tom Binney an 18 hole stroke play championship  At registration players will choose Open or Senior\, with Open being divided into Championship\, A\, B\, and C flights with Low Gross being the winner.  Senior will be 1 flight but will have a Low Gross and Low Net champion. \nOpen Flight Tees:\nChampionship – Blue\nA – White\nB – White\nC – White \nSenior Flight Tees:\nAll Players – Gold \nTee times start at 7:30am.
URL:https://www.wanakimensclub.com/event/2025-flag-day/
LOCATION:Wanaki Golf Course\, N50 W20830 Lisbon Rd\, Menomonee Falls\, WI\, WI\, 53051\, United States
CATEGORIES:Club Tournament
ORGANIZER;CN="Todd Halverson":MAILTO:mensclubwanaki@gmail.com
END:VEVENT
BEGIN:VEVENT
DTSTART;TZID=America/Chicago:20251005T083000
DTEND;TZID=America/Chicago:20251005T130000
DTSTAMP:20260424T080621
CREATED:20250117T164853Z
LAST-MODIFIED:20250910T180519Z
UID:10000536-1759653000-1759669200@www.wanakimensclub.com
SUMMARY:2025 Men's Club 50th Anniversary Outing
DESCRIPTION:Wanaki Men’s Club 50th Anniversary Outing (replaces Diehard) \nThis event will be an 8:30am shotgun start. The cost will be $50 and will include; \n\n18 holes of golf with cart\n4 player teams\, 4M-2BB format (no 3 club divisions)\n18 hole events with a unique prize for the winner\nLunch buffet and free beer after the round\nLive Blues music after lunch\n\nInvite former members to play with you for the same $50 price.  If you have significant others that would like to come after the round for lunch and entertainment\, the cost is $15. \nSign up as a single or up to a foursome by emailing wanakievents@gmail.com.  We will not be registering on the Men’s Club Website for this event Wanaki is handling all signups.
URL:https://www.wanakimensclub.com/event/2025-50th-anniversary/
LOCATION:Wanaki Golf Course\, N50 W20830 Lisbon Rd\, Menomonee Falls\, WI\, WI\, 53051\, United States
CATEGORIES:Club Tournament
ORGANIZER;CN="Todd Halverson":MAILTO:mensclubwanaki@gmail.com
END:VEVENT
END:VCALENDAR