BEGIN:VCALENDAR
VERSION:2.0
PRODID:-//Wanaki Men&#039;s Club - ECPv6.15.18//NONSGML v1.0//EN
CALSCALE:GREGORIAN
METHOD:PUBLISH
X-WR-CALNAME:Wanaki Men&#039;s Club
X-ORIGINAL-URL:https://www.wanakimensclub.com
X-WR-CALDESC:Events for Wanaki Men&#039;s Club
REFRESH-INTERVAL;VALUE=DURATION:PT1H
X-Robots-Tag:noindex
X-PUBLISHED-TTL:PT1H
BEGIN:VTIMEZONE
TZID:America/Chicago
BEGIN:DAYLIGHT
TZOFFSETFROM:-0600
TZOFFSETTO:-0500
TZNAME:CDT
DTSTART:20180311T080000
END:DAYLIGHT
BEGIN:STANDARD
TZOFFSETFROM:-0500
TZOFFSETTO:-0600
TZNAME:CST
DTSTART:20181104T070000
END:STANDARD
BEGIN:DAYLIGHT
TZOFFSETFROM:-0600
TZOFFSETTO:-0500
TZNAME:CDT
DTSTART:20190310T080000
END:DAYLIGHT
BEGIN:STANDARD
TZOFFSETFROM:-0500
TZOFFSETTO:-0600
TZNAME:CST
DTSTART:20191103T070000
END:STANDARD
BEGIN:DAYLIGHT
TZOFFSETFROM:-0600
TZOFFSETTO:-0500
TZNAME:CDT
DTSTART:20200308T080000
END:DAYLIGHT
BEGIN:STANDARD
TZOFFSETFROM:-0500
TZOFFSETTO:-0600
TZNAME:CST
DTSTART:20201101T070000
END:STANDARD
BEGIN:DAYLIGHT
TZOFFSETFROM:-0600
TZOFFSETTO:-0500
TZNAME:CDT
DTSTART:20210314T080000
END:DAYLIGHT
BEGIN:STANDARD
TZOFFSETFROM:-0500
TZOFFSETTO:-0600
TZNAME:CST
DTSTART:20211107T070000
END:STANDARD
END:VTIMEZONE
BEGIN:VEVENT
DTSTART;TZID=America/Chicago:20200503T083000
DTEND;TZID=America/Chicago:20200503T130000
DTSTAMP:20260424T052845
CREATED:20200127T144255Z
LAST-MODIFIED:20200429T145817Z
UID:10000033-1588494600-1588510800@www.wanakimensclub.com
SUMMARY:Early Bird 4 Man 2 Best Ball
DESCRIPTION:This event is a 4 man 2 best ball event. Tee times 8:00am through 10:00am off of #1 and #10. \nOnline registration for this event has been disabled because it is full. Contact Chris Gissal to see if there are any cancellations or late availability. You must call the pro shop to pay prior to the event per Covid-19 operating procedures.
URL:https://www.wanakimensclub.com/event/early-bird-4-man-2-best-ball/
LOCATION:Wanaki Golf Course\, N50 W20830 Lisbon Rd\, Menomonee Falls\, WI\, WI\, 53051\, United States
CATEGORIES:Club Tournament
ORGANIZER;CN="Todd Halverson":MAILTO:mensclubwanaki@gmail.com
END:VEVENT
BEGIN:VEVENT
DTSTART;TZID=America/Chicago:20191027T083000
DTEND;TZID=America/Chicago:20191027T130000
DTSTAMP:20260424T052845
CREATED:20190224T164455Z
LAST-MODIFIED:20191008T164254Z
UID:10000009-1572165000-1572181200@www.wanakimensclub.com
SUMMARY:Diehard
DESCRIPTION:This event will have an 8:30am Shotgun Start\, $29 Walking\, $40 Riding.  There will be 2 divisions\, a 3 club division and a standard division. After golf is completed; \n\nLunch will be served\nEnd of Season Message from the Men’s Club Board and Wanaki Golf Course\nLeague awards\nQuestions and Answers
URL:https://www.wanakimensclub.com/event/outing-11-diehard/
LOCATION:Wanaki Golf Course\, N50 W20830 Lisbon Rd\, Menomonee Falls\, WI\, WI\, 53051\, United States
CATEGORIES:Club Tournament
ORGANIZER;CN="Todd Halverson":MAILTO:mensclubwanaki@gmail.com
END:VEVENT
BEGIN:VEVENT
DTSTART;TZID=America/Chicago:20191005T083000
DTEND;TZID=America/Chicago:20191005T143000
DTSTAMP:20260424T052845
CREATED:20190224T164221Z
LAST-MODIFIED:20190924T155413Z
UID:10000008-1570264200-1570285800@www.wanakimensclub.com
SUMMARY:Flag Day
DESCRIPTION:Tee times start at 8:30am
URL:https://www.wanakimensclub.com/event/outing-10-flag-day/
LOCATION:Wanaki Golf Course\, N50 W20830 Lisbon Rd\, Menomonee Falls\, WI\, WI\, 53051\, United States
CATEGORIES:Club Tournament
ORGANIZER;CN="Todd Halverson":MAILTO:mensclubwanaki@gmail.com
END:VEVENT
BEGIN:VEVENT
DTSTART;TZID=America/Chicago:20190825T080000
DTEND;TZID=America/Chicago:20190825T150000
DTSTAMP:20260424T052845
CREATED:20190224T164025Z
LAST-MODIFIED:20190506T143655Z
UID:10000026-1566720000-1566745200@www.wanakimensclub.com
SUMMARY:Tom Binney Memorial
DESCRIPTION:36 hole individual stroke play championship. \nTee Times Start at 9am Saturday and 8am Sunday
URL:https://www.wanakimensclub.com/event/outing-8-tom-binney-memorial/2019-08-25/
LOCATION:Wanaki Golf Course\, N50 W20830 Lisbon Rd\, Menomonee Falls\, WI\, WI\, 53051\, United States
CATEGORIES:Club Tournament
ORGANIZER;CN="Todd Halverson":MAILTO:mensclubwanaki@gmail.com
END:VEVENT
BEGIN:VEVENT
DTSTART;TZID=America/Chicago:20190824T080000
DTEND;TZID=America/Chicago:20190824T150000
DTSTAMP:20260424T052845
CREATED:20190224T164025Z
LAST-MODIFIED:20190506T143655Z
UID:10000025-1566633600-1566658800@www.wanakimensclub.com
SUMMARY:Tom Binney Memorial
DESCRIPTION:36 hole individual stroke play championship. \nTee Times Start at 9am Saturday and 8am Sunday
URL:https://www.wanakimensclub.com/event/outing-8-tom-binney-memorial/2019-08-24/
LOCATION:Wanaki Golf Course\, N50 W20830 Lisbon Rd\, Menomonee Falls\, WI\, WI\, 53051\, United States
CATEGORIES:Club Tournament
ORGANIZER;CN="Todd Halverson":MAILTO:mensclubwanaki@gmail.com
END:VEVENT
BEGIN:VEVENT
DTSTART;TZID=America/Chicago:20190818T083000
DTEND;TZID=America/Chicago:20190818T153000
DTSTAMP:20260424T052845
CREATED:20190224T163700Z
LAST-MODIFIED:20190506T143732Z
UID:10000007-1566117000-1566142200@www.wanakimensclub.com
SUMMARY:Individual Net
DESCRIPTION:8:30am Shotgun Start\, Military Day with pig roast following the event.
URL:https://www.wanakimensclub.com/event/outing-7-individual-net/
LOCATION:Wanaki Golf Course\, N50 W20830 Lisbon Rd\, Menomonee Falls\, WI\, WI\, 53051\, United States
CATEGORIES:Club Tournament
ORGANIZER;CN="Todd Halverson":MAILTO:mensclubwanaki@gmail.com
END:VEVENT
BEGIN:VEVENT
DTSTART;VALUE=DATE:20190804
DTEND;VALUE=DATE:20190805
DTSTAMP:20260424T052845
CREATED:20190224T163436Z
LAST-MODIFIED:20190724T230519Z
UID:10000030-1564876800-1564963199@www.wanakimensclub.com
SUMMARY:Save Wanaki Golf Course - 4M BB
DESCRIPTION:
URL:https://www.wanakimensclub.com/event/away-outing-2-4m-bb/
LOCATION:Wanaki Golf Course\, N50 W20830 Lisbon Rd\, Menomonee Falls\, WI\, WI\, 53051\, United States
CATEGORIES:Club Tournament
ORGANIZER;CN="Todd Halverson":MAILTO:mensclubwanaki@gmail.com
END:VEVENT
BEGIN:VEVENT
DTSTART;TZID=America/Chicago:20190728T073000
DTEND;TZID=America/Chicago:20190728T143000
DTSTAMP:20260424T052845
CREATED:20190224T162522Z
LAST-MODIFIED:20190506T143926Z
UID:10000029-1564299000-1564324200@www.wanakimensclub.com
SUMMARY:Lawrence Welk 123-234
DESCRIPTION:Tee times start at 7:30am
URL:https://www.wanakimensclub.com/event/outing-6-lw-123-234/
LOCATION:Wanaki Golf Course\, N50 W20830 Lisbon Rd\, Menomonee Falls\, WI\, WI\, 53051\, United States
CATEGORIES:Club Tournament
ORGANIZER;CN="Todd Halverson":MAILTO:mensclubwanaki@gmail.com
END:VEVENT
BEGIN:VEVENT
DTSTART;TZID=America/Chicago:20190714T073000
DTEND;TZID=America/Chicago:20190714T143000
DTSTAMP:20260424T052845
CREATED:20190224T162145Z
LAST-MODIFIED:20190506T144017Z
UID:10000073-1563089400-1563114600@www.wanakimensclub.com
SUMMARY:Wanaki Cup
DESCRIPTION:Tee times start at 7:30am
URL:https://www.wanakimensclub.com/event/outing-5-wanaki-cup/
LOCATION:Wanaki Golf Course\, N50 W20830 Lisbon Rd\, Menomonee Falls\, WI\, WI\, 53051\, United States
CATEGORIES:Club Tournament
ORGANIZER;CN="Todd Halverson":MAILTO:mensclubwanaki@gmail.com
END:VEVENT
BEGIN:VEVENT
DTSTART;TZID=America/Chicago:20190623T073000
DTEND;TZID=America/Chicago:20190623T143000
DTSTAMP:20260424T052845
CREATED:20190224T162040Z
LAST-MODIFIED:20190506T144055Z
UID:10000023-1561275000-1561300200@www.wanakimensclub.com
SUMMARY:Net Partners
DESCRIPTION:Tee times start at 7:30am
URL:https://www.wanakimensclub.com/event/outing-4-net-partners/
LOCATION:Wanaki Golf Course\, N50 W20830 Lisbon Rd\, Menomonee Falls\, WI\, WI\, 53051\, United States
CATEGORIES:Club Tournament
ORGANIZER;CN="Todd Halverson":MAILTO:mensclubwanaki@gmail.com
END:VEVENT
BEGIN:VEVENT
DTSTART;TZID=America/Chicago:20190609T073000
DTEND;TZID=America/Chicago:20190609T153000
DTSTAMP:20260424T052845
CREATED:20190224T161910Z
LAST-MODIFIED:20190506T144136Z
UID:10000022-1560065400-1560094200@www.wanakimensclub.com
SUMMARY:Stableford
DESCRIPTION:Tee times start at 7:30am.
URL:https://www.wanakimensclub.com/event/outing-3-stableford/
LOCATION:Wanaki Golf Course\, N50 W20830 Lisbon Rd\, Menomonee Falls\, WI\, WI\, 53051\, United States
CATEGORIES:Club Tournament
ORGANIZER;CN="Todd Halverson":MAILTO:mensclubwanaki@gmail.com
END:VEVENT
BEGIN:VEVENT
DTSTART;VALUE=DATE:20190602
DTEND;VALUE=DATE:20190603
DTSTAMP:20260424T052845
CREATED:20190224T161710Z
LAST-MODIFIED:20190506T144225Z
UID:10000020-1559433600-1559519999@www.wanakimensclub.com
SUMMARY:Hawks View Tournament - 2M BB
DESCRIPTION:Event will be held at Hawk’s View golf course in Lake Geneva.
URL:https://www.wanakimensclub.com/event/away-event-1-2m-bb/
LOCATION:Hawks View Golf Club\, 7377 Krueger Rd\, Lake Geneva\, WI\, 53147\, United States
CATEGORIES:Club Tournament
ORGANIZER;CN="Todd Halverson":MAILTO:mensclubwanaki@gmail.com
END:VEVENT
BEGIN:VEVENT
DTSTART;TZID=America/Chicago:20190519T083000
DTEND;TZID=America/Chicago:20190519T143000
DTSTAMP:20260424T052845
CREATED:20190224T161506Z
LAST-MODIFIED:20190506T142318Z
UID:10000018-1558254600-1558276200@www.wanakimensclub.com
SUMMARY:Memorial 3-2-1
DESCRIPTION:8:30am shotgun start\, food will be served after golf\, followed by memorial tree planting ceremony.
URL:https://www.wanakimensclub.com/event/outing-2-memorial-3-2-1/
LOCATION:Wanaki Golf Course\, N50 W20830 Lisbon Rd\, Menomonee Falls\, WI\, WI\, 53051\, United States
CATEGORIES:Club Tournament
ORGANIZER;CN="Todd Halverson":MAILTO:mensclubwanaki@gmail.com
END:VEVENT
BEGIN:VEVENT
DTSTART;TZID=America/Chicago:20190505T083000
DTEND;TZID=America/Chicago:20190505T130000
DTSTAMP:20260424T052845
CREATED:20190224T160906Z
LAST-MODIFIED:20190506T121852Z
UID:10000045-1557045000-1557061200@www.wanakimensclub.com
SUMMARY:4 Man 2 Best Ball
DESCRIPTION:This event is a 4 man 2 best ball event. 8:30 am shotgun start and everyone receives a tee prize.
URL:https://www.wanakimensclub.com/event/outing-1-4m-2bb/
LOCATION:Wanaki Golf Course\, N50 W20830 Lisbon Rd\, Menomonee Falls\, WI\, WI\, 53051\, United States
CATEGORIES:Club Tournament
ORGANIZER;CN="Todd Halverson":MAILTO:mensclubwanaki@gmail.com
END:VEVENT
END:VCALENDAR