BEGIN:VCALENDAR
VERSION:2.0
PRODID:-//Wanaki Men&#039;s Club - ECPv6.15.18//NONSGML v1.0//EN
CALSCALE:GREGORIAN
METHOD:PUBLISH
X-WR-CALNAME:Wanaki Men&#039;s Club
X-ORIGINAL-URL:https://www.wanakimensclub.com
X-WR-CALDESC:Events for Wanaki Men&#039;s Club
REFRESH-INTERVAL;VALUE=DURATION:PT1H
X-Robots-Tag:noindex
X-PUBLISHED-TTL:PT1H
BEGIN:VTIMEZONE
TZID:America/Chicago
BEGIN:DAYLIGHT
TZOFFSETFROM:-0600
TZOFFSETTO:-0500
TZNAME:CDT
DTSTART:20180311T080000
END:DAYLIGHT
BEGIN:STANDARD
TZOFFSETFROM:-0500
TZOFFSETTO:-0600
TZNAME:CST
DTSTART:20181104T070000
END:STANDARD
BEGIN:DAYLIGHT
TZOFFSETFROM:-0600
TZOFFSETTO:-0500
TZNAME:CDT
DTSTART:20190310T080000
END:DAYLIGHT
BEGIN:STANDARD
TZOFFSETFROM:-0500
TZOFFSETTO:-0600
TZNAME:CST
DTSTART:20191103T070000
END:STANDARD
BEGIN:DAYLIGHT
TZOFFSETFROM:-0600
TZOFFSETTO:-0500
TZNAME:CDT
DTSTART:20200308T080000
END:DAYLIGHT
BEGIN:STANDARD
TZOFFSETFROM:-0500
TZOFFSETTO:-0600
TZNAME:CST
DTSTART:20201101T070000
END:STANDARD
BEGIN:DAYLIGHT
TZOFFSETFROM:-0600
TZOFFSETTO:-0500
TZNAME:CDT
DTSTART:20210314T080000
END:DAYLIGHT
BEGIN:STANDARD
TZOFFSETFROM:-0500
TZOFFSETTO:-0600
TZNAME:CST
DTSTART:20211107T070000
END:STANDARD
BEGIN:DAYLIGHT
TZOFFSETFROM:-0600
TZOFFSETTO:-0500
TZNAME:CDT
DTSTART:20220313T080000
END:DAYLIGHT
BEGIN:STANDARD
TZOFFSETFROM:-0500
TZOFFSETTO:-0600
TZNAME:CST
DTSTART:20221106T070000
END:STANDARD
BEGIN:DAYLIGHT
TZOFFSETFROM:-0600
TZOFFSETTO:-0500
TZNAME:CDT
DTSTART:20230312T080000
END:DAYLIGHT
BEGIN:STANDARD
TZOFFSETFROM:-0500
TZOFFSETTO:-0600
TZNAME:CST
DTSTART:20231105T070000
END:STANDARD
END:VTIMEZONE
BEGIN:VEVENT
DTSTART;TZID=America/Chicago:20220411T190000
DTEND;TZID=America/Chicago:20220411T190000
DTSTAMP:20260424T050503
CREATED:20220124T223054Z
LAST-MODIFIED:20220125T131824Z
UID:10000165-1649703600-1649703600@www.wanakimensclub.com
SUMMARY:2022 Informational Meeting #2
DESCRIPTION:This meeting will cover the following topics; \n1) Member sign up\n2) New member information orientation.\n3) 2022 changes.\n4) League and event schedules. \n 
URL:https://www.wanakimensclub.com/event/2022-informational-meeting-2/
LOCATION:Wanaki Golf Course\, N50 W20830 Lisbon Rd\, Menomonee Falls\, WI\, WI\, 53051\, United States
CATEGORIES:Meeting
ORGANIZER;CN="Joe Vachuska":MAILTO:joevachuska@gmail.com
END:VEVENT
BEGIN:VEVENT
DTSTART;TZID=America/Chicago:20220319T130000
DTEND;TZID=America/Chicago:20220319T150000
DTSTAMP:20260424T050503
CREATED:20220124T222927Z
LAST-MODIFIED:20220124T222927Z
UID:10000142-1647694800-1647702000@www.wanakimensclub.com
SUMMARY:2022 Informational Meeting #1
DESCRIPTION:This meeting will cover the following topics; \n1) Member sign up\n2) New member information orientation.\n3) 2022 changes.\n4) League and event schedules. \n 
URL:https://www.wanakimensclub.com/event/2022-informational-meeting-1/
LOCATION:Wanaki Golf Course\, N50 W20830 Lisbon Rd\, Menomonee Falls\, WI\, WI\, 53051\, United States
CATEGORIES:Meeting
ORGANIZER;CN="Joe Vachuska":MAILTO:joevachuska@gmail.com
END:VEVENT
BEGIN:VEVENT
DTSTART;TZID=America/Chicago:20210410T130000
DTEND;TZID=America/Chicago:20210410T150000
DTSTAMP:20260424T050503
CREATED:20210117T143911Z
LAST-MODIFIED:20210117T143951Z
UID:10000118-1618059600-1618066800@www.wanakimensclub.com
SUMMARY:2021 Informational Meeting #2
DESCRIPTION:This meeting will cover the following topics; \n1) Member sign up\n2) New member information orientation.\n3) 2021 changes.\n4) League and event schedules. \n 
URL:https://www.wanakimensclub.com/event/2021-information-meeting-2/
LOCATION:Wanaki Golf Course\, N50 W20830 Lisbon Rd\, Menomonee Falls\, WI\, WI\, 53051\, United States
CATEGORIES:Meeting
ORGANIZER;CN="Joe Vachuska":MAILTO:joevachuska@gmail.com
END:VEVENT
BEGIN:VEVENT
DTSTART;TZID=America/Chicago:20210327T130000
DTEND;TZID=America/Chicago:20210327T150000
DTSTAMP:20260424T050503
CREATED:20210117T143749Z
LAST-MODIFIED:20210223T011604Z
UID:10000117-1616850000-1616857200@www.wanakimensclub.com
SUMMARY:2021 Informational Meeting #1
DESCRIPTION:This meeting will cover the following topics; \n1) Member sign up\n2) New member information orientation.\n3) 2021 changes.\n4) League and event schedules. \n 
URL:https://www.wanakimensclub.com/event/2021-informational-meeting-1/
LOCATION:Wanaki Golf Course\, N50 W20830 Lisbon Rd\, Menomonee Falls\, WI\, WI\, 53051\, United States
CATEGORIES:Meeting
ORGANIZER;CN="Joe Vachuska":MAILTO:joevachuska@gmail.com
END:VEVENT
BEGIN:VEVENT
DTSTART;TZID=America/Chicago:20200502T130000
DTEND;TZID=America/Chicago:20200502T150000
DTSTAMP:20260424T050503
CREATED:20200127T142823Z
LAST-MODIFIED:20200427T173523Z
UID:10000192-1588424400-1588431600@www.wanakimensclub.com
SUMMARY:2020 Meeting #2 - Canceled
DESCRIPTION:This meeting has been canceled. \nPlease go to the membership page and submit membership forms and payment per instructions. \n 
URL:https://www.wanakimensclub.com/event/2020-meeting-2/
LOCATION:Wanaki Golf Course\, N50 W20830 Lisbon Rd\, Menomonee Falls\, WI\, WI\, 53051\, United States
CATEGORIES:Meeting
ORGANIZER;CN="Joe Vachuska":MAILTO:joevachuska@gmail.com
END:VEVENT
BEGIN:VEVENT
DTSTART;TZID=America/Chicago:20200314T130000
DTEND;TZID=America/Chicago:20200314T150000
DTSTAMP:20260424T050503
CREATED:20200127T142652Z
LAST-MODIFIED:20200127T142652Z
UID:10000191-1584190800-1584198000@www.wanakimensclub.com
SUMMARY:2020 Meeting #1
DESCRIPTION:This meeting will cover the following topics;\n1) Returning member sign up and dues payment.\n2) New member orientation.\n3) Club policies.\n4) League and event schedules. \n 
URL:https://www.wanakimensclub.com/event/2020-meeting-1/
LOCATION:Wanaki Golf Course\, N50 W20830 Lisbon Rd\, Menomonee Falls\, WI\, WI\, 53051\, United States
CATEGORIES:Meeting
ORGANIZER;CN="Joe Vachuska":MAILTO:joevachuska@gmail.com
END:VEVENT
BEGIN:VEVENT
DTSTART;TZID=America/Chicago:20191112T090000
DTEND;TZID=America/Chicago:20191112T110000
DTSTAMP:20260424T050503
CREATED:20190718T173412Z
LAST-MODIFIED:20190930T135112Z
UID:10000005-1573549200-1573556400@www.wanakimensclub.com
SUMMARY:County Board Meeting
DESCRIPTION:Show up in person to oppose the closing of Wanaki Golf Course!
URL:https://www.wanakimensclub.com/event/county-board-meeting/
LOCATION:Wanaki Golf Course\, N50 W20830 Lisbon Rd\, Menomonee Falls\, WI\, WI\, 53051\, United States
CATEGORIES:Meeting,Special Event
END:VEVENT
BEGIN:VEVENT
DTSTART;TZID=America/Chicago:20191002T080000
DTEND;TZID=America/Chicago:20191002T103000
DTSTAMP:20260424T050503
CREATED:20190930T134313Z
LAST-MODIFIED:20190930T135025Z
UID:10000097-1570003200-1570012200@www.wanakimensclub.com
SUMMARY:Waukesha County Board Finance Committee Meeting
DESCRIPTION:Meeting will be held in Room 130
URL:https://www.wanakimensclub.com/event/waukesha-county-board-finance-committee-meeting/
LOCATION:WI\, United States
CATEGORIES:Meeting,Special Event
END:VEVENT
BEGIN:VEVENT
DTSTART;TZID=America/Chicago:20191001T083000
DTEND;TZID=America/Chicago:20191001T103000
DTSTAMP:20260424T050503
CREATED:20190930T134119Z
LAST-MODIFIED:20190930T135034Z
UID:10000032-1569918600-1569925800@www.wanakimensclub.com
SUMMARY:Land Use\, Parks\, and Environment Committee
DESCRIPTION:Meeting is in Room AC 130
URL:https://www.wanakimensclub.com/event/land-use-parks-and-environment-committee/
LOCATION:WI\, United States
CATEGORIES:Meeting,Special Event
END:VEVENT
BEGIN:VEVENT
DTSTART;TZID=America/Chicago:20190925T180000
DTEND;TZID=America/Chicago:20190925T230000
DTSTAMP:20260424T050503
CREATED:20190724T230247Z
LAST-MODIFIED:20190930T135140Z
UID:10000031-1569434400-1569452400@www.wanakimensclub.com
SUMMARY:Wanaki Golf Course Public Hearing
DESCRIPTION:The Waukesha County Board of Supervisors will hold a public hearing on the proposed closure of Wanaki Golf Course on Wednesday\, September 25 at the Waukesha County Expo Center Arena. Doors open at 5pm. \nClick here for more details.
URL:https://www.wanakimensclub.com/event/county-budget-public-hearing/
LOCATION:WI\, United States
CATEGORIES:Meeting,Special Event
END:VEVENT
BEGIN:VEVENT
DTSTART;TZID=America/Chicago:20190413T130000
DTEND;TZID=America/Chicago:20190413T150000
DTSTAMP:20260424T050503
CREATED:20190224T152349Z
LAST-MODIFIED:20190413T010129Z
UID:10000100-1555160400-1555167600@www.wanakimensclub.com
SUMMARY:2019 Meeting #2
DESCRIPTION:This meeting will cover the following topics;\n1) Returning member sign up and dues payment.\n2) New member orientation.\n3) Club policies.\n4) League and event schedules.
URL:https://www.wanakimensclub.com/event/2019-meeting-2/
LOCATION:Wanaki Golf Course\, N50 W20830 Lisbon Rd\, Menomonee Falls\, WI\, WI\, 53051\, United States
CATEGORIES:Meeting
ORGANIZER;CN="Jim Ehnert":MAILTO:wanakijim@gmail.com
END:VEVENT
BEGIN:VEVENT
DTSTART;TZID=America/Chicago:20190316T130000
DTEND;TZID=America/Chicago:20190316T150000
DTSTAMP:20260424T050503
CREATED:20190223T231938Z
LAST-MODIFIED:20190413T010216Z
UID:10000172-1552741200-1552748400@www.wanakimensclub.com
SUMMARY:2019 Meeting #1 and Rules Seminar
DESCRIPTION:This meeting will cover the following topics;\n1) Returning member sign up and dues payment.\n2) New member orientation.\n3) Club policies.\n4) League and event schedules. \nWSGA Rules seminar covering the 2019 rule changes will follow the meeting.
URL:https://www.wanakimensclub.com/event/2019-rules-seminar-and-meeting/
LOCATION:Wanaki Golf Course\, N50 W20830 Lisbon Rd\, Menomonee Falls\, WI\, WI\, 53051\, United States
CATEGORIES:Meeting
END:VEVENT
END:VCALENDAR