BEGIN:VCALENDAR
VERSION:2.0
PRODID:-//Wanaki Men&#039;s Club - ECPv6.15.18//NONSGML v1.0//EN
CALSCALE:GREGORIAN
METHOD:PUBLISH
X-ORIGINAL-URL:https://www.wanakimensclub.com
X-WR-CALDESC:Events for Wanaki Men&#039;s Club
REFRESH-INTERVAL;VALUE=DURATION:PT1H
X-Robots-Tag:noindex
X-PUBLISHED-TTL:PT1H
BEGIN:VTIMEZONE
TZID:America/Chicago
BEGIN:DAYLIGHT
TZOFFSETFROM:-0600
TZOFFSETTO:-0500
TZNAME:CDT
DTSTART:20200308T080000
END:DAYLIGHT
BEGIN:STANDARD
TZOFFSETFROM:-0500
TZOFFSETTO:-0600
TZNAME:CST
DTSTART:20201101T070000
END:STANDARD
BEGIN:DAYLIGHT
TZOFFSETFROM:-0600
TZOFFSETTO:-0500
TZNAME:CDT
DTSTART:20210314T080000
END:DAYLIGHT
BEGIN:STANDARD
TZOFFSETFROM:-0500
TZOFFSETTO:-0600
TZNAME:CST
DTSTART:20211107T070000
END:STANDARD
BEGIN:DAYLIGHT
TZOFFSETFROM:-0600
TZOFFSETTO:-0500
TZNAME:CDT
DTSTART:20220313T080000
END:DAYLIGHT
BEGIN:STANDARD
TZOFFSETFROM:-0500
TZOFFSETTO:-0600
TZNAME:CST
DTSTART:20221106T070000
END:STANDARD
END:VTIMEZONE
BEGIN:VEVENT
DTSTART;TZID=America/Chicago:20210925T080000
DTEND;TZID=America/Chicago:20210925T080000
DTSTAMP:20260424T065031
CREATED:20210211T143629Z
LAST-MODIFIED:20210427T185015Z
UID:10000296-1632556800-1632556800@www.wanakimensclub.com
SUMMARY:Diehard Registration Opens
DESCRIPTION:Go to http://www.wanakimensclub.com/event/diehard-2/ to register for the Diehard event. \n 
URL:https://www.wanakimensclub.com/event/diehard-registration-opens/
CATEGORIES:Registration
END:VEVENT
BEGIN:VEVENT
DTSTART;TZID=America/Chicago:20210912T080000
DTEND;TZID=America/Chicago:20210912T080000
DTSTAMP:20260424T065031
CREATED:20210211T143432Z
LAST-MODIFIED:20210427T184933Z
UID:10000300-1631433600-1631433600@www.wanakimensclub.com
SUMMARY:Flag Day Registration Opens
DESCRIPTION:Go to http://www.wanakimensclub.com/event/flag-day-2/ to register for the Flag Day event. \n 
URL:https://www.wanakimensclub.com/event/flag-day-registration-opens/
CATEGORIES:Registration
END:VEVENT
BEGIN:VEVENT
DTSTART;TZID=America/Chicago:20210725T080000
DTEND;TZID=America/Chicago:20210725T080000
DTSTAMP:20260424T065031
CREATED:20210211T134940Z
LAST-MODIFIED:20210427T184903Z
UID:10000109-1627200000-1627200000@www.wanakimensclub.com
SUMMARY:Individual Net Registration Opens
DESCRIPTION:Go to http://www.wanakimensclub.com/event/individual-net-2/ to register for the Individual Net event. \n 
URL:https://www.wanakimensclub.com/event/individual-net-registration-opens/
CATEGORIES:Registration
END:VEVENT
BEGIN:VEVENT
DTSTART;TZID=America/Chicago:20210711T080000
DTEND;TZID=America/Chicago:20210711T080000
DTSTAMP:20260424T065031
CREATED:20210211T134627Z
LAST-MODIFIED:20210427T184818Z
UID:10000107-1625990400-1625990400@www.wanakimensclub.com
SUMMARY:Lawrence Welk Registration Opens
DESCRIPTION:Go to http://www.wanakimensclub.com/event/lawrence-welk-123-234-2/ to register for the Lawrence Welk 123-234 event. \n 
URL:https://www.wanakimensclub.com/event/lawrence-welk-registration-opens/
CATEGORIES:Registration
END:VEVENT
BEGIN:VEVENT
DTSTART;TZID=America/Chicago:20210704T080000
DTEND;TZID=America/Chicago:20210704T080000
DTSTAMP:20260424T065031
CREATED:20210211T134252Z
LAST-MODIFIED:20210427T184659Z
UID:10000105-1625385600-1625385600@www.wanakimensclub.com
SUMMARY:Wanaki Cup Registration Opens
DESCRIPTION:Go to http://www.wanakimensclub.com/event/wanaki-cup-2/ to register for the Wanaki Cup event. \n  \n 
URL:https://www.wanakimensclub.com/event/wanaki-cup-registration-opens/
CATEGORIES:Registration
END:VEVENT
BEGIN:VEVENT
DTSTART;TZID=America/Chicago:20210613T080000
DTEND;TZID=America/Chicago:20210613T080000
DTSTAMP:20260424T065031
CREATED:20210211T133855Z
LAST-MODIFIED:20210427T184631Z
UID:10000104-1623571200-1623571200@www.wanakimensclub.com
SUMMARY:Stableford Registration Opens
DESCRIPTION:Go to http://www.wanakimensclub.com/event/stableford-2/ to register for the Stableford event. \n  \n 
URL:https://www.wanakimensclub.com/event/stableford-registration-opens/
CATEGORIES:Registration
END:VEVENT
BEGIN:VEVENT
DTSTART;TZID=America/Chicago:20210523T080000
DTEND;TZID=America/Chicago:20210523T080000
DTSTAMP:20260424T065031
CREATED:20210211T133623Z
LAST-MODIFIED:20210427T184548Z
UID:10000102-1621756800-1621756800@www.wanakimensclub.com
SUMMARY:Net Partners Registration Opens
DESCRIPTION:Go to http://www.wanakimensclub.com/event/net-partners-2/ to register for the Net Partners event. \n  \n 
URL:https://www.wanakimensclub.com/event/net-partners-registration-opens/
CATEGORIES:Registration
END:VEVENT
BEGIN:VEVENT
DTSTART;TZID=America/Chicago:20210502T060000
DTEND;TZID=America/Chicago:20210502T060000
DTSTAMP:20260424T065031
CREATED:20210211T133123Z
LAST-MODIFIED:20210430T191754Z
UID:10000099-1619935200-1619935200@www.wanakimensclub.com
SUMMARY:Memorial Registration Opens
DESCRIPTION:Go to http://www.wanakimensclub.com/event/memorial-3-2-1-2/ to register for the Memorial event. \n  \n 
URL:https://www.wanakimensclub.com/event/memorial-registration-opens/
CATEGORIES:Registration
END:VEVENT
BEGIN:VEVENT
DTSTART;TZID=America/Chicago:20210428T170000
DTEND;TZID=America/Chicago:20210428T170000
DTSTAMP:20260424T065031
CREATED:20210330T162155Z
LAST-MODIFIED:20210427T184519Z
UID:10000166-1619629200-1619629200@www.wanakimensclub.com
SUMMARY:Club Championship Registration Deadline
DESCRIPTION:The deadline for registering for Wanaki Men’s Club championships is 5pm today. If you have not registered for 2021 you need to click here to register now. If you have previously registered but want to add a club championship to your registration\, click here to send an email with your desired changes.
URL:https://www.wanakimensclub.com/event/club-championship-registration-deadline/
CATEGORIES:Registration
END:VEVENT
BEGIN:VEVENT
DTSTART;TZID=America/Chicago:20210418T080000
DTEND;TZID=America/Chicago:20210418T083000
DTSTAMP:20260424T065031
CREATED:20210211T132748Z
LAST-MODIFIED:20210211T133324Z
UID:10000098-1618732800-1618734600@www.wanakimensclub.com
SUMMARY:Early Bird Registration Opens
DESCRIPTION:Go to https://www.wanakimensclub.com/event/early-bird-4-man-2-best-ball-2/ to register for this event. \n 
URL:https://www.wanakimensclub.com/event/early-bird-registration-opens/
CATEGORIES:Registration
END:VEVENT
END:VCALENDAR