BEGIN:VCALENDAR
VERSION:2.0
PRODID:-//Wanaki Men&#039;s Club - ECPv6.15.18//NONSGML v1.0//EN
CALSCALE:GREGORIAN
METHOD:PUBLISH
X-ORIGINAL-URL:https://www.wanakimensclub.com
X-WR-CALDESC:Events for Wanaki Men&#039;s Club
REFRESH-INTERVAL;VALUE=DURATION:PT1H
X-Robots-Tag:noindex
X-PUBLISHED-TTL:PT1H
BEGIN:VTIMEZONE
TZID:America/Chicago
BEGIN:DAYLIGHT
TZOFFSETFROM:-0600
TZOFFSETTO:-0500
TZNAME:CDT
DTSTART:20180311T080000
END:DAYLIGHT
BEGIN:STANDARD
TZOFFSETFROM:-0500
TZOFFSETTO:-0600
TZNAME:CST
DTSTART:20181104T070000
END:STANDARD
BEGIN:DAYLIGHT
TZOFFSETFROM:-0600
TZOFFSETTO:-0500
TZNAME:CDT
DTSTART:20190310T080000
END:DAYLIGHT
BEGIN:STANDARD
TZOFFSETFROM:-0500
TZOFFSETTO:-0600
TZNAME:CST
DTSTART:20191103T070000
END:STANDARD
BEGIN:DAYLIGHT
TZOFFSETFROM:-0600
TZOFFSETTO:-0500
TZNAME:CDT
DTSTART:20200308T080000
END:DAYLIGHT
BEGIN:STANDARD
TZOFFSETFROM:-0500
TZOFFSETTO:-0600
TZNAME:CST
DTSTART:20201101T070000
END:STANDARD
BEGIN:DAYLIGHT
TZOFFSETFROM:-0600
TZOFFSETTO:-0500
TZNAME:CDT
DTSTART:20210314T080000
END:DAYLIGHT
BEGIN:STANDARD
TZOFFSETFROM:-0500
TZOFFSETTO:-0600
TZNAME:CST
DTSTART:20211107T070000
END:STANDARD
BEGIN:DAYLIGHT
TZOFFSETFROM:-0600
TZOFFSETTO:-0500
TZNAME:CDT
DTSTART:20220313T080000
END:DAYLIGHT
BEGIN:STANDARD
TZOFFSETFROM:-0500
TZOFFSETTO:-0600
TZNAME:CST
DTSTART:20221106T070000
END:STANDARD
END:VTIMEZONE
BEGIN:VEVENT
DTSTART;TZID=America/Chicago:20190711T163000
DTEND;TZID=America/Chicago:20190711T203000
DTSTAMP:20260423T153838
CREATED:20190224T150625Z
LAST-MODIFIED:20190413T005303Z
UID:10000085-1562862600-1562877000@www.wanakimensclub.com
SUMMARY:Thursday Night Golf League
DESCRIPTION:
URL:https://www.wanakimensclub.com/event/thursday-night-golf-league/2019-07-11/
LOCATION:Wanaki Golf Course\, N50 W20830 Lisbon Rd\, Menomonee Falls\, WI\, WI\, 53051\, United States
CATEGORIES:Thurs Night League
ORGANIZER;CN="Al Brandt":MAILTO:abrandt1@wi.rr.com
END:VEVENT
BEGIN:VEVENT
DTSTART;TZID=America/Chicago:20190718T163000
DTEND;TZID=America/Chicago:20190718T203000
DTSTAMP:20260423T153838
CREATED:20190224T150625Z
LAST-MODIFIED:20190413T005303Z
UID:10000086-1563467400-1563481800@www.wanakimensclub.com
SUMMARY:Thursday Night Golf League
DESCRIPTION:
URL:https://www.wanakimensclub.com/event/thursday-night-golf-league/2019-07-18/
LOCATION:Wanaki Golf Course\, N50 W20830 Lisbon Rd\, Menomonee Falls\, WI\, WI\, 53051\, United States
CATEGORIES:Thurs Night League
ORGANIZER;CN="Al Brandt":MAILTO:abrandt1@wi.rr.com
END:VEVENT
BEGIN:VEVENT
DTSTART;TZID=America/Chicago:20190725T163000
DTEND;TZID=America/Chicago:20190725T203000
DTSTAMP:20260423T153838
CREATED:20190224T150625Z
LAST-MODIFIED:20190413T005303Z
UID:10000087-1564072200-1564086600@www.wanakimensclub.com
SUMMARY:Thursday Night Golf League
DESCRIPTION:
URL:https://www.wanakimensclub.com/event/thursday-night-golf-league/2019-07-25/
LOCATION:Wanaki Golf Course\, N50 W20830 Lisbon Rd\, Menomonee Falls\, WI\, WI\, 53051\, United States
CATEGORIES:Thurs Night League
ORGANIZER;CN="Al Brandt":MAILTO:abrandt1@wi.rr.com
END:VEVENT
BEGIN:VEVENT
DTSTART;TZID=America/Chicago:20190801T163000
DTEND;TZID=America/Chicago:20190801T203000
DTSTAMP:20260423T153838
CREATED:20190224T150625Z
LAST-MODIFIED:20190413T005303Z
UID:10000088-1564677000-1564691400@www.wanakimensclub.com
SUMMARY:Thursday Night Golf League
DESCRIPTION:
URL:https://www.wanakimensclub.com/event/thursday-night-golf-league/2019-08-01/
LOCATION:Wanaki Golf Course\, N50 W20830 Lisbon Rd\, Menomonee Falls\, WI\, WI\, 53051\, United States
CATEGORIES:Thurs Night League
ORGANIZER;CN="Al Brandt":MAILTO:abrandt1@wi.rr.com
END:VEVENT
BEGIN:VEVENT
DTSTART;TZID=America/Chicago:20190808T163000
DTEND;TZID=America/Chicago:20190808T203000
DTSTAMP:20260423T153838
CREATED:20190224T150625Z
LAST-MODIFIED:20190413T005303Z
UID:10000089-1565281800-1565296200@www.wanakimensclub.com
SUMMARY:Thursday Night Golf League
DESCRIPTION:
URL:https://www.wanakimensclub.com/event/thursday-night-golf-league/2019-08-08/
LOCATION:Wanaki Golf Course\, N50 W20830 Lisbon Rd\, Menomonee Falls\, WI\, WI\, 53051\, United States
CATEGORIES:Thurs Night League
ORGANIZER;CN="Al Brandt":MAILTO:abrandt1@wi.rr.com
END:VEVENT
BEGIN:VEVENT
DTSTART;TZID=America/Chicago:20190815T163000
DTEND;TZID=America/Chicago:20190815T203000
DTSTAMP:20260423T153838
CREATED:20190224T150625Z
LAST-MODIFIED:20190413T005303Z
UID:10000090-1565886600-1565901000@www.wanakimensclub.com
SUMMARY:Thursday Night Golf League
DESCRIPTION:
URL:https://www.wanakimensclub.com/event/thursday-night-golf-league/2019-08-15/
LOCATION:Wanaki Golf Course\, N50 W20830 Lisbon Rd\, Menomonee Falls\, WI\, WI\, 53051\, United States
CATEGORIES:Thurs Night League
ORGANIZER;CN="Al Brandt":MAILTO:abrandt1@wi.rr.com
END:VEVENT
BEGIN:VEVENT
DTSTART;TZID=America/Chicago:20190822T163000
DTEND;TZID=America/Chicago:20190822T203000
DTSTAMP:20260423T153838
CREATED:20190224T150625Z
LAST-MODIFIED:20190413T005303Z
UID:10000091-1566491400-1566505800@www.wanakimensclub.com
SUMMARY:Thursday Night Golf League
DESCRIPTION:
URL:https://www.wanakimensclub.com/event/thursday-night-golf-league/2019-08-22/
LOCATION:Wanaki Golf Course\, N50 W20830 Lisbon Rd\, Menomonee Falls\, WI\, WI\, 53051\, United States
CATEGORIES:Thurs Night League
ORGANIZER;CN="Al Brandt":MAILTO:abrandt1@wi.rr.com
END:VEVENT
BEGIN:VEVENT
DTSTART;TZID=America/Chicago:20200507T163000
DTEND;TZID=America/Chicago:20200507T203000
DTSTAMP:20260423T153838
CREATED:20200127T143900Z
LAST-MODIFIED:20200127T143900Z
UID:10000055-1588869000-1588883400@www.wanakimensclub.com
SUMMARY:Thursday Night Golf League
DESCRIPTION:
URL:https://www.wanakimensclub.com/event/thursday-night-golf-league-2/2020-05-07/
LOCATION:Wanaki Golf Course\, N50 W20830 Lisbon Rd\, Menomonee Falls\, WI\, WI\, 53051\, United States
CATEGORIES:Thurs Night League
ORGANIZER;CN="Al Brandt":MAILTO:abrandt1@wi.rr.com
END:VEVENT
BEGIN:VEVENT
DTSTART;TZID=America/Chicago:20200514T163000
DTEND;TZID=America/Chicago:20200514T203000
DTSTAMP:20260423T153838
CREATED:20200127T143900Z
LAST-MODIFIED:20200127T143900Z
UID:10000056-1589473800-1589488200@www.wanakimensclub.com
SUMMARY:Thursday Night Golf League
DESCRIPTION:
URL:https://www.wanakimensclub.com/event/thursday-night-golf-league-2/2020-05-14/
LOCATION:Wanaki Golf Course\, N50 W20830 Lisbon Rd\, Menomonee Falls\, WI\, WI\, 53051\, United States
CATEGORIES:Thurs Night League
ORGANIZER;CN="Al Brandt":MAILTO:abrandt1@wi.rr.com
END:VEVENT
BEGIN:VEVENT
DTSTART;TZID=America/Chicago:20200521T163000
DTEND;TZID=America/Chicago:20200521T203000
DTSTAMP:20260423T153838
CREATED:20200127T143900Z
LAST-MODIFIED:20200127T143900Z
UID:10000057-1590078600-1590093000@www.wanakimensclub.com
SUMMARY:Thursday Night Golf League
DESCRIPTION:
URL:https://www.wanakimensclub.com/event/thursday-night-golf-league-2/2020-05-21/
LOCATION:Wanaki Golf Course\, N50 W20830 Lisbon Rd\, Menomonee Falls\, WI\, WI\, 53051\, United States
CATEGORIES:Thurs Night League
ORGANIZER;CN="Al Brandt":MAILTO:abrandt1@wi.rr.com
END:VEVENT
BEGIN:VEVENT
DTSTART;TZID=America/Chicago:20200528T163000
DTEND;TZID=America/Chicago:20200528T203000
DTSTAMP:20260423T153838
CREATED:20200127T143900Z
LAST-MODIFIED:20200127T143900Z
UID:10000058-1590683400-1590697800@www.wanakimensclub.com
SUMMARY:Thursday Night Golf League
DESCRIPTION:
URL:https://www.wanakimensclub.com/event/thursday-night-golf-league-2/2020-05-28/
LOCATION:Wanaki Golf Course\, N50 W20830 Lisbon Rd\, Menomonee Falls\, WI\, WI\, 53051\, United States
CATEGORIES:Thurs Night League
ORGANIZER;CN="Al Brandt":MAILTO:abrandt1@wi.rr.com
END:VEVENT
BEGIN:VEVENT
DTSTART;TZID=America/Chicago:20200604T163000
DTEND;TZID=America/Chicago:20200604T203000
DTSTAMP:20260423T153838
CREATED:20200127T143900Z
LAST-MODIFIED:20200127T143900Z
UID:10000059-1591288200-1591302600@www.wanakimensclub.com
SUMMARY:Thursday Night Golf League
DESCRIPTION:
URL:https://www.wanakimensclub.com/event/thursday-night-golf-league-2/2020-06-04/
LOCATION:Wanaki Golf Course\, N50 W20830 Lisbon Rd\, Menomonee Falls\, WI\, WI\, 53051\, United States
CATEGORIES:Thurs Night League
ORGANIZER;CN="Al Brandt":MAILTO:abrandt1@wi.rr.com
END:VEVENT
BEGIN:VEVENT
DTSTART;TZID=America/Chicago:20200611T163000
DTEND;TZID=America/Chicago:20200611T203000
DTSTAMP:20260423T153838
CREATED:20200127T143900Z
LAST-MODIFIED:20200127T143900Z
UID:10000060-1591893000-1591907400@www.wanakimensclub.com
SUMMARY:Thursday Night Golf League
DESCRIPTION:
URL:https://www.wanakimensclub.com/event/thursday-night-golf-league-2/2020-06-11/
LOCATION:Wanaki Golf Course\, N50 W20830 Lisbon Rd\, Menomonee Falls\, WI\, WI\, 53051\, United States
CATEGORIES:Thurs Night League
ORGANIZER;CN="Al Brandt":MAILTO:abrandt1@wi.rr.com
END:VEVENT
BEGIN:VEVENT
DTSTART;TZID=America/Chicago:20200618T163000
DTEND;TZID=America/Chicago:20200618T203000
DTSTAMP:20260423T153838
CREATED:20200127T143900Z
LAST-MODIFIED:20200127T143900Z
UID:10000061-1592497800-1592512200@www.wanakimensclub.com
SUMMARY:Thursday Night Golf League
DESCRIPTION:
URL:https://www.wanakimensclub.com/event/thursday-night-golf-league-2/2020-06-18/
LOCATION:Wanaki Golf Course\, N50 W20830 Lisbon Rd\, Menomonee Falls\, WI\, WI\, 53051\, United States
CATEGORIES:Thurs Night League
ORGANIZER;CN="Al Brandt":MAILTO:abrandt1@wi.rr.com
END:VEVENT
BEGIN:VEVENT
DTSTART;TZID=America/Chicago:20200625T163000
DTEND;TZID=America/Chicago:20200625T203000
DTSTAMP:20260423T153838
CREATED:20200127T143900Z
LAST-MODIFIED:20200127T143900Z
UID:10000062-1593102600-1593117000@www.wanakimensclub.com
SUMMARY:Thursday Night Golf League
DESCRIPTION:
URL:https://www.wanakimensclub.com/event/thursday-night-golf-league-2/2020-06-25/
LOCATION:Wanaki Golf Course\, N50 W20830 Lisbon Rd\, Menomonee Falls\, WI\, WI\, 53051\, United States
CATEGORIES:Thurs Night League
ORGANIZER;CN="Al Brandt":MAILTO:abrandt1@wi.rr.com
END:VEVENT
BEGIN:VEVENT
DTSTART;TZID=America/Chicago:20200702T163000
DTEND;TZID=America/Chicago:20200702T203000
DTSTAMP:20260423T153838
CREATED:20200127T143900Z
LAST-MODIFIED:20200127T143900Z
UID:10000063-1593707400-1593721800@www.wanakimensclub.com
SUMMARY:Thursday Night Golf League
DESCRIPTION:
URL:https://www.wanakimensclub.com/event/thursday-night-golf-league-2/2020-07-02/
LOCATION:Wanaki Golf Course\, N50 W20830 Lisbon Rd\, Menomonee Falls\, WI\, WI\, 53051\, United States
CATEGORIES:Thurs Night League
ORGANIZER;CN="Al Brandt":MAILTO:abrandt1@wi.rr.com
END:VEVENT
BEGIN:VEVENT
DTSTART;TZID=America/Chicago:20200709T163000
DTEND;TZID=America/Chicago:20200709T203000
DTSTAMP:20260423T153838
CREATED:20200127T143900Z
LAST-MODIFIED:20200127T143900Z
UID:10000064-1594312200-1594326600@www.wanakimensclub.com
SUMMARY:Thursday Night Golf League
DESCRIPTION:
URL:https://www.wanakimensclub.com/event/thursday-night-golf-league-2/2020-07-09/
LOCATION:Wanaki Golf Course\, N50 W20830 Lisbon Rd\, Menomonee Falls\, WI\, WI\, 53051\, United States
CATEGORIES:Thurs Night League
ORGANIZER;CN="Al Brandt":MAILTO:abrandt1@wi.rr.com
END:VEVENT
BEGIN:VEVENT
DTSTART;TZID=America/Chicago:20200716T163000
DTEND;TZID=America/Chicago:20200716T203000
DTSTAMP:20260423T153838
CREATED:20200127T143900Z
LAST-MODIFIED:20200127T143900Z
UID:10000065-1594917000-1594931400@www.wanakimensclub.com
SUMMARY:Thursday Night Golf League
DESCRIPTION:
URL:https://www.wanakimensclub.com/event/thursday-night-golf-league-2/2020-07-16/
LOCATION:Wanaki Golf Course\, N50 W20830 Lisbon Rd\, Menomonee Falls\, WI\, WI\, 53051\, United States
CATEGORIES:Thurs Night League
ORGANIZER;CN="Al Brandt":MAILTO:abrandt1@wi.rr.com
END:VEVENT
BEGIN:VEVENT
DTSTART;TZID=America/Chicago:20200723T163000
DTEND;TZID=America/Chicago:20200723T203000
DTSTAMP:20260423T153838
CREATED:20200127T143900Z
LAST-MODIFIED:20200127T143900Z
UID:10000066-1595521800-1595536200@www.wanakimensclub.com
SUMMARY:Thursday Night Golf League
DESCRIPTION:
URL:https://www.wanakimensclub.com/event/thursday-night-golf-league-2/2020-07-23/
LOCATION:Wanaki Golf Course\, N50 W20830 Lisbon Rd\, Menomonee Falls\, WI\, WI\, 53051\, United States
CATEGORIES:Thurs Night League
ORGANIZER;CN="Al Brandt":MAILTO:abrandt1@wi.rr.com
END:VEVENT
BEGIN:VEVENT
DTSTART;TZID=America/Chicago:20200730T163000
DTEND;TZID=America/Chicago:20200730T203000
DTSTAMP:20260423T153838
CREATED:20200127T143900Z
LAST-MODIFIED:20200127T143900Z
UID:10000067-1596126600-1596141000@www.wanakimensclub.com
SUMMARY:Thursday Night Golf League
DESCRIPTION:
URL:https://www.wanakimensclub.com/event/thursday-night-golf-league-2/2020-07-30/
LOCATION:Wanaki Golf Course\, N50 W20830 Lisbon Rd\, Menomonee Falls\, WI\, WI\, 53051\, United States
CATEGORIES:Thurs Night League
ORGANIZER;CN="Al Brandt":MAILTO:abrandt1@wi.rr.com
END:VEVENT
BEGIN:VEVENT
DTSTART;TZID=America/Chicago:20200806T163000
DTEND;TZID=America/Chicago:20200806T203000
DTSTAMP:20260423T153838
CREATED:20200127T143900Z
LAST-MODIFIED:20200127T143900Z
UID:10000068-1596731400-1596745800@www.wanakimensclub.com
SUMMARY:Thursday Night Golf League
DESCRIPTION:
URL:https://www.wanakimensclub.com/event/thursday-night-golf-league-2/2020-08-06/
LOCATION:Wanaki Golf Course\, N50 W20830 Lisbon Rd\, Menomonee Falls\, WI\, WI\, 53051\, United States
CATEGORIES:Thurs Night League
ORGANIZER;CN="Al Brandt":MAILTO:abrandt1@wi.rr.com
END:VEVENT
BEGIN:VEVENT
DTSTART;TZID=America/Chicago:20200813T163000
DTEND;TZID=America/Chicago:20200813T203000
DTSTAMP:20260423T153838
CREATED:20200127T143900Z
LAST-MODIFIED:20200127T143900Z
UID:10000069-1597336200-1597350600@www.wanakimensclub.com
SUMMARY:Thursday Night Golf League
DESCRIPTION:
URL:https://www.wanakimensclub.com/event/thursday-night-golf-league-2/2020-08-13/
LOCATION:Wanaki Golf Course\, N50 W20830 Lisbon Rd\, Menomonee Falls\, WI\, WI\, 53051\, United States
CATEGORIES:Thurs Night League
ORGANIZER;CN="Al Brandt":MAILTO:abrandt1@wi.rr.com
END:VEVENT
BEGIN:VEVENT
DTSTART;TZID=America/Chicago:20200820T163000
DTEND;TZID=America/Chicago:20200820T203000
DTSTAMP:20260423T153838
CREATED:20200127T143900Z
LAST-MODIFIED:20200127T143900Z
UID:10000070-1597941000-1597955400@www.wanakimensclub.com
SUMMARY:Thursday Night Golf League
DESCRIPTION:
URL:https://www.wanakimensclub.com/event/thursday-night-golf-league-2/2020-08-20/
LOCATION:Wanaki Golf Course\, N50 W20830 Lisbon Rd\, Menomonee Falls\, WI\, WI\, 53051\, United States
CATEGORIES:Thurs Night League
ORGANIZER;CN="Al Brandt":MAILTO:abrandt1@wi.rr.com
END:VEVENT
BEGIN:VEVENT
DTSTART;TZID=America/Chicago:20210506T163000
DTEND;TZID=America/Chicago:20210506T203000
DTSTAMP:20260423T153838
CREATED:20210117T144216Z
LAST-MODIFIED:20210817T170428Z
UID:10000209-1620318600-1620333000@www.wanakimensclub.com
SUMMARY:Thursday Night Golf League
DESCRIPTION:
URL:https://www.wanakimensclub.com/event/thursday-night-golf-league-3/2021-05-06/
LOCATION:Wanaki Golf Course\, N50 W20830 Lisbon Rd\, Menomonee Falls\, WI\, WI\, 53051\, United States
CATEGORIES:Thurs Night League
ORGANIZER;CN="David Strackbein":MAILTO:dstrackbein@wi.rr.com
END:VEVENT
BEGIN:VEVENT
DTSTART;TZID=America/Chicago:20210513T163000
DTEND;TZID=America/Chicago:20210513T203000
DTSTAMP:20260423T153838
CREATED:20210117T144216Z
LAST-MODIFIED:20210817T170428Z
UID:10000210-1620923400-1620937800@www.wanakimensclub.com
SUMMARY:Thursday Night Golf League
DESCRIPTION:
URL:https://www.wanakimensclub.com/event/thursday-night-golf-league-3/2021-05-13/
LOCATION:Wanaki Golf Course\, N50 W20830 Lisbon Rd\, Menomonee Falls\, WI\, WI\, 53051\, United States
CATEGORIES:Thurs Night League
ORGANIZER;CN="David Strackbein":MAILTO:dstrackbein@wi.rr.com
END:VEVENT
BEGIN:VEVENT
DTSTART;TZID=America/Chicago:20210520T163000
DTEND;TZID=America/Chicago:20210520T203000
DTSTAMP:20260423T153838
CREATED:20210117T144216Z
LAST-MODIFIED:20210817T170428Z
UID:10000211-1621528200-1621542600@www.wanakimensclub.com
SUMMARY:Thursday Night Golf League
DESCRIPTION:
URL:https://www.wanakimensclub.com/event/thursday-night-golf-league-3/2021-05-20/
LOCATION:Wanaki Golf Course\, N50 W20830 Lisbon Rd\, Menomonee Falls\, WI\, WI\, 53051\, United States
CATEGORIES:Thurs Night League
ORGANIZER;CN="David Strackbein":MAILTO:dstrackbein@wi.rr.com
END:VEVENT
BEGIN:VEVENT
DTSTART;TZID=America/Chicago:20210527T163000
DTEND;TZID=America/Chicago:20210527T203000
DTSTAMP:20260423T153838
CREATED:20210117T144216Z
LAST-MODIFIED:20210817T170428Z
UID:10000212-1622133000-1622147400@www.wanakimensclub.com
SUMMARY:Thursday Night Golf League
DESCRIPTION:
URL:https://www.wanakimensclub.com/event/thursday-night-golf-league-3/2021-05-27/
LOCATION:Wanaki Golf Course\, N50 W20830 Lisbon Rd\, Menomonee Falls\, WI\, WI\, 53051\, United States
CATEGORIES:Thurs Night League
ORGANIZER;CN="David Strackbein":MAILTO:dstrackbein@wi.rr.com
END:VEVENT
BEGIN:VEVENT
DTSTART;TZID=America/Chicago:20210603T163000
DTEND;TZID=America/Chicago:20210603T203000
DTSTAMP:20260423T153838
CREATED:20210117T144216Z
LAST-MODIFIED:20210817T170428Z
UID:10000213-1622737800-1622752200@www.wanakimensclub.com
SUMMARY:Thursday Night Golf League
DESCRIPTION:
URL:https://www.wanakimensclub.com/event/thursday-night-golf-league-3/2021-06-03/
LOCATION:Wanaki Golf Course\, N50 W20830 Lisbon Rd\, Menomonee Falls\, WI\, WI\, 53051\, United States
CATEGORIES:Thurs Night League
ORGANIZER;CN="David Strackbein":MAILTO:dstrackbein@wi.rr.com
END:VEVENT
BEGIN:VEVENT
DTSTART;TZID=America/Chicago:20210610T163000
DTEND;TZID=America/Chicago:20210610T203000
DTSTAMP:20260423T153838
CREATED:20210117T144216Z
LAST-MODIFIED:20210817T170428Z
UID:10000214-1623342600-1623357000@www.wanakimensclub.com
SUMMARY:Thursday Night Golf League
DESCRIPTION:
URL:https://www.wanakimensclub.com/event/thursday-night-golf-league-3/2021-06-10/
LOCATION:Wanaki Golf Course\, N50 W20830 Lisbon Rd\, Menomonee Falls\, WI\, WI\, 53051\, United States
CATEGORIES:Thurs Night League
ORGANIZER;CN="David Strackbein":MAILTO:dstrackbein@wi.rr.com
END:VEVENT
BEGIN:VEVENT
DTSTART;TZID=America/Chicago:20210617T163000
DTEND;TZID=America/Chicago:20210617T203000
DTSTAMP:20260423T153838
CREATED:20210117T144216Z
LAST-MODIFIED:20210817T170428Z
UID:10000215-1623947400-1623961800@www.wanakimensclub.com
SUMMARY:Thursday Night Golf League
DESCRIPTION:
URL:https://www.wanakimensclub.com/event/thursday-night-golf-league-3/2021-06-17/
LOCATION:Wanaki Golf Course\, N50 W20830 Lisbon Rd\, Menomonee Falls\, WI\, WI\, 53051\, United States
CATEGORIES:Thurs Night League
ORGANIZER;CN="David Strackbein":MAILTO:dstrackbein@wi.rr.com
END:VEVENT
END:VCALENDAR