BEGIN:VCALENDAR
VERSION:2.0
PRODID:-//Wanaki Men&#039;s Club - ECPv6.15.18//NONSGML v1.0//EN
CALSCALE:GREGORIAN
METHOD:PUBLISH
X-ORIGINAL-URL:https://www.wanakimensclub.com
X-WR-CALDESC:Events for Wanaki Men&#039;s Club
REFRESH-INTERVAL;VALUE=DURATION:PT1H
X-Robots-Tag:noindex
X-PUBLISHED-TTL:PT1H
BEGIN:VTIMEZONE
TZID:America/Chicago
BEGIN:DAYLIGHT
TZOFFSETFROM:-0600
TZOFFSETTO:-0500
TZNAME:CDT
DTSTART:20190310T080000
END:DAYLIGHT
BEGIN:STANDARD
TZOFFSETFROM:-0500
TZOFFSETTO:-0600
TZNAME:CST
DTSTART:20191103T070000
END:STANDARD
BEGIN:DAYLIGHT
TZOFFSETFROM:-0600
TZOFFSETTO:-0500
TZNAME:CDT
DTSTART:20200308T080000
END:DAYLIGHT
BEGIN:STANDARD
TZOFFSETFROM:-0500
TZOFFSETTO:-0600
TZNAME:CST
DTSTART:20201101T070000
END:STANDARD
BEGIN:DAYLIGHT
TZOFFSETFROM:-0600
TZOFFSETTO:-0500
TZNAME:CDT
DTSTART:20210314T080000
END:DAYLIGHT
BEGIN:STANDARD
TZOFFSETFROM:-0500
TZOFFSETTO:-0600
TZNAME:CST
DTSTART:20211107T070000
END:STANDARD
BEGIN:DAYLIGHT
TZOFFSETFROM:-0600
TZOFFSETTO:-0500
TZNAME:CDT
DTSTART:20220313T080000
END:DAYLIGHT
BEGIN:STANDARD
TZOFFSETFROM:-0500
TZOFFSETTO:-0600
TZNAME:CST
DTSTART:20221106T070000
END:STANDARD
BEGIN:DAYLIGHT
TZOFFSETFROM:-0600
TZOFFSETTO:-0500
TZNAME:CDT
DTSTART:20230312T080000
END:DAYLIGHT
BEGIN:STANDARD
TZOFFSETFROM:-0500
TZOFFSETTO:-0600
TZNAME:CST
DTSTART:20231105T070000
END:STANDARD
END:VTIMEZONE
BEGIN:VEVENT
DTSTART;TZID=America/Chicago:20200806T163000
DTEND;TZID=America/Chicago:20200806T203000
DTSTAMP:20260423T195106
CREATED:20200127T143900Z
LAST-MODIFIED:20200127T143900Z
UID:10000068-1596731400-1596745800@www.wanakimensclub.com
SUMMARY:Thursday Night Golf League
DESCRIPTION:
URL:https://www.wanakimensclub.com/event/thursday-night-golf-league-2/2020-08-06/
LOCATION:Wanaki Golf Course\, N50 W20830 Lisbon Rd\, Menomonee Falls\, WI\, WI\, 53051\, United States
CATEGORIES:Thurs Night League
ORGANIZER;CN="Al Brandt":MAILTO:abrandt1@wi.rr.com
END:VEVENT
BEGIN:VEVENT
DTSTART;TZID=America/Chicago:20200813T163000
DTEND;TZID=America/Chicago:20200813T203000
DTSTAMP:20260423T195106
CREATED:20200127T143900Z
LAST-MODIFIED:20200127T143900Z
UID:10000069-1597336200-1597350600@www.wanakimensclub.com
SUMMARY:Thursday Night Golf League
DESCRIPTION:
URL:https://www.wanakimensclub.com/event/thursday-night-golf-league-2/2020-08-13/
LOCATION:Wanaki Golf Course\, N50 W20830 Lisbon Rd\, Menomonee Falls\, WI\, WI\, 53051\, United States
CATEGORIES:Thurs Night League
ORGANIZER;CN="Al Brandt":MAILTO:abrandt1@wi.rr.com
END:VEVENT
BEGIN:VEVENT
DTSTART;TZID=America/Chicago:20200820T163000
DTEND;TZID=America/Chicago:20200820T203000
DTSTAMP:20260423T195106
CREATED:20200127T143900Z
LAST-MODIFIED:20200127T143900Z
UID:10000070-1597941000-1597955400@www.wanakimensclub.com
SUMMARY:Thursday Night Golf League
DESCRIPTION:
URL:https://www.wanakimensclub.com/event/thursday-night-golf-league-2/2020-08-20/
LOCATION:Wanaki Golf Course\, N50 W20830 Lisbon Rd\, Menomonee Falls\, WI\, WI\, 53051\, United States
CATEGORIES:Thurs Night League
ORGANIZER;CN="Al Brandt":MAILTO:abrandt1@wi.rr.com
END:VEVENT
BEGIN:VEVENT
DTSTART;TZID=America/Chicago:20210506T163000
DTEND;TZID=America/Chicago:20210506T203000
DTSTAMP:20260423T195106
CREATED:20210117T144216Z
LAST-MODIFIED:20210817T170428Z
UID:10000209-1620318600-1620333000@www.wanakimensclub.com
SUMMARY:Thursday Night Golf League
DESCRIPTION:
URL:https://www.wanakimensclub.com/event/thursday-night-golf-league-3/2021-05-06/
LOCATION:Wanaki Golf Course\, N50 W20830 Lisbon Rd\, Menomonee Falls\, WI\, WI\, 53051\, United States
CATEGORIES:Thurs Night League
ORGANIZER;CN="David Strackbein":MAILTO:dstrackbein@wi.rr.com
END:VEVENT
BEGIN:VEVENT
DTSTART;TZID=America/Chicago:20210513T163000
DTEND;TZID=America/Chicago:20210513T203000
DTSTAMP:20260423T195106
CREATED:20210117T144216Z
LAST-MODIFIED:20210817T170428Z
UID:10000210-1620923400-1620937800@www.wanakimensclub.com
SUMMARY:Thursday Night Golf League
DESCRIPTION:
URL:https://www.wanakimensclub.com/event/thursday-night-golf-league-3/2021-05-13/
LOCATION:Wanaki Golf Course\, N50 W20830 Lisbon Rd\, Menomonee Falls\, WI\, WI\, 53051\, United States
CATEGORIES:Thurs Night League
ORGANIZER;CN="David Strackbein":MAILTO:dstrackbein@wi.rr.com
END:VEVENT
BEGIN:VEVENT
DTSTART;TZID=America/Chicago:20210520T163000
DTEND;TZID=America/Chicago:20210520T203000
DTSTAMP:20260423T195106
CREATED:20210117T144216Z
LAST-MODIFIED:20210817T170428Z
UID:10000211-1621528200-1621542600@www.wanakimensclub.com
SUMMARY:Thursday Night Golf League
DESCRIPTION:
URL:https://www.wanakimensclub.com/event/thursday-night-golf-league-3/2021-05-20/
LOCATION:Wanaki Golf Course\, N50 W20830 Lisbon Rd\, Menomonee Falls\, WI\, WI\, 53051\, United States
CATEGORIES:Thurs Night League
ORGANIZER;CN="David Strackbein":MAILTO:dstrackbein@wi.rr.com
END:VEVENT
BEGIN:VEVENT
DTSTART;TZID=America/Chicago:20210527T163000
DTEND;TZID=America/Chicago:20210527T203000
DTSTAMP:20260423T195106
CREATED:20210117T144216Z
LAST-MODIFIED:20210817T170428Z
UID:10000212-1622133000-1622147400@www.wanakimensclub.com
SUMMARY:Thursday Night Golf League
DESCRIPTION:
URL:https://www.wanakimensclub.com/event/thursday-night-golf-league-3/2021-05-27/
LOCATION:Wanaki Golf Course\, N50 W20830 Lisbon Rd\, Menomonee Falls\, WI\, WI\, 53051\, United States
CATEGORIES:Thurs Night League
ORGANIZER;CN="David Strackbein":MAILTO:dstrackbein@wi.rr.com
END:VEVENT
BEGIN:VEVENT
DTSTART;TZID=America/Chicago:20210603T163000
DTEND;TZID=America/Chicago:20210603T203000
DTSTAMP:20260423T195106
CREATED:20210117T144216Z
LAST-MODIFIED:20210817T170428Z
UID:10000213-1622737800-1622752200@www.wanakimensclub.com
SUMMARY:Thursday Night Golf League
DESCRIPTION:
URL:https://www.wanakimensclub.com/event/thursday-night-golf-league-3/2021-06-03/
LOCATION:Wanaki Golf Course\, N50 W20830 Lisbon Rd\, Menomonee Falls\, WI\, WI\, 53051\, United States
CATEGORIES:Thurs Night League
ORGANIZER;CN="David Strackbein":MAILTO:dstrackbein@wi.rr.com
END:VEVENT
BEGIN:VEVENT
DTSTART;TZID=America/Chicago:20210610T163000
DTEND;TZID=America/Chicago:20210610T203000
DTSTAMP:20260423T195106
CREATED:20210117T144216Z
LAST-MODIFIED:20210817T170428Z
UID:10000214-1623342600-1623357000@www.wanakimensclub.com
SUMMARY:Thursday Night Golf League
DESCRIPTION:
URL:https://www.wanakimensclub.com/event/thursday-night-golf-league-3/2021-06-10/
LOCATION:Wanaki Golf Course\, N50 W20830 Lisbon Rd\, Menomonee Falls\, WI\, WI\, 53051\, United States
CATEGORIES:Thurs Night League
ORGANIZER;CN="David Strackbein":MAILTO:dstrackbein@wi.rr.com
END:VEVENT
BEGIN:VEVENT
DTSTART;TZID=America/Chicago:20210617T163000
DTEND;TZID=America/Chicago:20210617T203000
DTSTAMP:20260423T195106
CREATED:20210117T144216Z
LAST-MODIFIED:20210817T170428Z
UID:10000215-1623947400-1623961800@www.wanakimensclub.com
SUMMARY:Thursday Night Golf League
DESCRIPTION:
URL:https://www.wanakimensclub.com/event/thursday-night-golf-league-3/2021-06-17/
LOCATION:Wanaki Golf Course\, N50 W20830 Lisbon Rd\, Menomonee Falls\, WI\, WI\, 53051\, United States
CATEGORIES:Thurs Night League
ORGANIZER;CN="David Strackbein":MAILTO:dstrackbein@wi.rr.com
END:VEVENT
BEGIN:VEVENT
DTSTART;TZID=America/Chicago:20210624T163000
DTEND;TZID=America/Chicago:20210624T203000
DTSTAMP:20260423T195106
CREATED:20210117T144216Z
LAST-MODIFIED:20210817T170428Z
UID:10000216-1624552200-1624566600@www.wanakimensclub.com
SUMMARY:Thursday Night Golf League
DESCRIPTION:
URL:https://www.wanakimensclub.com/event/thursday-night-golf-league-3/2021-06-24/
LOCATION:Wanaki Golf Course\, N50 W20830 Lisbon Rd\, Menomonee Falls\, WI\, WI\, 53051\, United States
CATEGORIES:Thurs Night League
ORGANIZER;CN="David Strackbein":MAILTO:dstrackbein@wi.rr.com
END:VEVENT
BEGIN:VEVENT
DTSTART;TZID=America/Chicago:20210701T163000
DTEND;TZID=America/Chicago:20210701T203000
DTSTAMP:20260423T195106
CREATED:20210117T144216Z
LAST-MODIFIED:20210817T170428Z
UID:10000217-1625157000-1625171400@www.wanakimensclub.com
SUMMARY:Thursday Night Golf League
DESCRIPTION:
URL:https://www.wanakimensclub.com/event/thursday-night-golf-league-3/2021-07-01/
LOCATION:Wanaki Golf Course\, N50 W20830 Lisbon Rd\, Menomonee Falls\, WI\, WI\, 53051\, United States
CATEGORIES:Thurs Night League
ORGANIZER;CN="David Strackbein":MAILTO:dstrackbein@wi.rr.com
END:VEVENT
BEGIN:VEVENT
DTSTART;TZID=America/Chicago:20210708T163000
DTEND;TZID=America/Chicago:20210708T203000
DTSTAMP:20260423T195106
CREATED:20210117T144216Z
LAST-MODIFIED:20210817T170428Z
UID:10000218-1625761800-1625776200@www.wanakimensclub.com
SUMMARY:Thursday Night Golf League
DESCRIPTION:
URL:https://www.wanakimensclub.com/event/thursday-night-golf-league-3/2021-07-08/
LOCATION:Wanaki Golf Course\, N50 W20830 Lisbon Rd\, Menomonee Falls\, WI\, WI\, 53051\, United States
CATEGORIES:Thurs Night League
ORGANIZER;CN="David Strackbein":MAILTO:dstrackbein@wi.rr.com
END:VEVENT
BEGIN:VEVENT
DTSTART;TZID=America/Chicago:20210715T163000
DTEND;TZID=America/Chicago:20210715T203000
DTSTAMP:20260423T195106
CREATED:20210117T144216Z
LAST-MODIFIED:20210817T170428Z
UID:10000219-1626366600-1626381000@www.wanakimensclub.com
SUMMARY:Thursday Night Golf League
DESCRIPTION:
URL:https://www.wanakimensclub.com/event/thursday-night-golf-league-3/2021-07-15/
LOCATION:Wanaki Golf Course\, N50 W20830 Lisbon Rd\, Menomonee Falls\, WI\, WI\, 53051\, United States
CATEGORIES:Thurs Night League
ORGANIZER;CN="David Strackbein":MAILTO:dstrackbein@wi.rr.com
END:VEVENT
BEGIN:VEVENT
DTSTART;TZID=America/Chicago:20210722T163000
DTEND;TZID=America/Chicago:20210722T203000
DTSTAMP:20260423T195106
CREATED:20210117T144216Z
LAST-MODIFIED:20210817T170428Z
UID:10000220-1626971400-1626985800@www.wanakimensclub.com
SUMMARY:Thursday Night Golf League
DESCRIPTION:
URL:https://www.wanakimensclub.com/event/thursday-night-golf-league-3/2021-07-22/
LOCATION:Wanaki Golf Course\, N50 W20830 Lisbon Rd\, Menomonee Falls\, WI\, WI\, 53051\, United States
CATEGORIES:Thurs Night League
ORGANIZER;CN="David Strackbein":MAILTO:dstrackbein@wi.rr.com
END:VEVENT
BEGIN:VEVENT
DTSTART;TZID=America/Chicago:20210729T163000
DTEND;TZID=America/Chicago:20210729T203000
DTSTAMP:20260423T195106
CREATED:20210117T144216Z
LAST-MODIFIED:20210817T170428Z
UID:10000221-1627576200-1627590600@www.wanakimensclub.com
SUMMARY:Thursday Night Golf League
DESCRIPTION:
URL:https://www.wanakimensclub.com/event/thursday-night-golf-league-3/2021-07-29/
LOCATION:Wanaki Golf Course\, N50 W20830 Lisbon Rd\, Menomonee Falls\, WI\, WI\, 53051\, United States
CATEGORIES:Thurs Night League
ORGANIZER;CN="David Strackbein":MAILTO:dstrackbein@wi.rr.com
END:VEVENT
BEGIN:VEVENT
DTSTART;TZID=America/Chicago:20210805T163000
DTEND;TZID=America/Chicago:20210805T203000
DTSTAMP:20260423T195106
CREATED:20210117T144216Z
LAST-MODIFIED:20210817T170428Z
UID:10000222-1628181000-1628195400@www.wanakimensclub.com
SUMMARY:Thursday Night Golf League
DESCRIPTION:
URL:https://www.wanakimensclub.com/event/thursday-night-golf-league-3/2021-08-05/
LOCATION:Wanaki Golf Course\, N50 W20830 Lisbon Rd\, Menomonee Falls\, WI\, WI\, 53051\, United States
CATEGORIES:Thurs Night League
ORGANIZER;CN="David Strackbein":MAILTO:dstrackbein@wi.rr.com
END:VEVENT
BEGIN:VEVENT
DTSTART;TZID=America/Chicago:20210812T163000
DTEND;TZID=America/Chicago:20210812T203000
DTSTAMP:20260423T195106
CREATED:20210117T144216Z
LAST-MODIFIED:20210817T170428Z
UID:10000223-1628785800-1628800200@www.wanakimensclub.com
SUMMARY:Thursday Night Golf League
DESCRIPTION:
URL:https://www.wanakimensclub.com/event/thursday-night-golf-league-3/2021-08-12/
LOCATION:Wanaki Golf Course\, N50 W20830 Lisbon Rd\, Menomonee Falls\, WI\, WI\, 53051\, United States
CATEGORIES:Thurs Night League
ORGANIZER;CN="David Strackbein":MAILTO:dstrackbein@wi.rr.com
END:VEVENT
BEGIN:VEVENT
DTSTART;TZID=America/Chicago:20210819T163000
DTEND;TZID=America/Chicago:20210819T203000
DTSTAMP:20260423T195106
CREATED:20210117T144216Z
LAST-MODIFIED:20210817T170428Z
UID:10000224-1629390600-1629405000@www.wanakimensclub.com
SUMMARY:Thursday Night Golf League
DESCRIPTION:
URL:https://www.wanakimensclub.com/event/thursday-night-golf-league-3/2021-08-19/
LOCATION:Wanaki Golf Course\, N50 W20830 Lisbon Rd\, Menomonee Falls\, WI\, WI\, 53051\, United States
CATEGORIES:Thurs Night League
ORGANIZER;CN="David Strackbein":MAILTO:dstrackbein@wi.rr.com
END:VEVENT
BEGIN:VEVENT
DTSTART;TZID=America/Chicago:20210826T163000
DTEND;TZID=America/Chicago:20210826T203000
DTSTAMP:20260423T195106
CREATED:20210117T144216Z
LAST-MODIFIED:20210817T170428Z
UID:10000225-1629995400-1630009800@www.wanakimensclub.com
SUMMARY:Thursday Night Golf League
DESCRIPTION:
URL:https://www.wanakimensclub.com/event/thursday-night-golf-league-3/2021-08-26/
LOCATION:Wanaki Golf Course\, N50 W20830 Lisbon Rd\, Menomonee Falls\, WI\, WI\, 53051\, United States
CATEGORIES:Thurs Night League
ORGANIZER;CN="David Strackbein":MAILTO:dstrackbein@wi.rr.com
END:VEVENT
BEGIN:VEVENT
DTSTART;TZID=America/Chicago:20210902T163000
DTEND;TZID=America/Chicago:20210902T203000
DTSTAMP:20260423T195106
CREATED:20210117T144216Z
LAST-MODIFIED:20210817T170428Z
UID:10000226-1630600200-1630614600@www.wanakimensclub.com
SUMMARY:Thursday Night Golf League
DESCRIPTION:
URL:https://www.wanakimensclub.com/event/thursday-night-golf-league-3/2021-09-02/
LOCATION:Wanaki Golf Course\, N50 W20830 Lisbon Rd\, Menomonee Falls\, WI\, WI\, 53051\, United States
CATEGORIES:Thurs Night League
ORGANIZER;CN="David Strackbein":MAILTO:dstrackbein@wi.rr.com
END:VEVENT
BEGIN:VEVENT
DTSTART;TZID=America/Chicago:20220505T163000
DTEND;TZID=America/Chicago:20220505T203000
DTSTAMP:20260423T195106
CREATED:20220124T223732Z
LAST-MODIFIED:20220124T223732Z
UID:10000143-1651768200-1651782600@www.wanakimensclub.com
SUMMARY:Thursday Night Golf League
DESCRIPTION:
URL:https://www.wanakimensclub.com/event/thursday-night-golf-league-4/2022-05-05/
LOCATION:Wanaki Golf Course\, N50 W20830 Lisbon Rd\, Menomonee Falls\, WI\, WI\, 53051\, United States
CATEGORIES:Thurs Night League
ORGANIZER;CN="David Strackbein":MAILTO:dstrackbein@wi.rr.com
END:VEVENT
BEGIN:VEVENT
DTSTART;TZID=America/Chicago:20220512T163000
DTEND;TZID=America/Chicago:20220512T203000
DTSTAMP:20260423T195106
CREATED:20220124T223732Z
LAST-MODIFIED:20220124T223732Z
UID:10000144-1652373000-1652387400@www.wanakimensclub.com
SUMMARY:Thursday Night Golf League
DESCRIPTION:
URL:https://www.wanakimensclub.com/event/thursday-night-golf-league-4/2022-05-12/
LOCATION:Wanaki Golf Course\, N50 W20830 Lisbon Rd\, Menomonee Falls\, WI\, WI\, 53051\, United States
CATEGORIES:Thurs Night League
ORGANIZER;CN="David Strackbein":MAILTO:dstrackbein@wi.rr.com
END:VEVENT
BEGIN:VEVENT
DTSTART;TZID=America/Chicago:20220519T163000
DTEND;TZID=America/Chicago:20220519T203000
DTSTAMP:20260423T195106
CREATED:20220124T223732Z
LAST-MODIFIED:20220124T223732Z
UID:10000145-1652977800-1652992200@www.wanakimensclub.com
SUMMARY:Thursday Night Golf League
DESCRIPTION:
URL:https://www.wanakimensclub.com/event/thursday-night-golf-league-4/2022-05-19/
LOCATION:Wanaki Golf Course\, N50 W20830 Lisbon Rd\, Menomonee Falls\, WI\, WI\, 53051\, United States
CATEGORIES:Thurs Night League
ORGANIZER;CN="David Strackbein":MAILTO:dstrackbein@wi.rr.com
END:VEVENT
BEGIN:VEVENT
DTSTART;TZID=America/Chicago:20220526T163000
DTEND;TZID=America/Chicago:20220526T203000
DTSTAMP:20260423T195106
CREATED:20220124T223732Z
LAST-MODIFIED:20220124T223732Z
UID:10000146-1653582600-1653597000@www.wanakimensclub.com
SUMMARY:Thursday Night Golf League
DESCRIPTION:
URL:https://www.wanakimensclub.com/event/thursday-night-golf-league-4/2022-05-26/
LOCATION:Wanaki Golf Course\, N50 W20830 Lisbon Rd\, Menomonee Falls\, WI\, WI\, 53051\, United States
CATEGORIES:Thurs Night League
ORGANIZER;CN="David Strackbein":MAILTO:dstrackbein@wi.rr.com
END:VEVENT
BEGIN:VEVENT
DTSTART;TZID=America/Chicago:20220602T163000
DTEND;TZID=America/Chicago:20220602T203000
DTSTAMP:20260423T195106
CREATED:20220124T223732Z
LAST-MODIFIED:20220124T223732Z
UID:10000147-1654187400-1654201800@www.wanakimensclub.com
SUMMARY:Thursday Night Golf League
DESCRIPTION:
URL:https://www.wanakimensclub.com/event/thursday-night-golf-league-4/2022-06-02/
LOCATION:Wanaki Golf Course\, N50 W20830 Lisbon Rd\, Menomonee Falls\, WI\, WI\, 53051\, United States
CATEGORIES:Thurs Night League
ORGANIZER;CN="David Strackbein":MAILTO:dstrackbein@wi.rr.com
END:VEVENT
BEGIN:VEVENT
DTSTART;TZID=America/Chicago:20220609T163000
DTEND;TZID=America/Chicago:20220609T203000
DTSTAMP:20260423T195106
CREATED:20220124T223732Z
LAST-MODIFIED:20220124T223732Z
UID:10000148-1654792200-1654806600@www.wanakimensclub.com
SUMMARY:Thursday Night Golf League
DESCRIPTION:
URL:https://www.wanakimensclub.com/event/thursday-night-golf-league-4/2022-06-09/
LOCATION:Wanaki Golf Course\, N50 W20830 Lisbon Rd\, Menomonee Falls\, WI\, WI\, 53051\, United States
CATEGORIES:Thurs Night League
ORGANIZER;CN="David Strackbein":MAILTO:dstrackbein@wi.rr.com
END:VEVENT
BEGIN:VEVENT
DTSTART;TZID=America/Chicago:20220616T163000
DTEND;TZID=America/Chicago:20220616T203000
DTSTAMP:20260423T195106
CREATED:20220124T223732Z
LAST-MODIFIED:20220124T223732Z
UID:10000149-1655397000-1655411400@www.wanakimensclub.com
SUMMARY:Thursday Night Golf League
DESCRIPTION:
URL:https://www.wanakimensclub.com/event/thursday-night-golf-league-4/2022-06-16/
LOCATION:Wanaki Golf Course\, N50 W20830 Lisbon Rd\, Menomonee Falls\, WI\, WI\, 53051\, United States
CATEGORIES:Thurs Night League
ORGANIZER;CN="David Strackbein":MAILTO:dstrackbein@wi.rr.com
END:VEVENT
BEGIN:VEVENT
DTSTART;TZID=America/Chicago:20220623T163000
DTEND;TZID=America/Chicago:20220623T203000
DTSTAMP:20260423T195106
CREATED:20220124T223732Z
LAST-MODIFIED:20220124T223732Z
UID:10000150-1656001800-1656016200@www.wanakimensclub.com
SUMMARY:Thursday Night Golf League
DESCRIPTION:
URL:https://www.wanakimensclub.com/event/thursday-night-golf-league-4/2022-06-23/
LOCATION:Wanaki Golf Course\, N50 W20830 Lisbon Rd\, Menomonee Falls\, WI\, WI\, 53051\, United States
CATEGORIES:Thurs Night League
ORGANIZER;CN="David Strackbein":MAILTO:dstrackbein@wi.rr.com
END:VEVENT
BEGIN:VEVENT
DTSTART;TZID=America/Chicago:20220630T163000
DTEND;TZID=America/Chicago:20220630T203000
DTSTAMP:20260423T195106
CREATED:20220124T223732Z
LAST-MODIFIED:20220124T223732Z
UID:10000151-1656606600-1656621000@www.wanakimensclub.com
SUMMARY:Thursday Night Golf League
DESCRIPTION:
URL:https://www.wanakimensclub.com/event/thursday-night-golf-league-4/2022-06-30/
LOCATION:Wanaki Golf Course\, N50 W20830 Lisbon Rd\, Menomonee Falls\, WI\, WI\, 53051\, United States
CATEGORIES:Thurs Night League
ORGANIZER;CN="David Strackbein":MAILTO:dstrackbein@wi.rr.com
END:VEVENT
END:VCALENDAR