BEGIN:VCALENDAR
VERSION:2.0
PRODID:-//Wanaki Men&#039;s Club - ECPv6.15.18//NONSGML v1.0//EN
CALSCALE:GREGORIAN
METHOD:PUBLISH
X-WR-CALNAME:Wanaki Men&#039;s Club
X-ORIGINAL-URL:https://www.wanakimensclub.com
X-WR-CALDESC:Events for Wanaki Men&#039;s Club
REFRESH-INTERVAL;VALUE=DURATION:PT1H
X-Robots-Tag:noindex
X-PUBLISHED-TTL:PT1H
BEGIN:VTIMEZONE
TZID:America/Chicago
BEGIN:DAYLIGHT
TZOFFSETFROM:-0600
TZOFFSETTO:-0500
TZNAME:CDT
DTSTART:20190310T080000
END:DAYLIGHT
BEGIN:STANDARD
TZOFFSETFROM:-0500
TZOFFSETTO:-0600
TZNAME:CST
DTSTART:20191103T070000
END:STANDARD
BEGIN:DAYLIGHT
TZOFFSETFROM:-0600
TZOFFSETTO:-0500
TZNAME:CDT
DTSTART:20200308T080000
END:DAYLIGHT
BEGIN:STANDARD
TZOFFSETFROM:-0500
TZOFFSETTO:-0600
TZNAME:CST
DTSTART:20201101T070000
END:STANDARD
BEGIN:DAYLIGHT
TZOFFSETFROM:-0600
TZOFFSETTO:-0500
TZNAME:CDT
DTSTART:20210314T080000
END:DAYLIGHT
BEGIN:STANDARD
TZOFFSETFROM:-0500
TZOFFSETTO:-0600
TZNAME:CST
DTSTART:20211107T070000
END:STANDARD
BEGIN:DAYLIGHT
TZOFFSETFROM:-0600
TZOFFSETTO:-0500
TZNAME:CDT
DTSTART:20220313T080000
END:DAYLIGHT
BEGIN:STANDARD
TZOFFSETFROM:-0500
TZOFFSETTO:-0600
TZNAME:CST
DTSTART:20221106T070000
END:STANDARD
BEGIN:DAYLIGHT
TZOFFSETFROM:-0600
TZOFFSETTO:-0500
TZNAME:CDT
DTSTART:20230312T080000
END:DAYLIGHT
BEGIN:STANDARD
TZOFFSETFROM:-0500
TZOFFSETTO:-0600
TZNAME:CST
DTSTART:20231105T070000
END:STANDARD
END:VTIMEZONE
BEGIN:VEVENT
DTSTART;TZID=America/Chicago:20200812T163000
DTEND;TZID=America/Chicago:20200812T203000
DTSTAMP:20260424T000007
CREATED:20200127T143207Z
LAST-MODIFIED:20200423T005245Z
UID:10000266-1597249800-1597264200@www.wanakimensclub.com
SUMMARY:Wednesday Night Golf League
DESCRIPTION:
URL:https://www.wanakimensclub.com/event/wednesday-night-golf-league-2/2020-08-12/
LOCATION:Wanaki Golf Course\, N50 W20830 Lisbon Rd\, Menomonee Falls\, WI\, WI\, 53051\, United States
CATEGORIES:Wed Night League
ORGANIZER;CN="Martin Cherney Sr.":MAILTO:mcherney@sbcglobal.net
END:VEVENT
BEGIN:VEVENT
DTSTART;TZID=America/Chicago:20200819T163000
DTEND;TZID=America/Chicago:20200819T203000
DTSTAMP:20260424T000007
CREATED:20200127T143207Z
LAST-MODIFIED:20200423T005245Z
UID:10000267-1597854600-1597869000@www.wanakimensclub.com
SUMMARY:Wednesday Night Golf League
DESCRIPTION:
URL:https://www.wanakimensclub.com/event/wednesday-night-golf-league-2/2020-08-19/
LOCATION:Wanaki Golf Course\, N50 W20830 Lisbon Rd\, Menomonee Falls\, WI\, WI\, 53051\, United States
CATEGORIES:Wed Night League
ORGANIZER;CN="Martin Cherney Sr.":MAILTO:mcherney@sbcglobal.net
END:VEVENT
BEGIN:VEVENT
DTSTART;TZID=America/Chicago:20210505T163000
DTEND;TZID=America/Chicago:20210505T203000
DTSTAMP:20260424T000007
CREATED:20210117T150141Z
LAST-MODIFIED:20210817T170026Z
UID:10000227-1620232200-1620246600@www.wanakimensclub.com
SUMMARY:Wednesday Night Golf League
DESCRIPTION:
URL:https://www.wanakimensclub.com/event/wednesday-night-golf-league-3/2021-05-05/
LOCATION:Wanaki Golf Course\, N50 W20830 Lisbon Rd\, Menomonee Falls\, WI\, WI\, 53051\, United States
CATEGORIES:Wed Night League
ORGANIZER;CN="Martin Cherney Sr.":MAILTO:mcherney@sbcglobal.net
END:VEVENT
BEGIN:VEVENT
DTSTART;TZID=America/Chicago:20210512T163000
DTEND;TZID=America/Chicago:20210512T203000
DTSTAMP:20260424T000007
CREATED:20210117T150141Z
LAST-MODIFIED:20210817T170026Z
UID:10000228-1620837000-1620851400@www.wanakimensclub.com
SUMMARY:Wednesday Night Golf League
DESCRIPTION:
URL:https://www.wanakimensclub.com/event/wednesday-night-golf-league-3/2021-05-12/
LOCATION:Wanaki Golf Course\, N50 W20830 Lisbon Rd\, Menomonee Falls\, WI\, WI\, 53051\, United States
CATEGORIES:Wed Night League
ORGANIZER;CN="Martin Cherney Sr.":MAILTO:mcherney@sbcglobal.net
END:VEVENT
BEGIN:VEVENT
DTSTART;TZID=America/Chicago:20210519T163000
DTEND;TZID=America/Chicago:20210519T203000
DTSTAMP:20260424T000007
CREATED:20210117T150141Z
LAST-MODIFIED:20210817T170026Z
UID:10000229-1621441800-1621456200@www.wanakimensclub.com
SUMMARY:Wednesday Night Golf League
DESCRIPTION:
URL:https://www.wanakimensclub.com/event/wednesday-night-golf-league-3/2021-05-19/
LOCATION:Wanaki Golf Course\, N50 W20830 Lisbon Rd\, Menomonee Falls\, WI\, WI\, 53051\, United States
CATEGORIES:Wed Night League
ORGANIZER;CN="Martin Cherney Sr.":MAILTO:mcherney@sbcglobal.net
END:VEVENT
BEGIN:VEVENT
DTSTART;TZID=America/Chicago:20210526T163000
DTEND;TZID=America/Chicago:20210526T203000
DTSTAMP:20260424T000007
CREATED:20210117T150141Z
LAST-MODIFIED:20210817T170026Z
UID:10000230-1622046600-1622061000@www.wanakimensclub.com
SUMMARY:Wednesday Night Golf League
DESCRIPTION:
URL:https://www.wanakimensclub.com/event/wednesday-night-golf-league-3/2021-05-26/
LOCATION:Wanaki Golf Course\, N50 W20830 Lisbon Rd\, Menomonee Falls\, WI\, WI\, 53051\, United States
CATEGORIES:Wed Night League
ORGANIZER;CN="Martin Cherney Sr.":MAILTO:mcherney@sbcglobal.net
END:VEVENT
BEGIN:VEVENT
DTSTART;TZID=America/Chicago:20210602T163000
DTEND;TZID=America/Chicago:20210602T203000
DTSTAMP:20260424T000007
CREATED:20210117T150141Z
LAST-MODIFIED:20210817T170026Z
UID:10000231-1622651400-1622665800@www.wanakimensclub.com
SUMMARY:Wednesday Night Golf League
DESCRIPTION:
URL:https://www.wanakimensclub.com/event/wednesday-night-golf-league-3/2021-06-02/
LOCATION:Wanaki Golf Course\, N50 W20830 Lisbon Rd\, Menomonee Falls\, WI\, WI\, 53051\, United States
CATEGORIES:Wed Night League
ORGANIZER;CN="Martin Cherney Sr.":MAILTO:mcherney@sbcglobal.net
END:VEVENT
BEGIN:VEVENT
DTSTART;TZID=America/Chicago:20210609T163000
DTEND;TZID=America/Chicago:20210609T203000
DTSTAMP:20260424T000007
CREATED:20210117T150141Z
LAST-MODIFIED:20210817T170026Z
UID:10000232-1623256200-1623270600@www.wanakimensclub.com
SUMMARY:Wednesday Night Golf League
DESCRIPTION:
URL:https://www.wanakimensclub.com/event/wednesday-night-golf-league-3/2021-06-09/
LOCATION:Wanaki Golf Course\, N50 W20830 Lisbon Rd\, Menomonee Falls\, WI\, WI\, 53051\, United States
CATEGORIES:Wed Night League
ORGANIZER;CN="Martin Cherney Sr.":MAILTO:mcherney@sbcglobal.net
END:VEVENT
BEGIN:VEVENT
DTSTART;TZID=America/Chicago:20210616T163000
DTEND;TZID=America/Chicago:20210616T203000
DTSTAMP:20260424T000007
CREATED:20210117T150141Z
LAST-MODIFIED:20210817T170026Z
UID:10000233-1623861000-1623875400@www.wanakimensclub.com
SUMMARY:Wednesday Night Golf League
DESCRIPTION:
URL:https://www.wanakimensclub.com/event/wednesday-night-golf-league-3/2021-06-16/
LOCATION:Wanaki Golf Course\, N50 W20830 Lisbon Rd\, Menomonee Falls\, WI\, WI\, 53051\, United States
CATEGORIES:Wed Night League
ORGANIZER;CN="Martin Cherney Sr.":MAILTO:mcherney@sbcglobal.net
END:VEVENT
BEGIN:VEVENT
DTSTART;TZID=America/Chicago:20210623T163000
DTEND;TZID=America/Chicago:20210623T203000
DTSTAMP:20260424T000007
CREATED:20210117T150141Z
LAST-MODIFIED:20210817T170026Z
UID:10000234-1624465800-1624480200@www.wanakimensclub.com
SUMMARY:Wednesday Night Golf League
DESCRIPTION:
URL:https://www.wanakimensclub.com/event/wednesday-night-golf-league-3/2021-06-23/
LOCATION:Wanaki Golf Course\, N50 W20830 Lisbon Rd\, Menomonee Falls\, WI\, WI\, 53051\, United States
CATEGORIES:Wed Night League
ORGANIZER;CN="Martin Cherney Sr.":MAILTO:mcherney@sbcglobal.net
END:VEVENT
BEGIN:VEVENT
DTSTART;TZID=America/Chicago:20210630T163000
DTEND;TZID=America/Chicago:20210630T203000
DTSTAMP:20260424T000007
CREATED:20210117T150141Z
LAST-MODIFIED:20210817T170026Z
UID:10000235-1625070600-1625085000@www.wanakimensclub.com
SUMMARY:Wednesday Night Golf League
DESCRIPTION:
URL:https://www.wanakimensclub.com/event/wednesday-night-golf-league-3/2021-06-30/
LOCATION:Wanaki Golf Course\, N50 W20830 Lisbon Rd\, Menomonee Falls\, WI\, WI\, 53051\, United States
CATEGORIES:Wed Night League
ORGANIZER;CN="Martin Cherney Sr.":MAILTO:mcherney@sbcglobal.net
END:VEVENT
BEGIN:VEVENT
DTSTART;TZID=America/Chicago:20210707T163000
DTEND;TZID=America/Chicago:20210707T203000
DTSTAMP:20260424T000007
CREATED:20210117T150141Z
LAST-MODIFIED:20210817T170026Z
UID:10000236-1625675400-1625689800@www.wanakimensclub.com
SUMMARY:Wednesday Night Golf League
DESCRIPTION:
URL:https://www.wanakimensclub.com/event/wednesday-night-golf-league-3/2021-07-07/
LOCATION:Wanaki Golf Course\, N50 W20830 Lisbon Rd\, Menomonee Falls\, WI\, WI\, 53051\, United States
CATEGORIES:Wed Night League
ORGANIZER;CN="Martin Cherney Sr.":MAILTO:mcherney@sbcglobal.net
END:VEVENT
BEGIN:VEVENT
DTSTART;TZID=America/Chicago:20210714T163000
DTEND;TZID=America/Chicago:20210714T203000
DTSTAMP:20260424T000007
CREATED:20210117T150141Z
LAST-MODIFIED:20210817T170026Z
UID:10000237-1626280200-1626294600@www.wanakimensclub.com
SUMMARY:Wednesday Night Golf League
DESCRIPTION:
URL:https://www.wanakimensclub.com/event/wednesday-night-golf-league-3/2021-07-14/
LOCATION:Wanaki Golf Course\, N50 W20830 Lisbon Rd\, Menomonee Falls\, WI\, WI\, 53051\, United States
CATEGORIES:Wed Night League
ORGANIZER;CN="Martin Cherney Sr.":MAILTO:mcherney@sbcglobal.net
END:VEVENT
BEGIN:VEVENT
DTSTART;TZID=America/Chicago:20210721T163000
DTEND;TZID=America/Chicago:20210721T203000
DTSTAMP:20260424T000007
CREATED:20210117T150141Z
LAST-MODIFIED:20210817T170026Z
UID:10000238-1626885000-1626899400@www.wanakimensclub.com
SUMMARY:Wednesday Night Golf League
DESCRIPTION:
URL:https://www.wanakimensclub.com/event/wednesday-night-golf-league-3/2021-07-21/
LOCATION:Wanaki Golf Course\, N50 W20830 Lisbon Rd\, Menomonee Falls\, WI\, WI\, 53051\, United States
CATEGORIES:Wed Night League
ORGANIZER;CN="Martin Cherney Sr.":MAILTO:mcherney@sbcglobal.net
END:VEVENT
BEGIN:VEVENT
DTSTART;TZID=America/Chicago:20210728T163000
DTEND;TZID=America/Chicago:20210728T203000
DTSTAMP:20260424T000007
CREATED:20210117T150141Z
LAST-MODIFIED:20210817T170026Z
UID:10000239-1627489800-1627504200@www.wanakimensclub.com
SUMMARY:Wednesday Night Golf League
DESCRIPTION:
URL:https://www.wanakimensclub.com/event/wednesday-night-golf-league-3/2021-07-28/
LOCATION:Wanaki Golf Course\, N50 W20830 Lisbon Rd\, Menomonee Falls\, WI\, WI\, 53051\, United States
CATEGORIES:Wed Night League
ORGANIZER;CN="Martin Cherney Sr.":MAILTO:mcherney@sbcglobal.net
END:VEVENT
BEGIN:VEVENT
DTSTART;TZID=America/Chicago:20210804T163000
DTEND;TZID=America/Chicago:20210804T203000
DTSTAMP:20260424T000007
CREATED:20210117T150141Z
LAST-MODIFIED:20210817T170026Z
UID:10000240-1628094600-1628109000@www.wanakimensclub.com
SUMMARY:Wednesday Night Golf League
DESCRIPTION:
URL:https://www.wanakimensclub.com/event/wednesday-night-golf-league-3/2021-08-04/
LOCATION:Wanaki Golf Course\, N50 W20830 Lisbon Rd\, Menomonee Falls\, WI\, WI\, 53051\, United States
CATEGORIES:Wed Night League
ORGANIZER;CN="Martin Cherney Sr.":MAILTO:mcherney@sbcglobal.net
END:VEVENT
BEGIN:VEVENT
DTSTART;TZID=America/Chicago:20210811T163000
DTEND;TZID=America/Chicago:20210811T203000
DTSTAMP:20260424T000007
CREATED:20210117T150141Z
LAST-MODIFIED:20210817T170026Z
UID:10000241-1628699400-1628713800@www.wanakimensclub.com
SUMMARY:Wednesday Night Golf League
DESCRIPTION:
URL:https://www.wanakimensclub.com/event/wednesday-night-golf-league-3/2021-08-11/
LOCATION:Wanaki Golf Course\, N50 W20830 Lisbon Rd\, Menomonee Falls\, WI\, WI\, 53051\, United States
CATEGORIES:Wed Night League
ORGANIZER;CN="Martin Cherney Sr.":MAILTO:mcherney@sbcglobal.net
END:VEVENT
BEGIN:VEVENT
DTSTART;TZID=America/Chicago:20210818T163000
DTEND;TZID=America/Chicago:20210818T203000
DTSTAMP:20260424T000007
CREATED:20210117T150141Z
LAST-MODIFIED:20210817T170026Z
UID:10000242-1629304200-1629318600@www.wanakimensclub.com
SUMMARY:Wednesday Night Golf League
DESCRIPTION:
URL:https://www.wanakimensclub.com/event/wednesday-night-golf-league-3/2021-08-18/
LOCATION:Wanaki Golf Course\, N50 W20830 Lisbon Rd\, Menomonee Falls\, WI\, WI\, 53051\, United States
CATEGORIES:Wed Night League
ORGANIZER;CN="Martin Cherney Sr.":MAILTO:mcherney@sbcglobal.net
END:VEVENT
BEGIN:VEVENT
DTSTART;TZID=America/Chicago:20210825T163000
DTEND;TZID=America/Chicago:20210825T203000
DTSTAMP:20260424T000007
CREATED:20210117T150141Z
LAST-MODIFIED:20210817T170026Z
UID:10000243-1629909000-1629923400@www.wanakimensclub.com
SUMMARY:Wednesday Night Golf League
DESCRIPTION:
URL:https://www.wanakimensclub.com/event/wednesday-night-golf-league-3/2021-08-25/
LOCATION:Wanaki Golf Course\, N50 W20830 Lisbon Rd\, Menomonee Falls\, WI\, WI\, 53051\, United States
CATEGORIES:Wed Night League
ORGANIZER;CN="Martin Cherney Sr.":MAILTO:mcherney@sbcglobal.net
END:VEVENT
BEGIN:VEVENT
DTSTART;TZID=America/Chicago:20220504T163000
DTEND;TZID=America/Chicago:20220504T203000
DTSTAMP:20260424T000007
CREATED:20220124T224037Z
LAST-MODIFIED:20220124T224135Z
UID:10000303-1651681800-1651696200@www.wanakimensclub.com
SUMMARY:Wednesday Night Golf League
DESCRIPTION:
URL:https://www.wanakimensclub.com/event/wednesday-night-golf-league-4/2022-05-04/
LOCATION:Wanaki Golf Course\, N50 W20830 Lisbon Rd\, Menomonee Falls\, WI\, WI\, 53051\, United States
CATEGORIES:Wed Night League
ORGANIZER;CN="Bob Hart":MAILTO:amscrayhart62@yahoo.com
END:VEVENT
BEGIN:VEVENT
DTSTART;TZID=America/Chicago:20220511T163000
DTEND;TZID=America/Chicago:20220511T203000
DTSTAMP:20260424T000007
CREATED:20220124T224037Z
LAST-MODIFIED:20220124T224135Z
UID:10000304-1652286600-1652301000@www.wanakimensclub.com
SUMMARY:Wednesday Night Golf League
DESCRIPTION:
URL:https://www.wanakimensclub.com/event/wednesday-night-golf-league-4/2022-05-11/
LOCATION:Wanaki Golf Course\, N50 W20830 Lisbon Rd\, Menomonee Falls\, WI\, WI\, 53051\, United States
CATEGORIES:Wed Night League
ORGANIZER;CN="Bob Hart":MAILTO:amscrayhart62@yahoo.com
END:VEVENT
BEGIN:VEVENT
DTSTART;TZID=America/Chicago:20220518T163000
DTEND;TZID=America/Chicago:20220518T203000
DTSTAMP:20260424T000007
CREATED:20220124T224037Z
LAST-MODIFIED:20220124T224135Z
UID:10000305-1652891400-1652905800@www.wanakimensclub.com
SUMMARY:Wednesday Night Golf League
DESCRIPTION:
URL:https://www.wanakimensclub.com/event/wednesday-night-golf-league-4/2022-05-18/
LOCATION:Wanaki Golf Course\, N50 W20830 Lisbon Rd\, Menomonee Falls\, WI\, WI\, 53051\, United States
CATEGORIES:Wed Night League
ORGANIZER;CN="Bob Hart":MAILTO:amscrayhart62@yahoo.com
END:VEVENT
BEGIN:VEVENT
DTSTART;TZID=America/Chicago:20220525T163000
DTEND;TZID=America/Chicago:20220525T203000
DTSTAMP:20260424T000007
CREATED:20220124T224037Z
LAST-MODIFIED:20220124T224135Z
UID:10000306-1653496200-1653510600@www.wanakimensclub.com
SUMMARY:Wednesday Night Golf League
DESCRIPTION:
URL:https://www.wanakimensclub.com/event/wednesday-night-golf-league-4/2022-05-25/
LOCATION:Wanaki Golf Course\, N50 W20830 Lisbon Rd\, Menomonee Falls\, WI\, WI\, 53051\, United States
CATEGORIES:Wed Night League
ORGANIZER;CN="Bob Hart":MAILTO:amscrayhart62@yahoo.com
END:VEVENT
BEGIN:VEVENT
DTSTART;TZID=America/Chicago:20220601T163000
DTEND;TZID=America/Chicago:20220601T203000
DTSTAMP:20260424T000007
CREATED:20220124T224037Z
LAST-MODIFIED:20220124T224135Z
UID:10000307-1654101000-1654115400@www.wanakimensclub.com
SUMMARY:Wednesday Night Golf League
DESCRIPTION:
URL:https://www.wanakimensclub.com/event/wednesday-night-golf-league-4/2022-06-01/
LOCATION:Wanaki Golf Course\, N50 W20830 Lisbon Rd\, Menomonee Falls\, WI\, WI\, 53051\, United States
CATEGORIES:Wed Night League
ORGANIZER;CN="Bob Hart":MAILTO:amscrayhart62@yahoo.com
END:VEVENT
BEGIN:VEVENT
DTSTART;TZID=America/Chicago:20220608T163000
DTEND;TZID=America/Chicago:20220608T203000
DTSTAMP:20260424T000007
CREATED:20220124T224037Z
LAST-MODIFIED:20220124T224135Z
UID:10000308-1654705800-1654720200@www.wanakimensclub.com
SUMMARY:Wednesday Night Golf League
DESCRIPTION:
URL:https://www.wanakimensclub.com/event/wednesday-night-golf-league-4/2022-06-08/
LOCATION:Wanaki Golf Course\, N50 W20830 Lisbon Rd\, Menomonee Falls\, WI\, WI\, 53051\, United States
CATEGORIES:Wed Night League
ORGANIZER;CN="Bob Hart":MAILTO:amscrayhart62@yahoo.com
END:VEVENT
BEGIN:VEVENT
DTSTART;TZID=America/Chicago:20220615T163000
DTEND;TZID=America/Chicago:20220615T203000
DTSTAMP:20260424T000007
CREATED:20220124T224037Z
LAST-MODIFIED:20220124T224135Z
UID:10000309-1655310600-1655325000@www.wanakimensclub.com
SUMMARY:Wednesday Night Golf League
DESCRIPTION:
URL:https://www.wanakimensclub.com/event/wednesday-night-golf-league-4/2022-06-15/
LOCATION:Wanaki Golf Course\, N50 W20830 Lisbon Rd\, Menomonee Falls\, WI\, WI\, 53051\, United States
CATEGORIES:Wed Night League
ORGANIZER;CN="Bob Hart":MAILTO:amscrayhart62@yahoo.com
END:VEVENT
BEGIN:VEVENT
DTSTART;TZID=America/Chicago:20220622T163000
DTEND;TZID=America/Chicago:20220622T203000
DTSTAMP:20260424T000007
CREATED:20220124T224037Z
LAST-MODIFIED:20220124T224135Z
UID:10000310-1655915400-1655929800@www.wanakimensclub.com
SUMMARY:Wednesday Night Golf League
DESCRIPTION:
URL:https://www.wanakimensclub.com/event/wednesday-night-golf-league-4/2022-06-22/
LOCATION:Wanaki Golf Course\, N50 W20830 Lisbon Rd\, Menomonee Falls\, WI\, WI\, 53051\, United States
CATEGORIES:Wed Night League
ORGANIZER;CN="Bob Hart":MAILTO:amscrayhart62@yahoo.com
END:VEVENT
BEGIN:VEVENT
DTSTART;TZID=America/Chicago:20220629T163000
DTEND;TZID=America/Chicago:20220629T203000
DTSTAMP:20260424T000007
CREATED:20220124T224037Z
LAST-MODIFIED:20220124T224135Z
UID:10000311-1656520200-1656534600@www.wanakimensclub.com
SUMMARY:Wednesday Night Golf League
DESCRIPTION:
URL:https://www.wanakimensclub.com/event/wednesday-night-golf-league-4/2022-06-29/
LOCATION:Wanaki Golf Course\, N50 W20830 Lisbon Rd\, Menomonee Falls\, WI\, WI\, 53051\, United States
CATEGORIES:Wed Night League
ORGANIZER;CN="Bob Hart":MAILTO:amscrayhart62@yahoo.com
END:VEVENT
BEGIN:VEVENT
DTSTART;TZID=America/Chicago:20220706T163000
DTEND;TZID=America/Chicago:20220706T203000
DTSTAMP:20260424T000007
CREATED:20220124T224037Z
LAST-MODIFIED:20220124T224135Z
UID:10000312-1657125000-1657139400@www.wanakimensclub.com
SUMMARY:Wednesday Night Golf League
DESCRIPTION:
URL:https://www.wanakimensclub.com/event/wednesday-night-golf-league-4/2022-07-06/
LOCATION:Wanaki Golf Course\, N50 W20830 Lisbon Rd\, Menomonee Falls\, WI\, WI\, 53051\, United States
CATEGORIES:Wed Night League
ORGANIZER;CN="Bob Hart":MAILTO:amscrayhart62@yahoo.com
END:VEVENT
BEGIN:VEVENT
DTSTART;TZID=America/Chicago:20220713T163000
DTEND;TZID=America/Chicago:20220713T203000
DTSTAMP:20260424T000007
CREATED:20220124T224037Z
LAST-MODIFIED:20220124T224135Z
UID:10000313-1657729800-1657744200@www.wanakimensclub.com
SUMMARY:Wednesday Night Golf League
DESCRIPTION:
URL:https://www.wanakimensclub.com/event/wednesday-night-golf-league-4/2022-07-13/
LOCATION:Wanaki Golf Course\, N50 W20830 Lisbon Rd\, Menomonee Falls\, WI\, WI\, 53051\, United States
CATEGORIES:Wed Night League
ORGANIZER;CN="Bob Hart":MAILTO:amscrayhart62@yahoo.com
END:VEVENT
END:VCALENDAR