BEGIN:VCALENDAR
VERSION:2.0
PRODID:-//Wanaki Men&#039;s Club - ECPv6.15.18//NONSGML v1.0//EN
CALSCALE:GREGORIAN
METHOD:PUBLISH
X-ORIGINAL-URL:https://www.wanakimensclub.com
X-WR-CALDESC:Events for Wanaki Men&#039;s Club
REFRESH-INTERVAL;VALUE=DURATION:PT1H
X-Robots-Tag:noindex
X-PUBLISHED-TTL:PT1H
BEGIN:VTIMEZONE
TZID:America/Chicago
BEGIN:DAYLIGHT
TZOFFSETFROM:-0600
TZOFFSETTO:-0500
TZNAME:CDT
DTSTART:20220313T080000
END:DAYLIGHT
BEGIN:STANDARD
TZOFFSETFROM:-0500
TZOFFSETTO:-0600
TZNAME:CST
DTSTART:20221106T070000
END:STANDARD
BEGIN:DAYLIGHT
TZOFFSETFROM:-0600
TZOFFSETTO:-0500
TZNAME:CDT
DTSTART:20230312T080000
END:DAYLIGHT
BEGIN:STANDARD
TZOFFSETFROM:-0500
TZOFFSETTO:-0600
TZNAME:CST
DTSTART:20231105T070000
END:STANDARD
BEGIN:DAYLIGHT
TZOFFSETFROM:-0600
TZOFFSETTO:-0500
TZNAME:CDT
DTSTART:20240310T080000
END:DAYLIGHT
BEGIN:STANDARD
TZOFFSETFROM:-0500
TZOFFSETTO:-0600
TZNAME:CST
DTSTART:20241103T070000
END:STANDARD
BEGIN:DAYLIGHT
TZOFFSETFROM:-0600
TZOFFSETTO:-0500
TZNAME:CDT
DTSTART:20250309T080000
END:DAYLIGHT
BEGIN:STANDARD
TZOFFSETFROM:-0500
TZOFFSETTO:-0600
TZNAME:CST
DTSTART:20251102T070000
END:STANDARD
BEGIN:DAYLIGHT
TZOFFSETFROM:-0600
TZOFFSETTO:-0500
TZNAME:CDT
DTSTART:20260308T080000
END:DAYLIGHT
BEGIN:STANDARD
TZOFFSETFROM:-0500
TZOFFSETTO:-0600
TZNAME:CST
DTSTART:20261101T070000
END:STANDARD
END:VTIMEZONE
BEGIN:VEVENT
DTSTART;TZID=America/Chicago:20250611T163000
DTEND;TZID=America/Chicago:20250611T203000
DTSTAMP:20260423T153805
CREATED:20250117T161221Z
LAST-MODIFIED:20250117T161221Z
UID:10000512-1749659400-1749673800@www.wanakimensclub.com
SUMMARY:2025 Wednesday Night Golf League
DESCRIPTION:
URL:https://www.wanakimensclub.com/event/2025-wednesday-night-golf-league/2025-06-11/
LOCATION:Wanaki Golf Course\, N50 W20830 Lisbon Rd\, Menomonee Falls\, WI\, WI\, 53051\, United States
CATEGORIES:Wed Night League
ORGANIZER;CN="Bob Hart":MAILTO:amscrayhart62@yahoo.com
END:VEVENT
BEGIN:VEVENT
DTSTART;TZID=America/Chicago:20250604T163000
DTEND;TZID=America/Chicago:20250604T203000
DTSTAMP:20260423T153805
CREATED:20250117T161221Z
LAST-MODIFIED:20250117T161221Z
UID:10000511-1749054600-1749069000@www.wanakimensclub.com
SUMMARY:2025 Wednesday Night Golf League
DESCRIPTION:
URL:https://www.wanakimensclub.com/event/2025-wednesday-night-golf-league/2025-06-04/
LOCATION:Wanaki Golf Course\, N50 W20830 Lisbon Rd\, Menomonee Falls\, WI\, WI\, 53051\, United States
CATEGORIES:Wed Night League
ORGANIZER;CN="Bob Hart":MAILTO:amscrayhart62@yahoo.com
END:VEVENT
BEGIN:VEVENT
DTSTART;TZID=America/Chicago:20250528T163000
DTEND;TZID=America/Chicago:20250528T203000
DTSTAMP:20260423T153805
CREATED:20250117T161221Z
LAST-MODIFIED:20250117T161221Z
UID:10000510-1748449800-1748464200@www.wanakimensclub.com
SUMMARY:2025 Wednesday Night Golf League
DESCRIPTION:
URL:https://www.wanakimensclub.com/event/2025-wednesday-night-golf-league/2025-05-28/
LOCATION:Wanaki Golf Course\, N50 W20830 Lisbon Rd\, Menomonee Falls\, WI\, WI\, 53051\, United States
CATEGORIES:Wed Night League
ORGANIZER;CN="Bob Hart":MAILTO:amscrayhart62@yahoo.com
END:VEVENT
BEGIN:VEVENT
DTSTART;TZID=America/Chicago:20250521T163000
DTEND;TZID=America/Chicago:20250521T203000
DTSTAMP:20260423T153805
CREATED:20250117T161221Z
LAST-MODIFIED:20250117T161221Z
UID:10000509-1747845000-1747859400@www.wanakimensclub.com
SUMMARY:2025 Wednesday Night Golf League
DESCRIPTION:
URL:https://www.wanakimensclub.com/event/2025-wednesday-night-golf-league/2025-05-21/
LOCATION:Wanaki Golf Course\, N50 W20830 Lisbon Rd\, Menomonee Falls\, WI\, WI\, 53051\, United States
CATEGORIES:Wed Night League
ORGANIZER;CN="Bob Hart":MAILTO:amscrayhart62@yahoo.com
END:VEVENT
BEGIN:VEVENT
DTSTART;TZID=America/Chicago:20250514T163000
DTEND;TZID=America/Chicago:20250514T203000
DTSTAMP:20260423T153805
CREATED:20250117T161221Z
LAST-MODIFIED:20250117T161221Z
UID:10000508-1747240200-1747254600@www.wanakimensclub.com
SUMMARY:2025 Wednesday Night Golf League
DESCRIPTION:
URL:https://www.wanakimensclub.com/event/2025-wednesday-night-golf-league/2025-05-14/
LOCATION:Wanaki Golf Course\, N50 W20830 Lisbon Rd\, Menomonee Falls\, WI\, WI\, 53051\, United States
CATEGORIES:Wed Night League
ORGANIZER;CN="Bob Hart":MAILTO:amscrayhart62@yahoo.com
END:VEVENT
BEGIN:VEVENT
DTSTART;TZID=America/Chicago:20250507T163000
DTEND;TZID=America/Chicago:20250507T203000
DTSTAMP:20260423T153805
CREATED:20250117T161221Z
LAST-MODIFIED:20250117T161221Z
UID:10000507-1746635400-1746649800@www.wanakimensclub.com
SUMMARY:2025 Wednesday Night Golf League
DESCRIPTION:
URL:https://www.wanakimensclub.com/event/2025-wednesday-night-golf-league/2025-05-07/
LOCATION:Wanaki Golf Course\, N50 W20830 Lisbon Rd\, Menomonee Falls\, WI\, WI\, 53051\, United States
CATEGORIES:Wed Night League
ORGANIZER;CN="Bob Hart":MAILTO:amscrayhart62@yahoo.com
END:VEVENT
BEGIN:VEVENT
DTSTART;TZID=America/Chicago:20240821T163000
DTEND;TZID=America/Chicago:20240821T203000
DTSTAMP:20260423T153805
CREATED:20231118T193640Z
LAST-MODIFIED:20231118T204733Z
UID:10000440-1724257800-1724272200@www.wanakimensclub.com
SUMMARY:2024 Wednesday Night Golf League
DESCRIPTION:
URL:https://www.wanakimensclub.com/event/2024-wednesday-night-golf-league/2024-08-21/
LOCATION:Wanaki Golf Course\, N50 W20830 Lisbon Rd\, Menomonee Falls\, WI\, WI\, 53051\, United States
CATEGORIES:Wed Night League
ORGANIZER;CN="Bob Hart":MAILTO:amscrayhart62@yahoo.com
END:VEVENT
BEGIN:VEVENT
DTSTART;TZID=America/Chicago:20240814T163000
DTEND;TZID=America/Chicago:20240814T203000
DTSTAMP:20260423T153805
CREATED:20231118T193640Z
LAST-MODIFIED:20231118T204733Z
UID:10000439-1723653000-1723667400@www.wanakimensclub.com
SUMMARY:2024 Wednesday Night Golf League
DESCRIPTION:
URL:https://www.wanakimensclub.com/event/2024-wednesday-night-golf-league/2024-08-14/
LOCATION:Wanaki Golf Course\, N50 W20830 Lisbon Rd\, Menomonee Falls\, WI\, WI\, 53051\, United States
CATEGORIES:Wed Night League
ORGANIZER;CN="Bob Hart":MAILTO:amscrayhart62@yahoo.com
END:VEVENT
BEGIN:VEVENT
DTSTART;TZID=America/Chicago:20240807T163000
DTEND;TZID=America/Chicago:20240807T203000
DTSTAMP:20260423T153805
CREATED:20231118T193640Z
LAST-MODIFIED:20231118T204733Z
UID:10000438-1723048200-1723062600@www.wanakimensclub.com
SUMMARY:2024 Wednesday Night Golf League
DESCRIPTION:
URL:https://www.wanakimensclub.com/event/2024-wednesday-night-golf-league/2024-08-07/
LOCATION:Wanaki Golf Course\, N50 W20830 Lisbon Rd\, Menomonee Falls\, WI\, WI\, 53051\, United States
CATEGORIES:Wed Night League
ORGANIZER;CN="Bob Hart":MAILTO:amscrayhart62@yahoo.com
END:VEVENT
BEGIN:VEVENT
DTSTART;TZID=America/Chicago:20240731T163000
DTEND;TZID=America/Chicago:20240731T203000
DTSTAMP:20260423T153805
CREATED:20231118T193640Z
LAST-MODIFIED:20231118T204733Z
UID:10000437-1722443400-1722457800@www.wanakimensclub.com
SUMMARY:2024 Wednesday Night Golf League
DESCRIPTION:
URL:https://www.wanakimensclub.com/event/2024-wednesday-night-golf-league/2024-07-31/
LOCATION:Wanaki Golf Course\, N50 W20830 Lisbon Rd\, Menomonee Falls\, WI\, WI\, 53051\, United States
CATEGORIES:Wed Night League
ORGANIZER;CN="Bob Hart":MAILTO:amscrayhart62@yahoo.com
END:VEVENT
BEGIN:VEVENT
DTSTART;TZID=America/Chicago:20240724T163000
DTEND;TZID=America/Chicago:20240724T203000
DTSTAMP:20260423T153805
CREATED:20231118T193640Z
LAST-MODIFIED:20231118T204733Z
UID:10000436-1721838600-1721853000@www.wanakimensclub.com
SUMMARY:2024 Wednesday Night Golf League
DESCRIPTION:
URL:https://www.wanakimensclub.com/event/2024-wednesday-night-golf-league/2024-07-24/
LOCATION:Wanaki Golf Course\, N50 W20830 Lisbon Rd\, Menomonee Falls\, WI\, WI\, 53051\, United States
CATEGORIES:Wed Night League
ORGANIZER;CN="Bob Hart":MAILTO:amscrayhart62@yahoo.com
END:VEVENT
BEGIN:VEVENT
DTSTART;TZID=America/Chicago:20240717T163000
DTEND;TZID=America/Chicago:20240717T203000
DTSTAMP:20260423T153805
CREATED:20231118T193640Z
LAST-MODIFIED:20231118T204733Z
UID:10000435-1721233800-1721248200@www.wanakimensclub.com
SUMMARY:2024 Wednesday Night Golf League
DESCRIPTION:
URL:https://www.wanakimensclub.com/event/2024-wednesday-night-golf-league/2024-07-17/
LOCATION:Wanaki Golf Course\, N50 W20830 Lisbon Rd\, Menomonee Falls\, WI\, WI\, 53051\, United States
CATEGORIES:Wed Night League
ORGANIZER;CN="Bob Hart":MAILTO:amscrayhart62@yahoo.com
END:VEVENT
BEGIN:VEVENT
DTSTART;TZID=America/Chicago:20240710T163000
DTEND;TZID=America/Chicago:20240710T203000
DTSTAMP:20260423T153805
CREATED:20231118T193640Z
LAST-MODIFIED:20231118T204733Z
UID:10000434-1720629000-1720643400@www.wanakimensclub.com
SUMMARY:2024 Wednesday Night Golf League
DESCRIPTION:
URL:https://www.wanakimensclub.com/event/2024-wednesday-night-golf-league/2024-07-10/
LOCATION:Wanaki Golf Course\, N50 W20830 Lisbon Rd\, Menomonee Falls\, WI\, WI\, 53051\, United States
CATEGORIES:Wed Night League
ORGANIZER;CN="Bob Hart":MAILTO:amscrayhart62@yahoo.com
END:VEVENT
BEGIN:VEVENT
DTSTART;TZID=America/Chicago:20240626T163000
DTEND;TZID=America/Chicago:20240626T203000
DTSTAMP:20260423T153805
CREATED:20231118T193640Z
LAST-MODIFIED:20231118T204733Z
UID:10000433-1719419400-1719433800@www.wanakimensclub.com
SUMMARY:2024 Wednesday Night Golf League
DESCRIPTION:
URL:https://www.wanakimensclub.com/event/2024-wednesday-night-golf-league/2024-06-26/
LOCATION:Wanaki Golf Course\, N50 W20830 Lisbon Rd\, Menomonee Falls\, WI\, WI\, 53051\, United States
CATEGORIES:Wed Night League
ORGANIZER;CN="Bob Hart":MAILTO:amscrayhart62@yahoo.com
END:VEVENT
BEGIN:VEVENT
DTSTART;TZID=America/Chicago:20240619T163000
DTEND;TZID=America/Chicago:20240619T203000
DTSTAMP:20260423T153805
CREATED:20231118T193640Z
LAST-MODIFIED:20231118T204733Z
UID:10000432-1718814600-1718829000@www.wanakimensclub.com
SUMMARY:2024 Wednesday Night Golf League
DESCRIPTION:
URL:https://www.wanakimensclub.com/event/2024-wednesday-night-golf-league/2024-06-19/
LOCATION:Wanaki Golf Course\, N50 W20830 Lisbon Rd\, Menomonee Falls\, WI\, WI\, 53051\, United States
CATEGORIES:Wed Night League
ORGANIZER;CN="Bob Hart":MAILTO:amscrayhart62@yahoo.com
END:VEVENT
BEGIN:VEVENT
DTSTART;TZID=America/Chicago:20240612T163000
DTEND;TZID=America/Chicago:20240612T203000
DTSTAMP:20260423T153805
CREATED:20231118T193640Z
LAST-MODIFIED:20231118T204733Z
UID:10000431-1718209800-1718224200@www.wanakimensclub.com
SUMMARY:2024 Wednesday Night Golf League
DESCRIPTION:
URL:https://www.wanakimensclub.com/event/2024-wednesday-night-golf-league/2024-06-12/
LOCATION:Wanaki Golf Course\, N50 W20830 Lisbon Rd\, Menomonee Falls\, WI\, WI\, 53051\, United States
CATEGORIES:Wed Night League
ORGANIZER;CN="Bob Hart":MAILTO:amscrayhart62@yahoo.com
END:VEVENT
BEGIN:VEVENT
DTSTART;TZID=America/Chicago:20240605T163000
DTEND;TZID=America/Chicago:20240605T203000
DTSTAMP:20260423T153805
CREATED:20231118T193640Z
LAST-MODIFIED:20231118T204733Z
UID:10000430-1717605000-1717619400@www.wanakimensclub.com
SUMMARY:2024 Wednesday Night Golf League
DESCRIPTION:
URL:https://www.wanakimensclub.com/event/2024-wednesday-night-golf-league/2024-06-05/
LOCATION:Wanaki Golf Course\, N50 W20830 Lisbon Rd\, Menomonee Falls\, WI\, WI\, 53051\, United States
CATEGORIES:Wed Night League
ORGANIZER;CN="Bob Hart":MAILTO:amscrayhart62@yahoo.com
END:VEVENT
BEGIN:VEVENT
DTSTART;TZID=America/Chicago:20240529T163000
DTEND;TZID=America/Chicago:20240529T203000
DTSTAMP:20260423T153805
CREATED:20231118T193640Z
LAST-MODIFIED:20231118T204733Z
UID:10000429-1717000200-1717014600@www.wanakimensclub.com
SUMMARY:2024 Wednesday Night Golf League
DESCRIPTION:
URL:https://www.wanakimensclub.com/event/2024-wednesday-night-golf-league/2024-05-29/
LOCATION:Wanaki Golf Course\, N50 W20830 Lisbon Rd\, Menomonee Falls\, WI\, WI\, 53051\, United States
CATEGORIES:Wed Night League
ORGANIZER;CN="Bob Hart":MAILTO:amscrayhart62@yahoo.com
END:VEVENT
BEGIN:VEVENT
DTSTART;TZID=America/Chicago:20240522T163000
DTEND;TZID=America/Chicago:20240522T203000
DTSTAMP:20260423T153805
CREATED:20231118T193640Z
LAST-MODIFIED:20231118T204733Z
UID:10000428-1716395400-1716409800@www.wanakimensclub.com
SUMMARY:2024 Wednesday Night Golf League
DESCRIPTION:
URL:https://www.wanakimensclub.com/event/2024-wednesday-night-golf-league/2024-05-22/
LOCATION:Wanaki Golf Course\, N50 W20830 Lisbon Rd\, Menomonee Falls\, WI\, WI\, 53051\, United States
CATEGORIES:Wed Night League
ORGANIZER;CN="Bob Hart":MAILTO:amscrayhart62@yahoo.com
END:VEVENT
BEGIN:VEVENT
DTSTART;TZID=America/Chicago:20240515T163000
DTEND;TZID=America/Chicago:20240515T203000
DTSTAMP:20260423T153805
CREATED:20231118T193640Z
LAST-MODIFIED:20231118T204733Z
UID:10000427-1715790600-1715805000@www.wanakimensclub.com
SUMMARY:2024 Wednesday Night Golf League
DESCRIPTION:
URL:https://www.wanakimensclub.com/event/2024-wednesday-night-golf-league/2024-05-15/
LOCATION:Wanaki Golf Course\, N50 W20830 Lisbon Rd\, Menomonee Falls\, WI\, WI\, 53051\, United States
CATEGORIES:Wed Night League
ORGANIZER;CN="Bob Hart":MAILTO:amscrayhart62@yahoo.com
END:VEVENT
BEGIN:VEVENT
DTSTART;TZID=America/Chicago:20240508T163000
DTEND;TZID=America/Chicago:20240508T203000
DTSTAMP:20260423T153805
CREATED:20231118T193640Z
LAST-MODIFIED:20231118T204733Z
UID:10000426-1715185800-1715200200@www.wanakimensclub.com
SUMMARY:2024 Wednesday Night Golf League
DESCRIPTION:
URL:https://www.wanakimensclub.com/event/2024-wednesday-night-golf-league/2024-05-08/
LOCATION:Wanaki Golf Course\, N50 W20830 Lisbon Rd\, Menomonee Falls\, WI\, WI\, 53051\, United States
CATEGORIES:Wed Night League
ORGANIZER;CN="Bob Hart":MAILTO:amscrayhart62@yahoo.com
END:VEVENT
BEGIN:VEVENT
DTSTART;TZID=America/Chicago:20240501T163000
DTEND;TZID=America/Chicago:20240501T203000
DTSTAMP:20260423T153805
CREATED:20231118T193640Z
LAST-MODIFIED:20231118T204733Z
UID:10000397-1714581000-1714595400@www.wanakimensclub.com
SUMMARY:2024 Wednesday Night Golf League
DESCRIPTION:
URL:https://www.wanakimensclub.com/event/2024-wednesday-night-golf-league/2024-05-01/
LOCATION:Wanaki Golf Course\, N50 W20830 Lisbon Rd\, Menomonee Falls\, WI\, WI\, 53051\, United States
CATEGORIES:Wed Night League
ORGANIZER;CN="Bob Hart":MAILTO:amscrayhart62@yahoo.com
END:VEVENT
BEGIN:VEVENT
DTSTART;TZID=America/Chicago:20230816T163000
DTEND;TZID=America/Chicago:20230816T203000
DTSTAMP:20260423T153805
CREATED:20230114T143346Z
LAST-MODIFIED:20230114T182318Z
UID:10000386-1692203400-1692217800@www.wanakimensclub.com
SUMMARY:2023 Wednesday Night Golf League
DESCRIPTION:
URL:https://www.wanakimensclub.com/event/2023-wednesday-night-golf-league/2023-08-16/
LOCATION:Wanaki Golf Course\, N50 W20830 Lisbon Rd\, Menomonee Falls\, WI\, WI\, 53051\, United States
CATEGORIES:Wed Night League
ORGANIZER;CN="Bob Hart":MAILTO:amscrayhart62@yahoo.com
END:VEVENT
BEGIN:VEVENT
DTSTART;TZID=America/Chicago:20230809T163000
DTEND;TZID=America/Chicago:20230809T203000
DTSTAMP:20260423T153805
CREATED:20230114T143346Z
LAST-MODIFIED:20230114T182318Z
UID:10000385-1691598600-1691613000@www.wanakimensclub.com
SUMMARY:2023 Wednesday Night Golf League
DESCRIPTION:
URL:https://www.wanakimensclub.com/event/2023-wednesday-night-golf-league/2023-08-09/
LOCATION:Wanaki Golf Course\, N50 W20830 Lisbon Rd\, Menomonee Falls\, WI\, WI\, 53051\, United States
CATEGORIES:Wed Night League
ORGANIZER;CN="Bob Hart":MAILTO:amscrayhart62@yahoo.com
END:VEVENT
BEGIN:VEVENT
DTSTART;TZID=America/Chicago:20230802T163000
DTEND;TZID=America/Chicago:20230802T203000
DTSTAMP:20260423T153805
CREATED:20230114T143346Z
LAST-MODIFIED:20230114T182318Z
UID:10000384-1690993800-1691008200@www.wanakimensclub.com
SUMMARY:2023 Wednesday Night Golf League
DESCRIPTION:
URL:https://www.wanakimensclub.com/event/2023-wednesday-night-golf-league/2023-08-02/
LOCATION:Wanaki Golf Course\, N50 W20830 Lisbon Rd\, Menomonee Falls\, WI\, WI\, 53051\, United States
CATEGORIES:Wed Night League
ORGANIZER;CN="Bob Hart":MAILTO:amscrayhart62@yahoo.com
END:VEVENT
BEGIN:VEVENT
DTSTART;TZID=America/Chicago:20230726T163000
DTEND;TZID=America/Chicago:20230726T203000
DTSTAMP:20260423T153805
CREATED:20230114T143346Z
LAST-MODIFIED:20230114T182318Z
UID:10000383-1690389000-1690403400@www.wanakimensclub.com
SUMMARY:2023 Wednesday Night Golf League
DESCRIPTION:
URL:https://www.wanakimensclub.com/event/2023-wednesday-night-golf-league/2023-07-26/
LOCATION:Wanaki Golf Course\, N50 W20830 Lisbon Rd\, Menomonee Falls\, WI\, WI\, 53051\, United States
CATEGORIES:Wed Night League
ORGANIZER;CN="Bob Hart":MAILTO:amscrayhart62@yahoo.com
END:VEVENT
BEGIN:VEVENT
DTSTART;TZID=America/Chicago:20230719T163000
DTEND;TZID=America/Chicago:20230719T203000
DTSTAMP:20260423T153805
CREATED:20230114T143346Z
LAST-MODIFIED:20230114T182318Z
UID:10000382-1689784200-1689798600@www.wanakimensclub.com
SUMMARY:2023 Wednesday Night Golf League
DESCRIPTION:
URL:https://www.wanakimensclub.com/event/2023-wednesday-night-golf-league/2023-07-19/
LOCATION:Wanaki Golf Course\, N50 W20830 Lisbon Rd\, Menomonee Falls\, WI\, WI\, 53051\, United States
CATEGORIES:Wed Night League
ORGANIZER;CN="Bob Hart":MAILTO:amscrayhart62@yahoo.com
END:VEVENT
BEGIN:VEVENT
DTSTART;TZID=America/Chicago:20230712T163000
DTEND;TZID=America/Chicago:20230712T203000
DTSTAMP:20260423T153805
CREATED:20230114T143346Z
LAST-MODIFIED:20230114T182318Z
UID:10000381-1689179400-1689193800@www.wanakimensclub.com
SUMMARY:2023 Wednesday Night Golf League
DESCRIPTION:
URL:https://www.wanakimensclub.com/event/2023-wednesday-night-golf-league/2023-07-12/
LOCATION:Wanaki Golf Course\, N50 W20830 Lisbon Rd\, Menomonee Falls\, WI\, WI\, 53051\, United States
CATEGORIES:Wed Night League
ORGANIZER;CN="Bob Hart":MAILTO:amscrayhart62@yahoo.com
END:VEVENT
BEGIN:VEVENT
DTSTART;TZID=America/Chicago:20230705T163000
DTEND;TZID=America/Chicago:20230705T203000
DTSTAMP:20260423T153805
CREATED:20230114T143346Z
LAST-MODIFIED:20230114T182318Z
UID:10000380-1688574600-1688589000@www.wanakimensclub.com
SUMMARY:2023 Wednesday Night Golf League
DESCRIPTION:
URL:https://www.wanakimensclub.com/event/2023-wednesday-night-golf-league/2023-07-05/
LOCATION:Wanaki Golf Course\, N50 W20830 Lisbon Rd\, Menomonee Falls\, WI\, WI\, 53051\, United States
CATEGORIES:Wed Night League
ORGANIZER;CN="Bob Hart":MAILTO:amscrayhart62@yahoo.com
END:VEVENT
BEGIN:VEVENT
DTSTART;TZID=America/Chicago:20230628T163000
DTEND;TZID=America/Chicago:20230628T203000
DTSTAMP:20260423T153805
CREATED:20230114T143346Z
LAST-MODIFIED:20230114T182318Z
UID:10000379-1687969800-1687984200@www.wanakimensclub.com
SUMMARY:2023 Wednesday Night Golf League
DESCRIPTION:
URL:https://www.wanakimensclub.com/event/2023-wednesday-night-golf-league/2023-06-28/
LOCATION:Wanaki Golf Course\, N50 W20830 Lisbon Rd\, Menomonee Falls\, WI\, WI\, 53051\, United States
CATEGORIES:Wed Night League
ORGANIZER;CN="Bob Hart":MAILTO:amscrayhart62@yahoo.com
END:VEVENT
END:VCALENDAR