BEGIN:VCALENDAR
VERSION:2.0
PRODID:-//Wanaki Men&#039;s Club - ECPv6.15.18//NONSGML v1.0//EN
CALSCALE:GREGORIAN
METHOD:PUBLISH
X-WR-CALNAME:Wanaki Men&#039;s Club
X-ORIGINAL-URL:https://www.wanakimensclub.com
X-WR-CALDESC:Events for Wanaki Men&#039;s Club
REFRESH-INTERVAL;VALUE=DURATION:PT1H
X-Robots-Tag:noindex
X-PUBLISHED-TTL:PT1H
BEGIN:VTIMEZONE
TZID:America/Chicago
BEGIN:DAYLIGHT
TZOFFSETFROM:-0600
TZOFFSETTO:-0500
TZNAME:CDT
DTSTART:20180311T080000
END:DAYLIGHT
BEGIN:STANDARD
TZOFFSETFROM:-0500
TZOFFSETTO:-0600
TZNAME:CST
DTSTART:20181104T070000
END:STANDARD
BEGIN:DAYLIGHT
TZOFFSETFROM:-0600
TZOFFSETTO:-0500
TZNAME:CDT
DTSTART:20190310T080000
END:DAYLIGHT
BEGIN:STANDARD
TZOFFSETFROM:-0500
TZOFFSETTO:-0600
TZNAME:CST
DTSTART:20191103T070000
END:STANDARD
BEGIN:DAYLIGHT
TZOFFSETFROM:-0600
TZOFFSETTO:-0500
TZNAME:CDT
DTSTART:20200308T080000
END:DAYLIGHT
BEGIN:STANDARD
TZOFFSETFROM:-0500
TZOFFSETTO:-0600
TZNAME:CST
DTSTART:20201101T070000
END:STANDARD
END:VTIMEZONE
BEGIN:VEVENT
DTSTART;TZID=America/Chicago:20190316T130000
DTEND;TZID=America/Chicago:20190316T150000
DTSTAMP:20260423T152451
CREATED:20190223T231938Z
LAST-MODIFIED:20190413T010216Z
UID:10000172-1552741200-1552748400@www.wanakimensclub.com
SUMMARY:2019 Meeting #1 and Rules Seminar
DESCRIPTION:This meeting will cover the following topics;\n1) Returning member sign up and dues payment.\n2) New member orientation.\n3) Club policies.\n4) League and event schedules. \nWSGA Rules seminar covering the 2019 rule changes will follow the meeting.
URL:https://www.wanakimensclub.com/event/2019-rules-seminar-and-meeting/
LOCATION:Wanaki Golf Course\, N50 W20830 Lisbon Rd\, Menomonee Falls\, WI\, WI\, 53051\, United States
CATEGORIES:Meeting
END:VEVENT
BEGIN:VEVENT
DTSTART;TZID=America/Chicago:20190413T130000
DTEND;TZID=America/Chicago:20190413T150000
DTSTAMP:20260423T152451
CREATED:20190224T152349Z
LAST-MODIFIED:20190413T010129Z
UID:10000100-1555160400-1555167600@www.wanakimensclub.com
SUMMARY:2019 Meeting #2
DESCRIPTION:This meeting will cover the following topics;\n1) Returning member sign up and dues payment.\n2) New member orientation.\n3) Club policies.\n4) League and event schedules.
URL:https://www.wanakimensclub.com/event/2019-meeting-2/
LOCATION:Wanaki Golf Course\, N50 W20830 Lisbon Rd\, Menomonee Falls\, WI\, WI\, 53051\, United States
CATEGORIES:Meeting
ORGANIZER;CN="Jim Ehnert":MAILTO:wanakijim@gmail.com
END:VEVENT
BEGIN:VEVENT
DTSTART;TZID=America/Chicago:20190425T103000
DTEND;TZID=America/Chicago:20190425T163000
DTSTAMP:20260423T152451
CREATED:20190224T151037Z
LAST-MODIFIED:20190422T180552Z
UID:10000034-1556188200-1556209800@www.wanakimensclub.com
SUMMARY:Thursday Afternoon Golf League Season 1
DESCRIPTION:
URL:https://www.wanakimensclub.com/event/thursday-afternoon-golf-league-season-1/
LOCATION:Wanaki Golf Course\, N50 W20830 Lisbon Rd\, Menomonee Falls\, WI\, WI\, 53051\, United States
CATEGORIES:Thurs 18 Hole League
ORGANIZER;CN="Jim Ehnert":MAILTO:wanakijim@gmail.com
END:VEVENT
BEGIN:VEVENT
DTSTART;TZID=America/Chicago:20190501T163000
DTEND;TZID=America/Chicago:20190501T203000
DTSTAMP:20260423T152451
CREATED:20190224T145730Z
LAST-MODIFIED:20190413T005412Z
UID:10000193-1556728200-1556742600@www.wanakimensclub.com
SUMMARY:Wednesday Night Golf League
DESCRIPTION:
URL:https://www.wanakimensclub.com/event/wednesday-night-golf-league/2019-05-01/
LOCATION:Wanaki Golf Course\, N50 W20830 Lisbon Rd\, Menomonee Falls\, WI\, WI\, 53051\, United States
CATEGORIES:Wed Night League
ORGANIZER;CN="Martin Cherney Sr.":MAILTO:mcherney@sbcglobal.net
END:VEVENT
BEGIN:VEVENT
DTSTART;VALUE=DATE:20190502
DTEND;VALUE=DATE:20190503
DTSTAMP:20260423T152451
CREATED:20190415T231446Z
LAST-MODIFIED:20190415T231617Z
UID:10000010-1556755200-1556841599@www.wanakimensclub.com
SUMMARY:TaylorMade Club Fitting Event
DESCRIPTION:Please go to https://my.taylormadegolf.com/myFittingExp/event/4e9O to register for this event. Here you can also book your custom fitting appointment\, check available dates\, etc. \nYou may also contact us at the pro shop (262-252-3480) to hear about available appointments\, book your custom fitting\, and answer any questions you have about this special event. \nWe hope you enjoy this exclusive fitting experience!
URL:https://www.wanakimensclub.com/event/taylormade-club-fitting-event/
LOCATION:Wanaki Golf Course\, N50 W20830 Lisbon Rd\, Menomonee Falls\, WI\, WI\, 53051\, United States
CATEGORIES:Special Event
ORGANIZER;CN="Jim Ehnert":MAILTO:wanakijim@gmail.com
END:VEVENT
BEGIN:VEVENT
DTSTART;TZID=America/Chicago:20190502T103000
DTEND;TZID=America/Chicago:20190502T163000
DTSTAMP:20260423T152451
CREATED:20190224T151037Z
LAST-MODIFIED:20190422T180418Z
UID:10000271-1556793000-1556814600@www.wanakimensclub.com
SUMMARY:Thursday Afternoon Golf League Season 1
DESCRIPTION:
URL:https://www.wanakimensclub.com/event/thursday-afternoon-golf-league-season-1-2019-05-02/
LOCATION:Wanaki Golf Course\, N50 W20830 Lisbon Rd\, Menomonee Falls\, WI\, WI\, 53051\, United States
CATEGORIES:Thurs 18 Hole League
ORGANIZER;CN="Jim Ehnert":MAILTO:wanakijim@gmail.com
END:VEVENT
BEGIN:VEVENT
DTSTART;TZID=America/Chicago:20190502T163000
DTEND;TZID=America/Chicago:20190502T203000
DTSTAMP:20260423T152451
CREATED:20190224T150625Z
LAST-MODIFIED:20190413T005303Z
UID:10000075-1556814600-1556829000@www.wanakimensclub.com
SUMMARY:Thursday Night Golf League
DESCRIPTION:
URL:https://www.wanakimensclub.com/event/thursday-night-golf-league/2019-05-02/
LOCATION:Wanaki Golf Course\, N50 W20830 Lisbon Rd\, Menomonee Falls\, WI\, WI\, 53051\, United States
CATEGORIES:Thurs Night League
ORGANIZER;CN="Al Brandt":MAILTO:abrandt1@wi.rr.com
END:VEVENT
BEGIN:VEVENT
DTSTART;TZID=America/Chicago:20190505T083000
DTEND;TZID=America/Chicago:20190505T130000
DTSTAMP:20260423T152451
CREATED:20190224T160906Z
LAST-MODIFIED:20190506T121852Z
UID:10000045-1557045000-1557061200@www.wanakimensclub.com
SUMMARY:4 Man 2 Best Ball
DESCRIPTION:This event is a 4 man 2 best ball event. 8:30 am shotgun start and everyone receives a tee prize.
URL:https://www.wanakimensclub.com/event/outing-1-4m-2bb/
LOCATION:Wanaki Golf Course\, N50 W20830 Lisbon Rd\, Menomonee Falls\, WI\, WI\, 53051\, United States
CATEGORIES:Club Tournament
ORGANIZER;CN="Todd Halverson":MAILTO:mensclubwanaki@gmail.com
END:VEVENT
BEGIN:VEVENT
DTSTART;TZID=America/Chicago:20190508T163000
DTEND;TZID=America/Chicago:20190508T203000
DTSTAMP:20260423T152451
CREATED:20190224T145730Z
LAST-MODIFIED:20190413T005412Z
UID:10000194-1557333000-1557347400@www.wanakimensclub.com
SUMMARY:Wednesday Night Golf League
DESCRIPTION:
URL:https://www.wanakimensclub.com/event/wednesday-night-golf-league/2019-05-08/
LOCATION:Wanaki Golf Course\, N50 W20830 Lisbon Rd\, Menomonee Falls\, WI\, WI\, 53051\, United States
CATEGORIES:Wed Night League
ORGANIZER;CN="Martin Cherney Sr.":MAILTO:mcherney@sbcglobal.net
END:VEVENT
BEGIN:VEVENT
DTSTART;TZID=America/Chicago:20190509T103000
DTEND;TZID=America/Chicago:20190509T163000
DTSTAMP:20260423T152451
CREATED:20190224T151037Z
LAST-MODIFIED:20190422T181039Z
UID:10000048-1557397800-1557419400@www.wanakimensclub.com
SUMMARY:Thursday Afternoon Golf League Season 1
DESCRIPTION:
URL:https://www.wanakimensclub.com/event/thursday-afternoon-golf-league-season-1-2019-05-09/2019-05-09/
LOCATION:Wanaki Golf Course\, N50 W20830 Lisbon Rd\, Menomonee Falls\, WI\, WI\, 53051\, United States
CATEGORIES:Thurs 18 Hole League
ORGANIZER;CN="Jim Ehnert":MAILTO:wanakijim@gmail.com
END:VEVENT
BEGIN:VEVENT
DTSTART;TZID=America/Chicago:20190509T163000
DTEND;TZID=America/Chicago:20190509T203000
DTSTAMP:20260423T152451
CREATED:20190224T150625Z
LAST-MODIFIED:20190413T005303Z
UID:10000076-1557419400-1557433800@www.wanakimensclub.com
SUMMARY:Thursday Night Golf League
DESCRIPTION:
URL:https://www.wanakimensclub.com/event/thursday-night-golf-league/2019-05-09/
LOCATION:Wanaki Golf Course\, N50 W20830 Lisbon Rd\, Menomonee Falls\, WI\, WI\, 53051\, United States
CATEGORIES:Thurs Night League
ORGANIZER;CN="Al Brandt":MAILTO:abrandt1@wi.rr.com
END:VEVENT
BEGIN:VEVENT
DTSTART;TZID=America/Chicago:20190515T163000
DTEND;TZID=America/Chicago:20190515T203000
DTSTAMP:20260423T152451
CREATED:20190224T145730Z
LAST-MODIFIED:20190413T005412Z
UID:10000195-1557937800-1557952200@www.wanakimensclub.com
SUMMARY:Wednesday Night Golf League
DESCRIPTION:
URL:https://www.wanakimensclub.com/event/wednesday-night-golf-league/2019-05-15/
LOCATION:Wanaki Golf Course\, N50 W20830 Lisbon Rd\, Menomonee Falls\, WI\, WI\, 53051\, United States
CATEGORIES:Wed Night League
ORGANIZER;CN="Martin Cherney Sr.":MAILTO:mcherney@sbcglobal.net
END:VEVENT
BEGIN:VEVENT
DTSTART;TZID=America/Chicago:20190516T103000
DTEND;TZID=America/Chicago:20190516T163000
DTSTAMP:20260423T152451
CREATED:20190224T151037Z
LAST-MODIFIED:20190422T181039Z
UID:10000049-1558002600-1558024200@www.wanakimensclub.com
SUMMARY:Thursday Afternoon Golf League Season 1
DESCRIPTION:
URL:https://www.wanakimensclub.com/event/thursday-afternoon-golf-league-season-1-2019-05-09/2019-05-16/
LOCATION:Wanaki Golf Course\, N50 W20830 Lisbon Rd\, Menomonee Falls\, WI\, WI\, 53051\, United States
CATEGORIES:Thurs 18 Hole League
ORGANIZER;CN="Jim Ehnert":MAILTO:wanakijim@gmail.com
END:VEVENT
BEGIN:VEVENT
DTSTART;TZID=America/Chicago:20190516T163000
DTEND;TZID=America/Chicago:20190516T203000
DTSTAMP:20260423T152451
CREATED:20190224T150625Z
LAST-MODIFIED:20190413T005303Z
UID:10000077-1558024200-1558038600@www.wanakimensclub.com
SUMMARY:Thursday Night Golf League
DESCRIPTION:
URL:https://www.wanakimensclub.com/event/thursday-night-golf-league/2019-05-16/
LOCATION:Wanaki Golf Course\, N50 W20830 Lisbon Rd\, Menomonee Falls\, WI\, WI\, 53051\, United States
CATEGORIES:Thurs Night League
ORGANIZER;CN="Al Brandt":MAILTO:abrandt1@wi.rr.com
END:VEVENT
BEGIN:VEVENT
DTSTART;TZID=America/Chicago:20190519T083000
DTEND;TZID=America/Chicago:20190519T143000
DTSTAMP:20260423T152451
CREATED:20190224T161506Z
LAST-MODIFIED:20190506T142318Z
UID:10000018-1558254600-1558276200@www.wanakimensclub.com
SUMMARY:Memorial 3-2-1
DESCRIPTION:8:30am shotgun start\, food will be served after golf\, followed by memorial tree planting ceremony.
URL:https://www.wanakimensclub.com/event/outing-2-memorial-3-2-1/
LOCATION:Wanaki Golf Course\, N50 W20830 Lisbon Rd\, Menomonee Falls\, WI\, WI\, 53051\, United States
CATEGORIES:Club Tournament
ORGANIZER;CN="Todd Halverson":MAILTO:mensclubwanaki@gmail.com
END:VEVENT
BEGIN:VEVENT
DTSTART;TZID=America/Chicago:20190522T163000
DTEND;TZID=America/Chicago:20190522T203000
DTSTAMP:20260423T152451
CREATED:20190224T145730Z
LAST-MODIFIED:20190413T005412Z
UID:10000196-1558542600-1558557000@www.wanakimensclub.com
SUMMARY:Wednesday Night Golf League
DESCRIPTION:
URL:https://www.wanakimensclub.com/event/wednesday-night-golf-league/2019-05-22/
LOCATION:Wanaki Golf Course\, N50 W20830 Lisbon Rd\, Menomonee Falls\, WI\, WI\, 53051\, United States
CATEGORIES:Wed Night League
ORGANIZER;CN="Martin Cherney Sr.":MAILTO:mcherney@sbcglobal.net
END:VEVENT
BEGIN:VEVENT
DTSTART;TZID=America/Chicago:20190523T103000
DTEND;TZID=America/Chicago:20190523T163000
DTSTAMP:20260423T152451
CREATED:20190224T151037Z
LAST-MODIFIED:20190422T181039Z
UID:10000050-1558607400-1558629000@www.wanakimensclub.com
SUMMARY:Thursday Afternoon Golf League Season 1
DESCRIPTION:
URL:https://www.wanakimensclub.com/event/thursday-afternoon-golf-league-season-1-2019-05-09/2019-05-23/
LOCATION:Wanaki Golf Course\, N50 W20830 Lisbon Rd\, Menomonee Falls\, WI\, WI\, 53051\, United States
CATEGORIES:Thurs 18 Hole League
ORGANIZER;CN="Jim Ehnert":MAILTO:wanakijim@gmail.com
END:VEVENT
BEGIN:VEVENT
DTSTART;TZID=America/Chicago:20190523T163000
DTEND;TZID=America/Chicago:20190523T203000
DTSTAMP:20260423T152451
CREATED:20190224T150625Z
LAST-MODIFIED:20190413T005303Z
UID:10000078-1558629000-1558643400@www.wanakimensclub.com
SUMMARY:Thursday Night Golf League
DESCRIPTION:
URL:https://www.wanakimensclub.com/event/thursday-night-golf-league/2019-05-23/
LOCATION:Wanaki Golf Course\, N50 W20830 Lisbon Rd\, Menomonee Falls\, WI\, WI\, 53051\, United States
CATEGORIES:Thurs Night League
ORGANIZER;CN="Al Brandt":MAILTO:abrandt1@wi.rr.com
END:VEVENT
BEGIN:VEVENT
DTSTART;TZID=America/Chicago:20190529T163000
DTEND;TZID=America/Chicago:20190529T203000
DTSTAMP:20260423T152451
CREATED:20190224T145730Z
LAST-MODIFIED:20190413T005412Z
UID:10000197-1559147400-1559161800@www.wanakimensclub.com
SUMMARY:Wednesday Night Golf League
DESCRIPTION:
URL:https://www.wanakimensclub.com/event/wednesday-night-golf-league/2019-05-29/
LOCATION:Wanaki Golf Course\, N50 W20830 Lisbon Rd\, Menomonee Falls\, WI\, WI\, 53051\, United States
CATEGORIES:Wed Night League
ORGANIZER;CN="Martin Cherney Sr.":MAILTO:mcherney@sbcglobal.net
END:VEVENT
BEGIN:VEVENT
DTSTART;TZID=America/Chicago:20190530T103000
DTEND;TZID=America/Chicago:20190530T163000
DTSTAMP:20260423T152451
CREATED:20190224T151037Z
LAST-MODIFIED:20190422T181039Z
UID:10000051-1559212200-1559233800@www.wanakimensclub.com
SUMMARY:Thursday Afternoon Golf League Season 1
DESCRIPTION:
URL:https://www.wanakimensclub.com/event/thursday-afternoon-golf-league-season-1-2019-05-09/2019-05-30/
LOCATION:Wanaki Golf Course\, N50 W20830 Lisbon Rd\, Menomonee Falls\, WI\, WI\, 53051\, United States
CATEGORIES:Thurs 18 Hole League
ORGANIZER;CN="Jim Ehnert":MAILTO:wanakijim@gmail.com
END:VEVENT
BEGIN:VEVENT
DTSTART;TZID=America/Chicago:20190530T163000
DTEND;TZID=America/Chicago:20190530T203000
DTSTAMP:20260423T152451
CREATED:20190224T150625Z
LAST-MODIFIED:20190413T005303Z
UID:10000079-1559233800-1559248200@www.wanakimensclub.com
SUMMARY:Thursday Night Golf League
DESCRIPTION:
URL:https://www.wanakimensclub.com/event/thursday-night-golf-league/2019-05-30/
LOCATION:Wanaki Golf Course\, N50 W20830 Lisbon Rd\, Menomonee Falls\, WI\, WI\, 53051\, United States
CATEGORIES:Thurs Night League
ORGANIZER;CN="Al Brandt":MAILTO:abrandt1@wi.rr.com
END:VEVENT
BEGIN:VEVENT
DTSTART;VALUE=DATE:20190602
DTEND;VALUE=DATE:20190603
DTSTAMP:20260423T152451
CREATED:20190224T161710Z
LAST-MODIFIED:20190506T144225Z
UID:10000020-1559433600-1559519999@www.wanakimensclub.com
SUMMARY:Hawks View Tournament - 2M BB
DESCRIPTION:Event will be held at Hawk’s View golf course in Lake Geneva.
URL:https://www.wanakimensclub.com/event/away-event-1-2m-bb/
LOCATION:Hawks View Golf Club\, 7377 Krueger Rd\, Lake Geneva\, WI\, 53147\, United States
CATEGORIES:Club Tournament
ORGANIZER;CN="Todd Halverson":MAILTO:mensclubwanaki@gmail.com
END:VEVENT
BEGIN:VEVENT
DTSTART;TZID=America/Chicago:20190605T163000
DTEND;TZID=America/Chicago:20190605T203000
DTSTAMP:20260423T152451
CREATED:20190224T145730Z
LAST-MODIFIED:20190413T005412Z
UID:10000198-1559752200-1559766600@www.wanakimensclub.com
SUMMARY:Wednesday Night Golf League
DESCRIPTION:
URL:https://www.wanakimensclub.com/event/wednesday-night-golf-league/2019-06-05/
LOCATION:Wanaki Golf Course\, N50 W20830 Lisbon Rd\, Menomonee Falls\, WI\, WI\, 53051\, United States
CATEGORIES:Wed Night League
ORGANIZER;CN="Martin Cherney Sr.":MAILTO:mcherney@sbcglobal.net
END:VEVENT
BEGIN:VEVENT
DTSTART;TZID=America/Chicago:20190606T103000
DTEND;TZID=America/Chicago:20190606T163000
DTSTAMP:20260423T152451
CREATED:20190224T151037Z
LAST-MODIFIED:20190422T181039Z
UID:10000052-1559817000-1559838600@www.wanakimensclub.com
SUMMARY:Thursday Afternoon Golf League Season 1
DESCRIPTION:
URL:https://www.wanakimensclub.com/event/thursday-afternoon-golf-league-season-1-2019-05-09/2019-06-06/
LOCATION:Wanaki Golf Course\, N50 W20830 Lisbon Rd\, Menomonee Falls\, WI\, WI\, 53051\, United States
CATEGORIES:Thurs 18 Hole League
ORGANIZER;CN="Jim Ehnert":MAILTO:wanakijim@gmail.com
END:VEVENT
BEGIN:VEVENT
DTSTART;TZID=America/Chicago:20190606T163000
DTEND;TZID=America/Chicago:20190606T203000
DTSTAMP:20260423T152451
CREATED:20190224T150625Z
LAST-MODIFIED:20190413T005303Z
UID:10000080-1559838600-1559853000@www.wanakimensclub.com
SUMMARY:Thursday Night Golf League
DESCRIPTION:
URL:https://www.wanakimensclub.com/event/thursday-night-golf-league/2019-06-06/
LOCATION:Wanaki Golf Course\, N50 W20830 Lisbon Rd\, Menomonee Falls\, WI\, WI\, 53051\, United States
CATEGORIES:Thurs Night League
ORGANIZER;CN="Al Brandt":MAILTO:abrandt1@wi.rr.com
END:VEVENT
BEGIN:VEVENT
DTSTART;TZID=America/Chicago:20190609T073000
DTEND;TZID=America/Chicago:20190609T153000
DTSTAMP:20260423T152451
CREATED:20190224T161910Z
LAST-MODIFIED:20190506T144136Z
UID:10000022-1560065400-1560094200@www.wanakimensclub.com
SUMMARY:Stableford
DESCRIPTION:Tee times start at 7:30am.
URL:https://www.wanakimensclub.com/event/outing-3-stableford/
LOCATION:Wanaki Golf Course\, N50 W20830 Lisbon Rd\, Menomonee Falls\, WI\, WI\, 53051\, United States
CATEGORIES:Club Tournament
ORGANIZER;CN="Todd Halverson":MAILTO:mensclubwanaki@gmail.com
END:VEVENT
BEGIN:VEVENT
DTSTART;TZID=America/Chicago:20190612T163000
DTEND;TZID=America/Chicago:20190612T203000
DTSTAMP:20260423T152451
CREATED:20190224T145730Z
LAST-MODIFIED:20190413T005412Z
UID:10000199-1560357000-1560371400@www.wanakimensclub.com
SUMMARY:Wednesday Night Golf League
DESCRIPTION:
URL:https://www.wanakimensclub.com/event/wednesday-night-golf-league/2019-06-12/
LOCATION:Wanaki Golf Course\, N50 W20830 Lisbon Rd\, Menomonee Falls\, WI\, WI\, 53051\, United States
CATEGORIES:Wed Night League
ORGANIZER;CN="Martin Cherney Sr.":MAILTO:mcherney@sbcglobal.net
END:VEVENT
BEGIN:VEVENT
DTSTART;TZID=America/Chicago:20190613T103000
DTEND;TZID=America/Chicago:20190613T163000
DTSTAMP:20260423T152451
CREATED:20190224T151037Z
LAST-MODIFIED:20190422T181039Z
UID:10000053-1560421800-1560443400@www.wanakimensclub.com
SUMMARY:Thursday Afternoon Golf League Season 1
DESCRIPTION:
URL:https://www.wanakimensclub.com/event/thursday-afternoon-golf-league-season-1-2019-05-09/2019-06-13/
LOCATION:Wanaki Golf Course\, N50 W20830 Lisbon Rd\, Menomonee Falls\, WI\, WI\, 53051\, United States
CATEGORIES:Thurs 18 Hole League
ORGANIZER;CN="Jim Ehnert":MAILTO:wanakijim@gmail.com
END:VEVENT
BEGIN:VEVENT
DTSTART;TZID=America/Chicago:20190613T163000
DTEND;TZID=America/Chicago:20190613T203000
DTSTAMP:20260423T152451
CREATED:20190224T150625Z
LAST-MODIFIED:20190413T005303Z
UID:10000081-1560443400-1560457800@www.wanakimensclub.com
SUMMARY:Thursday Night Golf League
DESCRIPTION:
URL:https://www.wanakimensclub.com/event/thursday-night-golf-league/2019-06-13/
LOCATION:Wanaki Golf Course\, N50 W20830 Lisbon Rd\, Menomonee Falls\, WI\, WI\, 53051\, United States
CATEGORIES:Thurs Night League
ORGANIZER;CN="Al Brandt":MAILTO:abrandt1@wi.rr.com
END:VEVENT
BEGIN:VEVENT
DTSTART;TZID=America/Chicago:20190619T163000
DTEND;TZID=America/Chicago:20190619T203000
DTSTAMP:20260423T152451
CREATED:20190224T145730Z
LAST-MODIFIED:20190413T005412Z
UID:10000200-1560961800-1560976200@www.wanakimensclub.com
SUMMARY:Wednesday Night Golf League
DESCRIPTION:
URL:https://www.wanakimensclub.com/event/wednesday-night-golf-league/2019-06-19/
LOCATION:Wanaki Golf Course\, N50 W20830 Lisbon Rd\, Menomonee Falls\, WI\, WI\, 53051\, United States
CATEGORIES:Wed Night League
ORGANIZER;CN="Martin Cherney Sr.":MAILTO:mcherney@sbcglobal.net
END:VEVENT
END:VCALENDAR