BEGIN:VCALENDAR
VERSION:2.0
PRODID:-//Wanaki Men&#039;s Club - ECPv6.15.18//NONSGML v1.0//EN
CALSCALE:GREGORIAN
METHOD:PUBLISH
X-ORIGINAL-URL:https://www.wanakimensclub.com
X-WR-CALDESC:Events for Wanaki Men&#039;s Club
REFRESH-INTERVAL;VALUE=DURATION:PT1H
X-Robots-Tag:noindex
X-PUBLISHED-TTL:PT1H
BEGIN:VTIMEZONE
TZID:America/Chicago
BEGIN:DAYLIGHT
TZOFFSETFROM:-0600
TZOFFSETTO:-0500
TZNAME:CDT
DTSTART:20250309T080000
END:DAYLIGHT
BEGIN:STANDARD
TZOFFSETFROM:-0500
TZOFFSETTO:-0600
TZNAME:CST
DTSTART:20251102T070000
END:STANDARD
BEGIN:DAYLIGHT
TZOFFSETFROM:-0600
TZOFFSETTO:-0500
TZNAME:CDT
DTSTART:20260308T080000
END:DAYLIGHT
BEGIN:STANDARD
TZOFFSETFROM:-0500
TZOFFSETTO:-0600
TZNAME:CST
DTSTART:20261101T070000
END:STANDARD
BEGIN:DAYLIGHT
TZOFFSETFROM:-0600
TZOFFSETTO:-0500
TZNAME:CDT
DTSTART:20270314T080000
END:DAYLIGHT
BEGIN:STANDARD
TZOFFSETFROM:-0500
TZOFFSETTO:-0600
TZNAME:CST
DTSTART:20271107T070000
END:STANDARD
END:VTIMEZONE
BEGIN:VEVENT
DTSTART;TZID=America/Chicago:20260715T163000
DTEND;TZID=America/Chicago:20260715T203000
DTSTAMP:20260423T182829
CREATED:20260111T161015Z
LAST-MODIFIED:20260111T161015Z
UID:10000587-1784133000-1784147400@www.wanakimensclub.com
SUMMARY:2026 Wednesday Night Golf League
DESCRIPTION:
URL:https://www.wanakimensclub.com/event/2026-wednesday-night-golf-league/2026-07-15/
LOCATION:Wanaki Golf Course\, N50 W20830 Lisbon Rd\, Menomonee Falls\, WI\, WI\, 53051\, United States
CATEGORIES:Wed Night League
ORGANIZER;CN="Bob Hart":MAILTO:amscrayhart62@yahoo.com
END:VEVENT
BEGIN:VEVENT
DTSTART;TZID=America/Chicago:20260716T093000
DTEND;TZID=America/Chicago:20260716T163000
DTSTAMP:20260423T182829
CREATED:20260111T160626Z
LAST-MODIFIED:20260111T160626Z
UID:10000552-1784194200-1784219400@www.wanakimensclub.com
SUMMARY:2026 Thursday 18 Hole Golf League
DESCRIPTION:Tee times are are from 9:36am-12:24pm. (88 spots)\n** Tee times will be compressed to fill gaps as much as possible\, so if you sign up in a later tee time you may actually get a slightly earlier time so Wanaki can optimize the tee sheet. **\nPay attention to the tee times already used when you register. Tee times are set in order of registration and those that sign up for a tee time already taken will be moved to an available tee time.\nRegistration opens on Wednesdays at 9:30am (8 days prior to the date of play) and closes at 9:30am the day before. Late registrations will not be accepted after the deadline.\n** Live scoring by your group is required for scores to be counted towards league play**. Download the Bluegolf Scorecard app on your phone and view our Help and FAQ page for detailed instructions.\nIf you or your group tend to be slower players and you sign up for early tee times you may be pushed back at the league administrators discretion. Pace of play expectation is 4 hours and 10 minutes and is monitored in BlueGolf.\n\nContact Dave Strackbein via email dstrackbein@wi.rr.com or text (414) 350-8231 for registration issues or post-deadline cancelations. \n 
URL:https://www.wanakimensclub.com/event/2026-thursday-18-hole-golf-league/2026-07-16/
LOCATION:Wanaki Golf Course\, N50 W20830 Lisbon Rd\, Menomonee Falls\, WI\, WI\, 53051\, United States
CATEGORIES:Thurs 18 Hole League
ORGANIZER;CN="David Strackbein":MAILTO:dstrackbein@wi.rr.com
END:VEVENT
BEGIN:VEVENT
DTSTART;TZID=America/Chicago:20260716T163000
DTEND;TZID=America/Chicago:20260716T203000
DTSTAMP:20260423T182829
CREATED:20260111T160840Z
LAST-MODIFIED:20260111T160840Z
UID:10000571-1784219400-1784233800@www.wanakimensclub.com
SUMMARY:2026 Thursday Night Golf League
DESCRIPTION:
URL:https://www.wanakimensclub.com/event/2026-thursday-night-golf-league/2026-07-16/
LOCATION:Wanaki Golf Course\, N50 W20830 Lisbon Rd\, Menomonee Falls\, WI\, WI\, 53051\, United States
CATEGORIES:Thurs Night League
ORGANIZER;CN="David Strackbein":MAILTO:dstrackbein@wi.rr.com
END:VEVENT
BEGIN:VEVENT
DTSTART;TZID=America/Chicago:20260722T163000
DTEND;TZID=America/Chicago:20260722T203000
DTSTAMP:20260423T182829
CREATED:20260111T161015Z
LAST-MODIFIED:20260111T161015Z
UID:10000588-1784737800-1784752200@www.wanakimensclub.com
SUMMARY:2026 Wednesday Night Golf League
DESCRIPTION:
URL:https://www.wanakimensclub.com/event/2026-wednesday-night-golf-league/2026-07-22/
LOCATION:Wanaki Golf Course\, N50 W20830 Lisbon Rd\, Menomonee Falls\, WI\, WI\, 53051\, United States
CATEGORIES:Wed Night League
ORGANIZER;CN="Bob Hart":MAILTO:amscrayhart62@yahoo.com
END:VEVENT
BEGIN:VEVENT
DTSTART;TZID=America/Chicago:20260723T093000
DTEND;TZID=America/Chicago:20260723T163000
DTSTAMP:20260423T182829
CREATED:20260111T160626Z
LAST-MODIFIED:20260111T160626Z
UID:10000553-1784799000-1784824200@www.wanakimensclub.com
SUMMARY:2026 Thursday 18 Hole Golf League
DESCRIPTION:Tee times are are from 9:36am-12:24pm. (88 spots)\n** Tee times will be compressed to fill gaps as much as possible\, so if you sign up in a later tee time you may actually get a slightly earlier time so Wanaki can optimize the tee sheet. **\nPay attention to the tee times already used when you register. Tee times are set in order of registration and those that sign up for a tee time already taken will be moved to an available tee time.\nRegistration opens on Wednesdays at 9:30am (8 days prior to the date of play) and closes at 9:30am the day before. Late registrations will not be accepted after the deadline.\n** Live scoring by your group is required for scores to be counted towards league play**. Download the Bluegolf Scorecard app on your phone and view our Help and FAQ page for detailed instructions.\nIf you or your group tend to be slower players and you sign up for early tee times you may be pushed back at the league administrators discretion. Pace of play expectation is 4 hours and 10 minutes and is monitored in BlueGolf.\n\nContact Dave Strackbein via email dstrackbein@wi.rr.com or text (414) 350-8231 for registration issues or post-deadline cancelations. \n 
URL:https://www.wanakimensclub.com/event/2026-thursday-18-hole-golf-league/2026-07-23/
LOCATION:Wanaki Golf Course\, N50 W20830 Lisbon Rd\, Menomonee Falls\, WI\, WI\, 53051\, United States
CATEGORIES:Thurs 18 Hole League
ORGANIZER;CN="David Strackbein":MAILTO:dstrackbein@wi.rr.com
END:VEVENT
BEGIN:VEVENT
DTSTART;TZID=America/Chicago:20260723T163000
DTEND;TZID=America/Chicago:20260723T203000
DTSTAMP:20260423T182829
CREATED:20260111T160840Z
LAST-MODIFIED:20260111T160840Z
UID:10000572-1784824200-1784838600@www.wanakimensclub.com
SUMMARY:2026 Thursday Night Golf League
DESCRIPTION:
URL:https://www.wanakimensclub.com/event/2026-thursday-night-golf-league/2026-07-23/
LOCATION:Wanaki Golf Course\, N50 W20830 Lisbon Rd\, Menomonee Falls\, WI\, WI\, 53051\, United States
CATEGORIES:Thurs Night League
ORGANIZER;CN="David Strackbein":MAILTO:dstrackbein@wi.rr.com
END:VEVENT
BEGIN:VEVENT
DTSTART;TZID=America/Chicago:20260726T073000
DTEND;TZID=America/Chicago:20260726T143000
DTSTAMP:20260423T182829
CREATED:20260111T182956Z
LAST-MODIFIED:20260111T182956Z
UID:10000601-1785051000-1785076200@www.wanakimensclub.com
SUMMARY:2026 Lawrence Welk 123-234
DESCRIPTION:Lawrence Welk 123-234 is a 4 man team event. Teams will be made up of players you sign up with\, not a blind draw. If a team is short one or more player\, a blind draw will be made to provide the team with a full complement of players.  All players will receive 90% of their individual Wanaki WSGA handicap at the time of the event. \nThe 4 man team competition is played as follows : \nOn Holes 1-3 – 1 low net score (after handicap adjustment) is the team score\nOn holes 4-6 – 2 low net scores (after handicap adjustment) is the team score\nOn Holes 7-9 – 3 low net scores (after handicap adjustment) is the team score\nOn holes 10-12 – 2 low net scores (after handicap adjustment) is the team score\nOn Holes 13-15 – 3 low net scores (after handicap adjustment) is the team score\nOn holes 16-18 – 4 low net scores (after handicap adjustment) is the team score \nEven par for this event is 180.  Tee times start at 7:30am. \n 
URL:https://www.wanakimensclub.com/event/2026-lawrence-welk-123-234/
LOCATION:Wanaki Golf Course\, N50 W20830 Lisbon Rd\, Menomonee Falls\, WI\, WI\, 53051\, United States
CATEGORIES:Club Tournament
ORGANIZER;CN="Todd Halverson":MAILTO:mensclubwanaki@gmail.com
END:VEVENT
BEGIN:VEVENT
DTSTART;TZID=America/Chicago:20260729T163000
DTEND;TZID=America/Chicago:20260729T203000
DTSTAMP:20260423T182829
CREATED:20260111T161015Z
LAST-MODIFIED:20260111T161015Z
UID:10000589-1785342600-1785357000@www.wanakimensclub.com
SUMMARY:2026 Wednesday Night Golf League
DESCRIPTION:
URL:https://www.wanakimensclub.com/event/2026-wednesday-night-golf-league/2026-07-29/
LOCATION:Wanaki Golf Course\, N50 W20830 Lisbon Rd\, Menomonee Falls\, WI\, WI\, 53051\, United States
CATEGORIES:Wed Night League
ORGANIZER;CN="Bob Hart":MAILTO:amscrayhart62@yahoo.com
END:VEVENT
BEGIN:VEVENT
DTSTART;TZID=America/Chicago:20260730T093000
DTEND;TZID=America/Chicago:20260730T163000
DTSTAMP:20260423T182829
CREATED:20260111T160626Z
LAST-MODIFIED:20260111T160626Z
UID:10000554-1785403800-1785429000@www.wanakimensclub.com
SUMMARY:2026 Thursday 18 Hole Golf League
DESCRIPTION:Tee times are are from 9:36am-12:24pm. (88 spots)\n** Tee times will be compressed to fill gaps as much as possible\, so if you sign up in a later tee time you may actually get a slightly earlier time so Wanaki can optimize the tee sheet. **\nPay attention to the tee times already used when you register. Tee times are set in order of registration and those that sign up for a tee time already taken will be moved to an available tee time.\nRegistration opens on Wednesdays at 9:30am (8 days prior to the date of play) and closes at 9:30am the day before. Late registrations will not be accepted after the deadline.\n** Live scoring by your group is required for scores to be counted towards league play**. Download the Bluegolf Scorecard app on your phone and view our Help and FAQ page for detailed instructions.\nIf you or your group tend to be slower players and you sign up for early tee times you may be pushed back at the league administrators discretion. Pace of play expectation is 4 hours and 10 minutes and is monitored in BlueGolf.\n\nContact Dave Strackbein via email dstrackbein@wi.rr.com or text (414) 350-8231 for registration issues or post-deadline cancelations. \n 
URL:https://www.wanakimensclub.com/event/2026-thursday-18-hole-golf-league/2026-07-30/
LOCATION:Wanaki Golf Course\, N50 W20830 Lisbon Rd\, Menomonee Falls\, WI\, WI\, 53051\, United States
CATEGORIES:Thurs 18 Hole League
ORGANIZER;CN="David Strackbein":MAILTO:dstrackbein@wi.rr.com
END:VEVENT
BEGIN:VEVENT
DTSTART;TZID=America/Chicago:20260730T163000
DTEND;TZID=America/Chicago:20260730T203000
DTSTAMP:20260423T182829
CREATED:20260111T160840Z
LAST-MODIFIED:20260111T160840Z
UID:10000573-1785429000-1785443400@www.wanakimensclub.com
SUMMARY:2026 Thursday Night Golf League
DESCRIPTION:
URL:https://www.wanakimensclub.com/event/2026-thursday-night-golf-league/2026-07-30/
LOCATION:Wanaki Golf Course\, N50 W20830 Lisbon Rd\, Menomonee Falls\, WI\, WI\, 53051\, United States
CATEGORIES:Thurs Night League
ORGANIZER;CN="David Strackbein":MAILTO:dstrackbein@wi.rr.com
END:VEVENT
BEGIN:VEVENT
DTSTART;TZID=America/Chicago:20260805T163000
DTEND;TZID=America/Chicago:20260805T203000
DTSTAMP:20260423T182829
CREATED:20260111T161015Z
LAST-MODIFIED:20260111T161015Z
UID:10000590-1785947400-1785961800@www.wanakimensclub.com
SUMMARY:2026 Wednesday Night Golf League
DESCRIPTION:
URL:https://www.wanakimensclub.com/event/2026-wednesday-night-golf-league/2026-08-05/
LOCATION:Wanaki Golf Course\, N50 W20830 Lisbon Rd\, Menomonee Falls\, WI\, WI\, 53051\, United States
CATEGORIES:Wed Night League
ORGANIZER;CN="Bob Hart":MAILTO:amscrayhart62@yahoo.com
END:VEVENT
BEGIN:VEVENT
DTSTART;TZID=America/Chicago:20260806T093000
DTEND;TZID=America/Chicago:20260806T163000
DTSTAMP:20260423T182829
CREATED:20260111T160626Z
LAST-MODIFIED:20260111T160626Z
UID:10000555-1786008600-1786033800@www.wanakimensclub.com
SUMMARY:2026 Thursday 18 Hole Golf League
DESCRIPTION:Tee times are are from 9:36am-12:24pm. (88 spots)\n** Tee times will be compressed to fill gaps as much as possible\, so if you sign up in a later tee time you may actually get a slightly earlier time so Wanaki can optimize the tee sheet. **\nPay attention to the tee times already used when you register. Tee times are set in order of registration and those that sign up for a tee time already taken will be moved to an available tee time.\nRegistration opens on Wednesdays at 9:30am (8 days prior to the date of play) and closes at 9:30am the day before. Late registrations will not be accepted after the deadline.\n** Live scoring by your group is required for scores to be counted towards league play**. Download the Bluegolf Scorecard app on your phone and view our Help and FAQ page for detailed instructions.\nIf you or your group tend to be slower players and you sign up for early tee times you may be pushed back at the league administrators discretion. Pace of play expectation is 4 hours and 10 minutes and is monitored in BlueGolf.\n\nContact Dave Strackbein via email dstrackbein@wi.rr.com or text (414) 350-8231 for registration issues or post-deadline cancelations. \n 
URL:https://www.wanakimensclub.com/event/2026-thursday-18-hole-golf-league/2026-08-06/
LOCATION:Wanaki Golf Course\, N50 W20830 Lisbon Rd\, Menomonee Falls\, WI\, WI\, 53051\, United States
CATEGORIES:Thurs 18 Hole League
ORGANIZER;CN="David Strackbein":MAILTO:dstrackbein@wi.rr.com
END:VEVENT
BEGIN:VEVENT
DTSTART;TZID=America/Chicago:20260806T163000
DTEND;TZID=America/Chicago:20260806T203000
DTSTAMP:20260423T182829
CREATED:20260111T160840Z
LAST-MODIFIED:20260111T160840Z
UID:10000574-1786033800-1786048200@www.wanakimensclub.com
SUMMARY:2026 Thursday Night Golf League
DESCRIPTION:
URL:https://www.wanakimensclub.com/event/2026-thursday-night-golf-league/2026-08-06/
LOCATION:Wanaki Golf Course\, N50 W20830 Lisbon Rd\, Menomonee Falls\, WI\, WI\, 53051\, United States
CATEGORIES:Thurs Night League
ORGANIZER;CN="David Strackbein":MAILTO:dstrackbein@wi.rr.com
END:VEVENT
BEGIN:VEVENT
DTSTART;TZID=America/Chicago:20260809T080000
DTEND;TZID=America/Chicago:20260809T133000
DTSTAMP:20260423T182829
CREATED:20260111T183130Z
LAST-MODIFIED:20260111T183130Z
UID:10000602-1786262400-1786282200@www.wanakimensclub.com
SUMMARY:2026 Individual Net
DESCRIPTION:There is no mystery to the Individual Net tournament format.  Each player plays on their own ball and will record gross and net scores for each hole. The handicap for each player is 90% of their current WSGA Handicap Index for the course and tees being played. \n 
URL:https://www.wanakimensclub.com/event/2026-individual-net/
LOCATION:Wanaki Golf Course\, N50 W20830 Lisbon Rd\, Menomonee Falls\, WI\, WI\, 53051\, United States
CATEGORIES:Club Tournament
ORGANIZER;CN="Todd Halverson":MAILTO:mensclubwanaki@gmail.com
END:VEVENT
BEGIN:VEVENT
DTSTART;TZID=America/Chicago:20260812T163000
DTEND;TZID=America/Chicago:20260812T203000
DTSTAMP:20260423T182829
CREATED:20260111T161015Z
LAST-MODIFIED:20260111T161015Z
UID:10000591-1786552200-1786566600@www.wanakimensclub.com
SUMMARY:2026 Wednesday Night Golf League
DESCRIPTION:
URL:https://www.wanakimensclub.com/event/2026-wednesday-night-golf-league/2026-08-12/
LOCATION:Wanaki Golf Course\, N50 W20830 Lisbon Rd\, Menomonee Falls\, WI\, WI\, 53051\, United States
CATEGORIES:Wed Night League
ORGANIZER;CN="Bob Hart":MAILTO:amscrayhart62@yahoo.com
END:VEVENT
BEGIN:VEVENT
DTSTART;TZID=America/Chicago:20260813T093000
DTEND;TZID=America/Chicago:20260813T163000
DTSTAMP:20260423T182829
CREATED:20260111T160626Z
LAST-MODIFIED:20260111T160626Z
UID:10000556-1786613400-1786638600@www.wanakimensclub.com
SUMMARY:2026 Thursday 18 Hole Golf League
DESCRIPTION:Tee times are are from 9:36am-12:24pm. (88 spots)\n** Tee times will be compressed to fill gaps as much as possible\, so if you sign up in a later tee time you may actually get a slightly earlier time so Wanaki can optimize the tee sheet. **\nPay attention to the tee times already used when you register. Tee times are set in order of registration and those that sign up for a tee time already taken will be moved to an available tee time.\nRegistration opens on Wednesdays at 9:30am (8 days prior to the date of play) and closes at 9:30am the day before. Late registrations will not be accepted after the deadline.\n** Live scoring by your group is required for scores to be counted towards league play**. Download the Bluegolf Scorecard app on your phone and view our Help and FAQ page for detailed instructions.\nIf you or your group tend to be slower players and you sign up for early tee times you may be pushed back at the league administrators discretion. Pace of play expectation is 4 hours and 10 minutes and is monitored in BlueGolf.\n\nContact Dave Strackbein via email dstrackbein@wi.rr.com or text (414) 350-8231 for registration issues or post-deadline cancelations. \n 
URL:https://www.wanakimensclub.com/event/2026-thursday-18-hole-golf-league/2026-08-13/
LOCATION:Wanaki Golf Course\, N50 W20830 Lisbon Rd\, Menomonee Falls\, WI\, WI\, 53051\, United States
CATEGORIES:Thurs 18 Hole League
ORGANIZER;CN="David Strackbein":MAILTO:dstrackbein@wi.rr.com
END:VEVENT
BEGIN:VEVENT
DTSTART;TZID=America/Chicago:20260813T163000
DTEND;TZID=America/Chicago:20260813T203000
DTSTAMP:20260423T182829
CREATED:20260111T160840Z
LAST-MODIFIED:20260111T160840Z
UID:10000575-1786638600-1786653000@www.wanakimensclub.com
SUMMARY:2026 Thursday Night Golf League
DESCRIPTION:
URL:https://www.wanakimensclub.com/event/2026-thursday-night-golf-league/2026-08-13/
LOCATION:Wanaki Golf Course\, N50 W20830 Lisbon Rd\, Menomonee Falls\, WI\, WI\, 53051\, United States
CATEGORIES:Thurs Night League
ORGANIZER;CN="David Strackbein":MAILTO:dstrackbein@wi.rr.com
END:VEVENT
BEGIN:VEVENT
DTSTART;TZID=America/Chicago:20260819T163000
DTEND;TZID=America/Chicago:20260819T203000
DTSTAMP:20260423T182829
CREATED:20260111T161015Z
LAST-MODIFIED:20260111T161015Z
UID:10000592-1787157000-1787171400@www.wanakimensclub.com
SUMMARY:2026 Wednesday Night Golf League
DESCRIPTION:
URL:https://www.wanakimensclub.com/event/2026-wednesday-night-golf-league/2026-08-19/
LOCATION:Wanaki Golf Course\, N50 W20830 Lisbon Rd\, Menomonee Falls\, WI\, WI\, 53051\, United States
CATEGORIES:Wed Night League
ORGANIZER;CN="Bob Hart":MAILTO:amscrayhart62@yahoo.com
END:VEVENT
BEGIN:VEVENT
DTSTART;TZID=America/Chicago:20260820T093000
DTEND;TZID=America/Chicago:20260820T163000
DTSTAMP:20260423T182829
CREATED:20260111T160626Z
LAST-MODIFIED:20260111T160626Z
UID:10000557-1787218200-1787243400@www.wanakimensclub.com
SUMMARY:2026 Thursday 18 Hole Golf League
DESCRIPTION:Tee times are are from 9:36am-12:24pm. (88 spots)\n** Tee times will be compressed to fill gaps as much as possible\, so if you sign up in a later tee time you may actually get a slightly earlier time so Wanaki can optimize the tee sheet. **\nPay attention to the tee times already used when you register. Tee times are set in order of registration and those that sign up for a tee time already taken will be moved to an available tee time.\nRegistration opens on Wednesdays at 9:30am (8 days prior to the date of play) and closes at 9:30am the day before. Late registrations will not be accepted after the deadline.\n** Live scoring by your group is required for scores to be counted towards league play**. Download the Bluegolf Scorecard app on your phone and view our Help and FAQ page for detailed instructions.\nIf you or your group tend to be slower players and you sign up for early tee times you may be pushed back at the league administrators discretion. Pace of play expectation is 4 hours and 10 minutes and is monitored in BlueGolf.\n\nContact Dave Strackbein via email dstrackbein@wi.rr.com or text (414) 350-8231 for registration issues or post-deadline cancelations. \n 
URL:https://www.wanakimensclub.com/event/2026-thursday-18-hole-golf-league/2026-08-20/
LOCATION:Wanaki Golf Course\, N50 W20830 Lisbon Rd\, Menomonee Falls\, WI\, WI\, 53051\, United States
CATEGORIES:Thurs 18 Hole League
ORGANIZER;CN="David Strackbein":MAILTO:dstrackbein@wi.rr.com
END:VEVENT
BEGIN:VEVENT
DTSTART;TZID=America/Chicago:20260820T163000
DTEND;TZID=America/Chicago:20260820T203000
DTSTAMP:20260423T182829
CREATED:20260111T160840Z
LAST-MODIFIED:20260111T160840Z
UID:10000576-1787243400-1787257800@www.wanakimensclub.com
SUMMARY:2026 Thursday Night Golf League
DESCRIPTION:
URL:https://www.wanakimensclub.com/event/2026-thursday-night-golf-league/2026-08-20/
LOCATION:Wanaki Golf Course\, N50 W20830 Lisbon Rd\, Menomonee Falls\, WI\, WI\, 53051\, United States
CATEGORIES:Thurs Night League
ORGANIZER;CN="David Strackbein":MAILTO:dstrackbein@wi.rr.com
END:VEVENT
BEGIN:VEVENT
DTSTART;TZID=America/Chicago:20260823T073000
DTEND;TZID=America/Chicago:20260823T133000
DTSTAMP:20260423T182829
CREATED:20260111T183226Z
LAST-MODIFIED:20260111T183408Z
UID:10000603-1787470200-1787491800@www.wanakimensclub.com
SUMMARY:2026 TBD Event
DESCRIPTION:
URL:https://www.wanakimensclub.com/event/2026-individual-net-2/
LOCATION:Wanaki Golf Course\, N50 W20830 Lisbon Rd\, Menomonee Falls\, WI\, WI\, 53051\, United States
CATEGORIES:Club Tournament
ORGANIZER;CN="Todd Halverson":MAILTO:mensclubwanaki@gmail.com
END:VEVENT
BEGIN:VEVENT
DTSTART;TZID=America/Chicago:20260827T093000
DTEND;TZID=America/Chicago:20260827T163000
DTSTAMP:20260423T182829
CREATED:20260111T160626Z
LAST-MODIFIED:20260111T160626Z
UID:10000558-1787823000-1787848200@www.wanakimensclub.com
SUMMARY:2026 Thursday 18 Hole Golf League
DESCRIPTION:Tee times are are from 9:36am-12:24pm. (88 spots)\n** Tee times will be compressed to fill gaps as much as possible\, so if you sign up in a later tee time you may actually get a slightly earlier time so Wanaki can optimize the tee sheet. **\nPay attention to the tee times already used when you register. Tee times are set in order of registration and those that sign up for a tee time already taken will be moved to an available tee time.\nRegistration opens on Wednesdays at 9:30am (8 days prior to the date of play) and closes at 9:30am the day before. Late registrations will not be accepted after the deadline.\n** Live scoring by your group is required for scores to be counted towards league play**. Download the Bluegolf Scorecard app on your phone and view our Help and FAQ page for detailed instructions.\nIf you or your group tend to be slower players and you sign up for early tee times you may be pushed back at the league administrators discretion. Pace of play expectation is 4 hours and 10 minutes and is monitored in BlueGolf.\n\nContact Dave Strackbein via email dstrackbein@wi.rr.com or text (414) 350-8231 for registration issues or post-deadline cancelations. \n 
URL:https://www.wanakimensclub.com/event/2026-thursday-18-hole-golf-league/2026-08-27/
LOCATION:Wanaki Golf Course\, N50 W20830 Lisbon Rd\, Menomonee Falls\, WI\, WI\, 53051\, United States
CATEGORIES:Thurs 18 Hole League
ORGANIZER;CN="David Strackbein":MAILTO:dstrackbein@wi.rr.com
END:VEVENT
BEGIN:VEVENT
DTSTART;TZID=America/Chicago:20260903T093000
DTEND;TZID=America/Chicago:20260903T163000
DTSTAMP:20260423T182829
CREATED:20260111T160626Z
LAST-MODIFIED:20260111T160626Z
UID:10000559-1788427800-1788453000@www.wanakimensclub.com
SUMMARY:2026 Thursday 18 Hole Golf League
DESCRIPTION:Tee times are are from 9:36am-12:24pm. (88 spots)\n** Tee times will be compressed to fill gaps as much as possible\, so if you sign up in a later tee time you may actually get a slightly earlier time so Wanaki can optimize the tee sheet. **\nPay attention to the tee times already used when you register. Tee times are set in order of registration and those that sign up for a tee time already taken will be moved to an available tee time.\nRegistration opens on Wednesdays at 9:30am (8 days prior to the date of play) and closes at 9:30am the day before. Late registrations will not be accepted after the deadline.\n** Live scoring by your group is required for scores to be counted towards league play**. Download the Bluegolf Scorecard app on your phone and view our Help and FAQ page for detailed instructions.\nIf you or your group tend to be slower players and you sign up for early tee times you may be pushed back at the league administrators discretion. Pace of play expectation is 4 hours and 10 minutes and is monitored in BlueGolf.\n\nContact Dave Strackbein via email dstrackbein@wi.rr.com or text (414) 350-8231 for registration issues or post-deadline cancelations. \n 
URL:https://www.wanakimensclub.com/event/2026-thursday-18-hole-golf-league/2026-09-03/
LOCATION:Wanaki Golf Course\, N50 W20830 Lisbon Rd\, Menomonee Falls\, WI\, WI\, 53051\, United States
CATEGORIES:Thurs 18 Hole League
ORGANIZER;CN="David Strackbein":MAILTO:dstrackbein@wi.rr.com
END:VEVENT
BEGIN:VEVENT
DTSTART;TZID=America/Chicago:20260910T093000
DTEND;TZID=America/Chicago:20260910T163000
DTSTAMP:20260423T182829
CREATED:20260111T160626Z
LAST-MODIFIED:20260111T160626Z
UID:10000560-1789032600-1789057800@www.wanakimensclub.com
SUMMARY:2026 Thursday 18 Hole Golf League
DESCRIPTION:Tee times are are from 9:36am-12:24pm. (88 spots)\n** Tee times will be compressed to fill gaps as much as possible\, so if you sign up in a later tee time you may actually get a slightly earlier time so Wanaki can optimize the tee sheet. **\nPay attention to the tee times already used when you register. Tee times are set in order of registration and those that sign up for a tee time already taken will be moved to an available tee time.\nRegistration opens on Wednesdays at 9:30am (8 days prior to the date of play) and closes at 9:30am the day before. Late registrations will not be accepted after the deadline.\n** Live scoring by your group is required for scores to be counted towards league play**. Download the Bluegolf Scorecard app on your phone and view our Help and FAQ page for detailed instructions.\nIf you or your group tend to be slower players and you sign up for early tee times you may be pushed back at the league administrators discretion. Pace of play expectation is 4 hours and 10 minutes and is monitored in BlueGolf.\n\nContact Dave Strackbein via email dstrackbein@wi.rr.com or text (414) 350-8231 for registration issues or post-deadline cancelations. \n 
URL:https://www.wanakimensclub.com/event/2026-thursday-18-hole-golf-league/2026-09-10/
LOCATION:Wanaki Golf Course\, N50 W20830 Lisbon Rd\, Menomonee Falls\, WI\, WI\, 53051\, United States
CATEGORIES:Thurs 18 Hole League
ORGANIZER;CN="David Strackbein":MAILTO:dstrackbein@wi.rr.com
END:VEVENT
BEGIN:VEVENT
DTSTART;TZID=America/Chicago:20260927T073000
DTEND;TZID=America/Chicago:20260927T143000
DTSTAMP:20260423T182829
CREATED:20260111T182126Z
LAST-MODIFIED:20260111T182126Z
UID:10000594-1790494200-1790519400@www.wanakimensclub.com
SUMMARY:2026 Tom Binney Flag Day Championship
DESCRIPTION:Flag day is one of the most fun formats of the Men’s Club season. Each participant is given a flag with a number on it. This number is calculated as 60 + your Wanaki WSGA Handicap on the day of the event. The flag travels with you throughout your round until the shot number corresponding to the number on your flag comes to rest. At that point you place your flag in the ground and continue playing your round. When the flag numbered shot does not end up on or around the green\, the flag is placed at the closest edge of the fairway at the same distance from the hole from where the flag numbered shot rests. If it is near or on the green\, the flag is placed at the edge of the green with a notation of how far the ball is from the hole when it came to rest. \nThe Tom Binney Championship is held in conjunction with this event. Participants will be divided in the Low Gross contest in flights making the Tom Binney an 18 hole stroke play championship  At registration players will choose Open or Senior\, with Open being divided into Championship\, A\, B\, and C flights with Low Gross being the winner.  Senior will be 1 flight but will have a Low Gross and Low Net champion. \nOpen Flight Tees:\nChampionship – Blue\nA – White\nB – White\nC – White \nSenior Flight Tees:\nAll Players – Gold \nTee times start at 7:30am.
URL:https://www.wanakimensclub.com/event/2026-tom-binney-flag-day-championship/
LOCATION:Wanaki Golf Course\, N50 W20830 Lisbon Rd\, Menomonee Falls\, WI\, WI\, 53051\, United States
CATEGORIES:Club Tournament
ORGANIZER;CN="Todd Halverson":MAILTO:mensclubwanaki@gmail.com
END:VEVENT
BEGIN:VEVENT
DTSTART;TZID=America/Chicago:20261011T090000
DTEND;TZID=America/Chicago:20261011T130000
DTSTAMP:20260423T182829
CREATED:20260111T180754Z
LAST-MODIFIED:20260111T181956Z
UID:10000593-1791709200-1791723600@www.wanakimensclub.com
SUMMARY:2026 Diehard
DESCRIPTION:Wanaki Men’s Club Diehard \nThis event will be an 9:00am shotgun start. \nInvite former members to play with you.  If you have significant others that would like to come after the round for lunch and entertainment\, the cost is $15. \n 
URL:https://www.wanakimensclub.com/event/2026-diehard/
LOCATION:Wanaki Golf Course\, N50 W20830 Lisbon Rd\, Menomonee Falls\, WI\, WI\, 53051\, United States
CATEGORIES:Club Tournament
ORGANIZER;CN="Todd Halverson":MAILTO:mensclubwanaki@gmail.com
END:VEVENT
END:VCALENDAR