BEGIN:VCALENDAR
VERSION:2.0
PRODID:-//Wanaki Men&#039;s Club - ECPv6.15.18//NONSGML v1.0//EN
CALSCALE:GREGORIAN
METHOD:PUBLISH
X-WR-CALNAME:Wanaki Men&#039;s Club
X-ORIGINAL-URL:https://www.wanakimensclub.com
X-WR-CALDESC:Events for Wanaki Men&#039;s Club
REFRESH-INTERVAL;VALUE=DURATION:PT1H
X-Robots-Tag:noindex
X-PUBLISHED-TTL:PT1H
BEGIN:VTIMEZONE
TZID:America/Chicago
BEGIN:DAYLIGHT
TZOFFSETFROM:-0600
TZOFFSETTO:-0500
TZNAME:CDT
DTSTART:20190310T080000
END:DAYLIGHT
BEGIN:STANDARD
TZOFFSETFROM:-0500
TZOFFSETTO:-0600
TZNAME:CST
DTSTART:20191103T070000
END:STANDARD
BEGIN:DAYLIGHT
TZOFFSETFROM:-0600
TZOFFSETTO:-0500
TZNAME:CDT
DTSTART:20200308T080000
END:DAYLIGHT
BEGIN:STANDARD
TZOFFSETFROM:-0500
TZOFFSETTO:-0600
TZNAME:CST
DTSTART:20201101T070000
END:STANDARD
BEGIN:DAYLIGHT
TZOFFSETFROM:-0600
TZOFFSETTO:-0500
TZNAME:CDT
DTSTART:20210314T080000
END:DAYLIGHT
BEGIN:STANDARD
TZOFFSETFROM:-0500
TZOFFSETTO:-0600
TZNAME:CST
DTSTART:20211107T070000
END:STANDARD
END:VTIMEZONE
BEGIN:VEVENT
DTSTART;TZID=America/Chicago:20200628T073000
DTEND;TZID=America/Chicago:20200628T143000
DTSTAMP:20260425T100022
CREATED:20200127T145420Z
LAST-MODIFIED:20200615T121545Z
UID:10000273-1593329400-1593354600@www.wanakimensclub.com
SUMMARY:Net Partners
DESCRIPTION:Tee times start at 7:30am \n** Click here to view tee times already taken in Bluegolf **
URL:https://www.wanakimensclub.com/event/net-partners/
LOCATION:Wanaki Golf Course\, N50 W20830 Lisbon Rd\, Menomonee Falls\, WI\, WI\, 53051\, United States
CATEGORIES:Club Tournament
ORGANIZER;CN="Chris Gissal":MAILTO:cgissal@wi.rr.com
END:VEVENT
BEGIN:VEVENT
DTSTART;TZID=America/Chicago:20200701T163000
DTEND;TZID=America/Chicago:20200701T203000
DTSTAMP:20260425T100022
CREATED:20200127T143207Z
LAST-MODIFIED:20200423T005245Z
UID:10000260-1593621000-1593635400@www.wanakimensclub.com
SUMMARY:Wednesday Night Golf League
DESCRIPTION:
URL:https://www.wanakimensclub.com/event/wednesday-night-golf-league-2/2020-07-01/
LOCATION:Wanaki Golf Course\, N50 W20830 Lisbon Rd\, Menomonee Falls\, WI\, WI\, 53051\, United States
CATEGORIES:Wed Night League
ORGANIZER;CN="Martin Cherney Sr.":MAILTO:mcherney@sbcglobal.net
END:VEVENT
BEGIN:VEVENT
DTSTART;TZID=America/Chicago:20200702T103000
DTEND;TZID=America/Chicago:20200702T130000
DTSTAMP:20260425T100022
CREATED:20200127T143556Z
LAST-MODIFIED:20200519T193459Z
UID:10000182-1593685800-1593694800@www.wanakimensclub.com
SUMMARY:Thursday Afternoon Golf League
DESCRIPTION:Registration opens one week prior to the league date and closes at 6am the Wednesday before. \nIf someone registers playing partners other than themselves\, those playing partners DO NOT have to register on their own.  The person who creates the registration can also edit and make changes to it such as adding / removing playing partners\, etc.
URL:https://www.wanakimensclub.com/event/thursday-afternoon-golf-league-2020-05-14/2020-07-02/
LOCATION:Wanaki Golf Course\, N50 W20830 Lisbon Rd\, Menomonee Falls\, WI\, WI\, 53051\, United States
CATEGORIES:Thurs 18 Hole League
ORGANIZER;CN="Jim Ehnert":MAILTO:wanakijim@gmail.com
END:VEVENT
BEGIN:VEVENT
DTSTART;TZID=America/Chicago:20200702T163000
DTEND;TZID=America/Chicago:20200702T203000
DTSTAMP:20260425T100022
CREATED:20200127T143900Z
LAST-MODIFIED:20200127T143900Z
UID:10000063-1593707400-1593721800@www.wanakimensclub.com
SUMMARY:Thursday Night Golf League
DESCRIPTION:
URL:https://www.wanakimensclub.com/event/thursday-night-golf-league-2/2020-07-02/
LOCATION:Wanaki Golf Course\, N50 W20830 Lisbon Rd\, Menomonee Falls\, WI\, WI\, 53051\, United States
CATEGORIES:Thurs Night League
ORGANIZER;CN="Al Brandt":MAILTO:abrandt1@wi.rr.com
END:VEVENT
BEGIN:VEVENT
DTSTART;TZID=America/Chicago:20200708T163000
DTEND;TZID=America/Chicago:20200708T203000
DTSTAMP:20260425T100022
CREATED:20200127T143207Z
LAST-MODIFIED:20200423T005245Z
UID:10000261-1594225800-1594240200@www.wanakimensclub.com
SUMMARY:Wednesday Night Golf League
DESCRIPTION:
URL:https://www.wanakimensclub.com/event/wednesday-night-golf-league-2/2020-07-08/
LOCATION:Wanaki Golf Course\, N50 W20830 Lisbon Rd\, Menomonee Falls\, WI\, WI\, 53051\, United States
CATEGORIES:Wed Night League
ORGANIZER;CN="Martin Cherney Sr.":MAILTO:mcherney@sbcglobal.net
END:VEVENT
BEGIN:VEVENT
DTSTART;TZID=America/Chicago:20200709T103000
DTEND;TZID=America/Chicago:20200709T130000
DTSTAMP:20260425T100022
CREATED:20200127T143556Z
LAST-MODIFIED:20200519T193459Z
UID:10000183-1594290600-1594299600@www.wanakimensclub.com
SUMMARY:Thursday Afternoon Golf League
DESCRIPTION:Registration opens one week prior to the league date and closes at 6am the Wednesday before. \nIf someone registers playing partners other than themselves\, those playing partners DO NOT have to register on their own.  The person who creates the registration can also edit and make changes to it such as adding / removing playing partners\, etc.
URL:https://www.wanakimensclub.com/event/thursday-afternoon-golf-league-2020-05-14/2020-07-09/
LOCATION:Wanaki Golf Course\, N50 W20830 Lisbon Rd\, Menomonee Falls\, WI\, WI\, 53051\, United States
CATEGORIES:Thurs 18 Hole League
ORGANIZER;CN="Jim Ehnert":MAILTO:wanakijim@gmail.com
END:VEVENT
BEGIN:VEVENT
DTSTART;TZID=America/Chicago:20200709T163000
DTEND;TZID=America/Chicago:20200709T203000
DTSTAMP:20260425T100022
CREATED:20200127T143900Z
LAST-MODIFIED:20200127T143900Z
UID:10000064-1594312200-1594326600@www.wanakimensclub.com
SUMMARY:Thursday Night Golf League
DESCRIPTION:
URL:https://www.wanakimensclub.com/event/thursday-night-golf-league-2/2020-07-09/
LOCATION:Wanaki Golf Course\, N50 W20830 Lisbon Rd\, Menomonee Falls\, WI\, WI\, 53051\, United States
CATEGORIES:Thurs Night League
ORGANIZER;CN="Al Brandt":MAILTO:abrandt1@wi.rr.com
END:VEVENT
BEGIN:VEVENT
DTSTART;VALUE=DATE:20200711
DTEND;VALUE=DATE:20200712
DTSTAMP:20260425T100022
CREATED:20200127T151946Z
LAST-MODIFIED:20200127T151946Z
UID:10000014-1594425600-1594511999@www.wanakimensclub.com
SUMMARY:WPLA Mid-Amateur & Senior 36 Hole Championship
DESCRIPTION:Janesville Riverside Golf Course
URL:https://www.wanakimensclub.com/event/wpla-mid-amateur-senior-36-hole-championship/2020-07-11/
LOCATION:WI\, United States
CATEGORIES:Tournament
ORGANIZER;CN="WSGA":MAILTO:info@wsga.org
END:VEVENT
BEGIN:VEVENT
DTSTART;VALUE=DATE:20200712
DTEND;VALUE=DATE:20200713
DTSTAMP:20260425T100022
CREATED:20200127T151946Z
LAST-MODIFIED:20200127T151946Z
UID:10000015-1594512000-1594598399@www.wanakimensclub.com
SUMMARY:WPLA Mid-Amateur & Senior 36 Hole Championship
DESCRIPTION:Janesville Riverside Golf Course
URL:https://www.wanakimensclub.com/event/wpla-mid-amateur-senior-36-hole-championship/2020-07-12/
LOCATION:WI\, United States
CATEGORIES:Tournament
ORGANIZER;CN="WSGA":MAILTO:info@wsga.org
END:VEVENT
BEGIN:VEVENT
DTSTART;TZID=America/Chicago:20200715T163000
DTEND;TZID=America/Chicago:20200715T203000
DTSTAMP:20260425T100022
CREATED:20200127T143207Z
LAST-MODIFIED:20200423T005245Z
UID:10000262-1594830600-1594845000@www.wanakimensclub.com
SUMMARY:Wednesday Night Golf League
DESCRIPTION:
URL:https://www.wanakimensclub.com/event/wednesday-night-golf-league-2/2020-07-15/
LOCATION:Wanaki Golf Course\, N50 W20830 Lisbon Rd\, Menomonee Falls\, WI\, WI\, 53051\, United States
CATEGORIES:Wed Night League
ORGANIZER;CN="Martin Cherney Sr.":MAILTO:mcherney@sbcglobal.net
END:VEVENT
BEGIN:VEVENT
DTSTART;TZID=America/Chicago:20200716T103000
DTEND;TZID=America/Chicago:20200716T130000
DTSTAMP:20260425T100022
CREATED:20200127T143556Z
LAST-MODIFIED:20200519T193459Z
UID:10000184-1594895400-1594904400@www.wanakimensclub.com
SUMMARY:Thursday Afternoon Golf League
DESCRIPTION:Registration opens one week prior to the league date and closes at 6am the Wednesday before. \nIf someone registers playing partners other than themselves\, those playing partners DO NOT have to register on their own.  The person who creates the registration can also edit and make changes to it such as adding / removing playing partners\, etc.
URL:https://www.wanakimensclub.com/event/thursday-afternoon-golf-league-2020-05-14/2020-07-16/
LOCATION:Wanaki Golf Course\, N50 W20830 Lisbon Rd\, Menomonee Falls\, WI\, WI\, 53051\, United States
CATEGORIES:Thurs 18 Hole League
ORGANIZER;CN="Jim Ehnert":MAILTO:wanakijim@gmail.com
END:VEVENT
BEGIN:VEVENT
DTSTART;TZID=America/Chicago:20200716T163000
DTEND;TZID=America/Chicago:20200716T203000
DTSTAMP:20260425T100022
CREATED:20200127T143900Z
LAST-MODIFIED:20200127T143900Z
UID:10000065-1594917000-1594931400@www.wanakimensclub.com
SUMMARY:Thursday Night Golf League
DESCRIPTION:
URL:https://www.wanakimensclub.com/event/thursday-night-golf-league-2/2020-07-16/
LOCATION:Wanaki Golf Course\, N50 W20830 Lisbon Rd\, Menomonee Falls\, WI\, WI\, 53051\, United States
CATEGORIES:Thurs Night League
ORGANIZER;CN="Al Brandt":MAILTO:abrandt1@wi.rr.com
END:VEVENT
BEGIN:VEVENT
DTSTART;TZID=America/Chicago:20200719T073000
DTEND;TZID=America/Chicago:20200719T143000
DTSTAMP:20260425T100022
CREATED:20200127T145545Z
LAST-MODIFIED:20200708T132924Z
UID:10000274-1595143800-1595169000@www.wanakimensclub.com
SUMMARY:Wanaki Cup
DESCRIPTION:Tee times start at 7:30am.  Please check the currently registered list and Bluegolf to make sure a time has not been taken. Tee times may be adjusted to compress the event into as few tee times as possible so the balance can be released to the public. \n** Click here to view tee times already taken in Bluegolf **
URL:https://www.wanakimensclub.com/event/wanaki-cup/
LOCATION:Wanaki Golf Course\, N50 W20830 Lisbon Rd\, Menomonee Falls\, WI\, WI\, 53051\, United States
CATEGORIES:Club Tournament
ORGANIZER;CN="Todd Halverson":MAILTO:mensclubwanaki@gmail.com
END:VEVENT
BEGIN:VEVENT
DTSTART;TZID=America/Chicago:20200722T163000
DTEND;TZID=America/Chicago:20200722T203000
DTSTAMP:20260425T100022
CREATED:20200127T143207Z
LAST-MODIFIED:20200423T005245Z
UID:10000263-1595435400-1595449800@www.wanakimensclub.com
SUMMARY:Wednesday Night Golf League
DESCRIPTION:
URL:https://www.wanakimensclub.com/event/wednesday-night-golf-league-2/2020-07-22/
LOCATION:Wanaki Golf Course\, N50 W20830 Lisbon Rd\, Menomonee Falls\, WI\, WI\, 53051\, United States
CATEGORIES:Wed Night League
ORGANIZER;CN="Martin Cherney Sr.":MAILTO:mcherney@sbcglobal.net
END:VEVENT
BEGIN:VEVENT
DTSTART;TZID=America/Chicago:20200723T103000
DTEND;TZID=America/Chicago:20200723T130000
DTSTAMP:20260425T100022
CREATED:20200127T143556Z
LAST-MODIFIED:20200519T193459Z
UID:10000185-1595500200-1595509200@www.wanakimensclub.com
SUMMARY:Thursday Afternoon Golf League
DESCRIPTION:Registration opens one week prior to the league date and closes at 6am the Wednesday before. \nIf someone registers playing partners other than themselves\, those playing partners DO NOT have to register on their own.  The person who creates the registration can also edit and make changes to it such as adding / removing playing partners\, etc.
URL:https://www.wanakimensclub.com/event/thursday-afternoon-golf-league-2020-05-14/2020-07-23/
LOCATION:Wanaki Golf Course\, N50 W20830 Lisbon Rd\, Menomonee Falls\, WI\, WI\, 53051\, United States
CATEGORIES:Thurs 18 Hole League
ORGANIZER;CN="Jim Ehnert":MAILTO:wanakijim@gmail.com
END:VEVENT
BEGIN:VEVENT
DTSTART;TZID=America/Chicago:20200723T163000
DTEND;TZID=America/Chicago:20200723T203000
DTSTAMP:20260425T100022
CREATED:20200127T143900Z
LAST-MODIFIED:20200127T143900Z
UID:10000066-1595521800-1595536200@www.wanakimensclub.com
SUMMARY:Thursday Night Golf League
DESCRIPTION:
URL:https://www.wanakimensclub.com/event/thursday-night-golf-league-2/2020-07-23/
LOCATION:Wanaki Golf Course\, N50 W20830 Lisbon Rd\, Menomonee Falls\, WI\, WI\, 53051\, United States
CATEGORIES:Thurs Night League
ORGANIZER;CN="Al Brandt":MAILTO:abrandt1@wi.rr.com
END:VEVENT
BEGIN:VEVENT
DTSTART;VALUE=DATE:20200726
DTEND;VALUE=DATE:20200727
DTSTAMP:20260425T100022
CREATED:20200128T170259Z
LAST-MODIFIED:20200128T170259Z
UID:10000019-1595721600-1595807999@www.wanakimensclub.com
SUMMARY:Club Championship Round 2 Match Deadline
DESCRIPTION:
URL:https://www.wanakimensclub.com/event/club-championship-round-2-match-deadline-2/
LOCATION:Wanaki Golf Course\, N50 W20830 Lisbon Rd\, Menomonee Falls\, WI\, WI\, 53051\, United States
CATEGORIES:Championship
ORGANIZER;CN="Todd Halverson":MAILTO:mensclubwanaki@gmail.com
END:VEVENT
BEGIN:VEVENT
DTSTART;TZID=America/Chicago:20200726T073000
DTEND;TZID=America/Chicago:20200726T143000
DTSTAMP:20260425T100022
CREATED:20200127T145707Z
LAST-MODIFIED:20200717T131330Z
UID:10000095-1595748600-1595773800@www.wanakimensclub.com
SUMMARY:Lawrence Welk 123-234
DESCRIPTION:Tee times start at 7:30am.  Please check the currently registered list and Bluegolf to make sure a time has not been taken. Tee times may be adjusted to compress the event into as few tee times as possible so the balance can be released to the public. \n** Click here to view tee times already taken in Bluegolf **
URL:https://www.wanakimensclub.com/event/lawrence-welk-123-234/
LOCATION:Wanaki Golf Course\, N50 W20830 Lisbon Rd\, Menomonee Falls\, WI\, WI\, 53051\, United States
CATEGORIES:Club Tournament
ORGANIZER;CN="Todd Halverson":MAILTO:mensclubwanaki@gmail.com
END:VEVENT
BEGIN:VEVENT
DTSTART;TZID=America/Chicago:20200729T163000
DTEND;TZID=America/Chicago:20200729T203000
DTSTAMP:20260425T100022
CREATED:20200127T143207Z
LAST-MODIFIED:20200423T005245Z
UID:10000264-1596040200-1596054600@www.wanakimensclub.com
SUMMARY:Wednesday Night Golf League
DESCRIPTION:
URL:https://www.wanakimensclub.com/event/wednesday-night-golf-league-2/2020-07-29/
LOCATION:Wanaki Golf Course\, N50 W20830 Lisbon Rd\, Menomonee Falls\, WI\, WI\, 53051\, United States
CATEGORIES:Wed Night League
ORGANIZER;CN="Martin Cherney Sr.":MAILTO:mcherney@sbcglobal.net
END:VEVENT
BEGIN:VEVENT
DTSTART;TZID=America/Chicago:20200730T103000
DTEND;TZID=America/Chicago:20200730T130000
DTSTAMP:20260425T100022
CREATED:20200127T143556Z
LAST-MODIFIED:20200519T193459Z
UID:10000186-1596105000-1596114000@www.wanakimensclub.com
SUMMARY:Thursday Afternoon Golf League
DESCRIPTION:Registration opens one week prior to the league date and closes at 6am the Wednesday before. \nIf someone registers playing partners other than themselves\, those playing partners DO NOT have to register on their own.  The person who creates the registration can also edit and make changes to it such as adding / removing playing partners\, etc.
URL:https://www.wanakimensclub.com/event/thursday-afternoon-golf-league-2020-05-14/2020-07-30/
LOCATION:Wanaki Golf Course\, N50 W20830 Lisbon Rd\, Menomonee Falls\, WI\, WI\, 53051\, United States
CATEGORIES:Thurs 18 Hole League
ORGANIZER;CN="Jim Ehnert":MAILTO:wanakijim@gmail.com
END:VEVENT
BEGIN:VEVENT
DTSTART;TZID=America/Chicago:20200730T163000
DTEND;TZID=America/Chicago:20200730T203000
DTSTAMP:20260425T100022
CREATED:20200127T143900Z
LAST-MODIFIED:20200127T143900Z
UID:10000067-1596126600-1596141000@www.wanakimensclub.com
SUMMARY:Thursday Night Golf League
DESCRIPTION:
URL:https://www.wanakimensclub.com/event/thursday-night-golf-league-2/2020-07-30/
LOCATION:Wanaki Golf Course\, N50 W20830 Lisbon Rd\, Menomonee Falls\, WI\, WI\, 53051\, United States
CATEGORIES:Thurs Night League
ORGANIZER;CN="Al Brandt":MAILTO:abrandt1@wi.rr.com
END:VEVENT
BEGIN:VEVENT
DTSTART;TZID=America/Chicago:20200805T163000
DTEND;TZID=America/Chicago:20200805T203000
DTSTAMP:20260425T100022
CREATED:20200127T143207Z
LAST-MODIFIED:20200423T005245Z
UID:10000265-1596645000-1596659400@www.wanakimensclub.com
SUMMARY:Wednesday Night Golf League
DESCRIPTION:
URL:https://www.wanakimensclub.com/event/wednesday-night-golf-league-2/2020-08-05/
LOCATION:Wanaki Golf Course\, N50 W20830 Lisbon Rd\, Menomonee Falls\, WI\, WI\, 53051\, United States
CATEGORIES:Wed Night League
ORGANIZER;CN="Martin Cherney Sr.":MAILTO:mcherney@sbcglobal.net
END:VEVENT
BEGIN:VEVENT
DTSTART;TZID=America/Chicago:20200806T103000
DTEND;TZID=America/Chicago:20200806T130000
DTSTAMP:20260425T100022
CREATED:20200127T143556Z
LAST-MODIFIED:20200519T193459Z
UID:10000187-1596709800-1596718800@www.wanakimensclub.com
SUMMARY:Thursday Afternoon Golf League
DESCRIPTION:Registration opens one week prior to the league date and closes at 6am the Wednesday before. \nIf someone registers playing partners other than themselves\, those playing partners DO NOT have to register on their own.  The person who creates the registration can also edit and make changes to it such as adding / removing playing partners\, etc.
URL:https://www.wanakimensclub.com/event/thursday-afternoon-golf-league-2020-05-14/2020-08-06/
LOCATION:Wanaki Golf Course\, N50 W20830 Lisbon Rd\, Menomonee Falls\, WI\, WI\, 53051\, United States
CATEGORIES:Thurs 18 Hole League
ORGANIZER;CN="Jim Ehnert":MAILTO:wanakijim@gmail.com
END:VEVENT
BEGIN:VEVENT
DTSTART;TZID=America/Chicago:20200806T163000
DTEND;TZID=America/Chicago:20200806T203000
DTSTAMP:20260425T100022
CREATED:20200127T143900Z
LAST-MODIFIED:20200127T143900Z
UID:10000068-1596731400-1596745800@www.wanakimensclub.com
SUMMARY:Thursday Night Golf League
DESCRIPTION:
URL:https://www.wanakimensclub.com/event/thursday-night-golf-league-2/2020-08-06/
LOCATION:Wanaki Golf Course\, N50 W20830 Lisbon Rd\, Menomonee Falls\, WI\, WI\, 53051\, United States
CATEGORIES:Thurs Night League
ORGANIZER;CN="Al Brandt":MAILTO:abrandt1@wi.rr.com
END:VEVENT
BEGIN:VEVENT
DTSTART;TZID=America/Chicago:20200809T073000
DTEND;TZID=America/Chicago:20200809T143000
DTSTAMP:20260425T100022
CREATED:20200127T145913Z
LAST-MODIFIED:20200730T010749Z
UID:10000094-1596958200-1596983400@www.wanakimensclub.com
SUMMARY:Individual Net
DESCRIPTION:Tee times start at 7:30am.  Please check the currently registered list and Bluegolf to make sure a time has not been taken. Tee times may be adjusted to compress the event into as few tee times as possible so the balance can be released to the public. \n** Click here to view tee times already taken in Bluegolf **
URL:https://www.wanakimensclub.com/event/individual-net/
LOCATION:Wanaki Golf Course\, N50 W20830 Lisbon Rd\, Menomonee Falls\, WI\, WI\, 53051\, United States
CATEGORIES:Club Tournament
ORGANIZER;CN="Todd Halverson":MAILTO:mensclubwanaki@gmail.com
END:VEVENT
BEGIN:VEVENT
DTSTART;TZID=America/Chicago:20200812T163000
DTEND;TZID=America/Chicago:20200812T203000
DTSTAMP:20260425T100022
CREATED:20200127T143207Z
LAST-MODIFIED:20200423T005245Z
UID:10000266-1597249800-1597264200@www.wanakimensclub.com
SUMMARY:Wednesday Night Golf League
DESCRIPTION:
URL:https://www.wanakimensclub.com/event/wednesday-night-golf-league-2/2020-08-12/
LOCATION:Wanaki Golf Course\, N50 W20830 Lisbon Rd\, Menomonee Falls\, WI\, WI\, 53051\, United States
CATEGORIES:Wed Night League
ORGANIZER;CN="Martin Cherney Sr.":MAILTO:mcherney@sbcglobal.net
END:VEVENT
BEGIN:VEVENT
DTSTART;TZID=America/Chicago:20200813T103000
DTEND;TZID=America/Chicago:20200813T130000
DTSTAMP:20260425T100022
CREATED:20200127T143556Z
LAST-MODIFIED:20200519T193459Z
UID:10000188-1597314600-1597323600@www.wanakimensclub.com
SUMMARY:Thursday Afternoon Golf League
DESCRIPTION:Registration opens one week prior to the league date and closes at 6am the Wednesday before. \nIf someone registers playing partners other than themselves\, those playing partners DO NOT have to register on their own.  The person who creates the registration can also edit and make changes to it such as adding / removing playing partners\, etc.
URL:https://www.wanakimensclub.com/event/thursday-afternoon-golf-league-2020-05-14/2020-08-13/
LOCATION:Wanaki Golf Course\, N50 W20830 Lisbon Rd\, Menomonee Falls\, WI\, WI\, 53051\, United States
CATEGORIES:Thurs 18 Hole League
ORGANIZER;CN="Jim Ehnert":MAILTO:wanakijim@gmail.com
END:VEVENT
BEGIN:VEVENT
DTSTART;TZID=America/Chicago:20200813T163000
DTEND;TZID=America/Chicago:20200813T203000
DTSTAMP:20260425T100022
CREATED:20200127T143900Z
LAST-MODIFIED:20200127T143900Z
UID:10000069-1597336200-1597350600@www.wanakimensclub.com
SUMMARY:Thursday Night Golf League
DESCRIPTION:
URL:https://www.wanakimensclub.com/event/thursday-night-golf-league-2/2020-08-13/
LOCATION:Wanaki Golf Course\, N50 W20830 Lisbon Rd\, Menomonee Falls\, WI\, WI\, 53051\, United States
CATEGORIES:Thurs Night League
ORGANIZER;CN="Al Brandt":MAILTO:abrandt1@wi.rr.com
END:VEVENT
BEGIN:VEVENT
DTSTART;TZID=America/Chicago:20200819T163000
DTEND;TZID=America/Chicago:20200819T203000
DTSTAMP:20260425T100022
CREATED:20200127T143207Z
LAST-MODIFIED:20200423T005245Z
UID:10000267-1597854600-1597869000@www.wanakimensclub.com
SUMMARY:Wednesday Night Golf League
DESCRIPTION:
URL:https://www.wanakimensclub.com/event/wednesday-night-golf-league-2/2020-08-19/
LOCATION:Wanaki Golf Course\, N50 W20830 Lisbon Rd\, Menomonee Falls\, WI\, WI\, 53051\, United States
CATEGORIES:Wed Night League
ORGANIZER;CN="Martin Cherney Sr.":MAILTO:mcherney@sbcglobal.net
END:VEVENT
BEGIN:VEVENT
DTSTART;TZID=America/Chicago:20200820T103000
DTEND;TZID=America/Chicago:20200820T130000
DTSTAMP:20260425T100022
CREATED:20200127T143556Z
LAST-MODIFIED:20200519T193459Z
UID:10000189-1597919400-1597928400@www.wanakimensclub.com
SUMMARY:Thursday Afternoon Golf League
DESCRIPTION:Registration opens one week prior to the league date and closes at 6am the Wednesday before. \nIf someone registers playing partners other than themselves\, those playing partners DO NOT have to register on their own.  The person who creates the registration can also edit and make changes to it such as adding / removing playing partners\, etc.
URL:https://www.wanakimensclub.com/event/thursday-afternoon-golf-league-2020-05-14/2020-08-20/
LOCATION:Wanaki Golf Course\, N50 W20830 Lisbon Rd\, Menomonee Falls\, WI\, WI\, 53051\, United States
CATEGORIES:Thurs 18 Hole League
ORGANIZER;CN="Jim Ehnert":MAILTO:wanakijim@gmail.com
END:VEVENT
END:VCALENDAR