BEGIN:VCALENDAR
VERSION:2.0
PRODID:-//Wanaki Men&#039;s Club - ECPv6.15.18//NONSGML v1.0//EN
CALSCALE:GREGORIAN
METHOD:PUBLISH
X-WR-CALNAME:Wanaki Men&#039;s Club
X-ORIGINAL-URL:https://www.wanakimensclub.com
X-WR-CALDESC:Events for Wanaki Men&#039;s Club
REFRESH-INTERVAL;VALUE=DURATION:PT1H
X-Robots-Tag:noindex
X-PUBLISHED-TTL:PT1H
BEGIN:VTIMEZONE
TZID:America/Chicago
BEGIN:DAYLIGHT
TZOFFSETFROM:-0600
TZOFFSETTO:-0500
TZNAME:CDT
DTSTART:20190310T080000
END:DAYLIGHT
BEGIN:STANDARD
TZOFFSETFROM:-0500
TZOFFSETTO:-0600
TZNAME:CST
DTSTART:20191103T070000
END:STANDARD
BEGIN:DAYLIGHT
TZOFFSETFROM:-0600
TZOFFSETTO:-0500
TZNAME:CDT
DTSTART:20200308T080000
END:DAYLIGHT
BEGIN:STANDARD
TZOFFSETFROM:-0500
TZOFFSETTO:-0600
TZNAME:CST
DTSTART:20201101T070000
END:STANDARD
BEGIN:DAYLIGHT
TZOFFSETFROM:-0600
TZOFFSETTO:-0500
TZNAME:CDT
DTSTART:20210314T080000
END:DAYLIGHT
BEGIN:STANDARD
TZOFFSETFROM:-0500
TZOFFSETTO:-0600
TZNAME:CST
DTSTART:20211107T070000
END:STANDARD
BEGIN:DAYLIGHT
TZOFFSETFROM:-0600
TZOFFSETTO:-0500
TZNAME:CDT
DTSTART:20220313T080000
END:DAYLIGHT
BEGIN:STANDARD
TZOFFSETFROM:-0500
TZOFFSETTO:-0600
TZNAME:CST
DTSTART:20221106T070000
END:STANDARD
END:VTIMEZONE
BEGIN:VEVENT
DTSTART;TZID=America/Chicago:20200920T073000
DTEND;TZID=America/Chicago:20200920T143000
DTSTAMP:20260425T075606
CREATED:20200127T150307Z
LAST-MODIFIED:20200914T123937Z
UID:10000003-1600587000-1600612200@www.wanakimensclub.com
SUMMARY:Flag Day
DESCRIPTION:Click here to confirm tee times in BlueGolf before registering! \nTee times start at 7:30am. Registrations close at 5:00pm on Friday September 18th at 5:00pm. Please contact Todd Halverson for any additions or changes after the registration deadline. \n 
URL:https://www.wanakimensclub.com/event/flag-day/
LOCATION:Wanaki Golf Course\, N50 W20830 Lisbon Rd\, Menomonee Falls\, WI\, WI\, 53051\, United States
CATEGORIES:Club Tournament
ORGANIZER;CN="Todd Halverson":MAILTO:mensclubwanaki@gmail.com
END:VEVENT
BEGIN:VEVENT
DTSTART;TZID=America/Chicago:20201010T093000
DTEND;TZID=America/Chicago:20201010T130000
DTSTAMP:20260425T075606
CREATED:20200127T150422Z
LAST-MODIFIED:20201002T191419Z
UID:10000006-1602322200-1602334800@www.wanakimensclub.com
SUMMARY:Diehard
DESCRIPTION:Wanaki Men’s Club Die Hard tournament. There are 2 format options for players in this event.\n– 3 Club Low Net\n– Standard Low Net \nThis will be a 9:30am shotgun start. There will be single tee times available from 7:56am-8:52am for those not wishing to participate in a shotgun start due to COVID-19 concerns. Online registration for is for shotgun only!!  \nClick here to email Todd Halverson if you wish to play in one of the individual tee times. Please be sure to specify the event format and the tees you will be playing from. \n$35 Fee walking or $50 riding per player includes\n– Green Fees\n– Sandwich Ticket\n– 3 Drink Tickets Per Player\n– Light Snacks and Tap Beer / Soda After Golf \n 
URL:https://www.wanakimensclub.com/event/diehard/
LOCATION:Wanaki Golf Course\, N50 W20830 Lisbon Rd\, Menomonee Falls\, WI\, WI\, 53051\, United States
CATEGORIES:Club Tournament
ORGANIZER;CN="Todd Halverson":MAILTO:mensclubwanaki@gmail.com
END:VEVENT
BEGIN:VEVENT
DTSTART;VALUE=DATE:20210215
DTEND;VALUE=DATE:20210216
DTSTAMP:20260425T075606
CREATED:20210121T180352Z
LAST-MODIFIED:20210214T170210Z
UID:10000096-1613347200-1613433599@www.wanakimensclub.com
SUMMARY:2021 Online Registration Opens
DESCRIPTION:2021 registration period starts on February 13th.  Click here to go to our registration page! \n  \n  \n 
URL:https://www.wanakimensclub.com/event/2021-registration-opens/
CATEGORIES:Special Event
ORGANIZER;CN="David Strackbein":MAILTO:dstrackbein@wi.rr.com
END:VEVENT
BEGIN:VEVENT
DTSTART;TZID=America/Chicago:20210327T130000
DTEND;TZID=America/Chicago:20210327T150000
DTSTAMP:20260425T075606
CREATED:20210117T143749Z
LAST-MODIFIED:20210223T011604Z
UID:10000117-1616850000-1616857200@www.wanakimensclub.com
SUMMARY:2021 Informational Meeting #1
DESCRIPTION:This meeting will cover the following topics; \n1) Member sign up\n2) New member information orientation.\n3) 2021 changes.\n4) League and event schedules. \n 
URL:https://www.wanakimensclub.com/event/2021-informational-meeting-1/
LOCATION:Wanaki Golf Course\, N50 W20830 Lisbon Rd\, Menomonee Falls\, WI\, WI\, 53051\, United States
CATEGORIES:Meeting
ORGANIZER;CN="Joe Vachuska":MAILTO:joevachuska@gmail.com
END:VEVENT
BEGIN:VEVENT
DTSTART;TZID=America/Chicago:20210410T130000
DTEND;TZID=America/Chicago:20210410T150000
DTSTAMP:20260425T075606
CREATED:20210117T143911Z
LAST-MODIFIED:20210117T143951Z
UID:10000118-1618059600-1618066800@www.wanakimensclub.com
SUMMARY:2021 Informational Meeting #2
DESCRIPTION:This meeting will cover the following topics; \n1) Member sign up\n2) New member information orientation.\n3) 2021 changes.\n4) League and event schedules. \n 
URL:https://www.wanakimensclub.com/event/2021-information-meeting-2/
LOCATION:Wanaki Golf Course\, N50 W20830 Lisbon Rd\, Menomonee Falls\, WI\, WI\, 53051\, United States
CATEGORIES:Meeting
ORGANIZER;CN="Joe Vachuska":MAILTO:joevachuska@gmail.com
END:VEVENT
BEGIN:VEVENT
DTSTART;TZID=America/Chicago:20210418T080000
DTEND;TZID=America/Chicago:20210418T083000
DTSTAMP:20260425T075606
CREATED:20210211T132748Z
LAST-MODIFIED:20210211T133324Z
UID:10000098-1618732800-1618734600@www.wanakimensclub.com
SUMMARY:Early Bird Registration Opens
DESCRIPTION:Go to https://www.wanakimensclub.com/event/early-bird-4-man-2-best-ball-2/ to register for this event. \n 
URL:https://www.wanakimensclub.com/event/early-bird-registration-opens/
CATEGORIES:Registration
END:VEVENT
BEGIN:VEVENT
DTSTART;TZID=America/Chicago:20210428T170000
DTEND;TZID=America/Chicago:20210428T170000
DTSTAMP:20260425T075606
CREATED:20210330T162155Z
LAST-MODIFIED:20210427T184519Z
UID:10000166-1619629200-1619629200@www.wanakimensclub.com
SUMMARY:Club Championship Registration Deadline
DESCRIPTION:The deadline for registering for Wanaki Men’s Club championships is 5pm today. If you have not registered for 2021 you need to click here to register now. If you have previously registered but want to add a club championship to your registration\, click here to send an email with your desired changes.
URL:https://www.wanakimensclub.com/event/club-championship-registration-deadline/
CATEGORIES:Registration
END:VEVENT
BEGIN:VEVENT
DTSTART;TZID=America/Chicago:20210429T103000
DTEND;TZID=America/Chicago:20210429T123000
DTSTAMP:20260425T075606
CREATED:20210117T143352Z
LAST-MODIFIED:20210428T171923Z
UID:10000168-1619692200-1619699400@www.wanakimensclub.com
SUMMARY:Thursday 18 Hole Golf League
DESCRIPTION:Tee times are are from 10:26am-12:18pm.\n** Tee times will be compressed to fill gaps\, so if you sign up in a later tee time you may actually get a slightly earlier time so Wanaki can optimize the tee sheet. **\nPay attention to the tee times already used when you register. Tee times are set in order of registration and those that sign up for a tee time already taken will be moved to an available tee time.\nREGISTRATION OPENS ON WEDNESDAY(8 DAYS PRIOR TO THE LEAGUE DATE) AT 10:30AM AND CLOSES AT 6:00AM THE DAY BEFORE.  If you decide you want to play or make changes after the registration deadline\, please call the pro shop at (262) 252-3480 to check availability.\n\n 
URL:https://www.wanakimensclub.com/event/thursday-18-hole-golf-league/
LOCATION:Wanaki Golf Course\, N50 W20830 Lisbon Rd\, Menomonee Falls\, WI\, WI\, 53051\, United States
CATEGORIES:Thurs 18 Hole League
ORGANIZER;CN="Jim Ehnert":MAILTO:wanakijim@gmail.com
END:VEVENT
BEGIN:VEVENT
DTSTART;TZID=America/Chicago:20210502T060000
DTEND;TZID=America/Chicago:20210502T060000
DTSTAMP:20260425T075606
CREATED:20210211T133123Z
LAST-MODIFIED:20210430T191754Z
UID:10000099-1619935200-1619935200@www.wanakimensclub.com
SUMMARY:Memorial Registration Opens
DESCRIPTION:Go to http://www.wanakimensclub.com/event/memorial-3-2-1-2/ to register for the Memorial event. \n  \n 
URL:https://www.wanakimensclub.com/event/memorial-registration-opens/
CATEGORIES:Registration
END:VEVENT
BEGIN:VEVENT
DTSTART;TZID=America/Chicago:20210502T083000
DTEND;TZID=America/Chicago:20210502T130000
DTSTAMP:20260425T075606
CREATED:20210117T153508Z
LAST-MODIFIED:20210427T190156Z
UID:10000298-1619944200-1619960400@www.wanakimensclub.com
SUMMARY:Early Bird
DESCRIPTION:4 Man Best Ball is a golf format for teams comprised of four golfers. Each of the golfers on the team play their own ball throughout and the lowest score in the foursome counts as the team score. This is also sometimes referred to as “Better ball” when used in stroke play\, or “Fourball” when used in match play.  This is also played as 2 Best Balls or even 3 Best Balls depending on the event. \n8:30am shotgun start. \nGroups smaller than 4 will be combined to make foursomes where possible.
URL:https://www.wanakimensclub.com/event/early-bird-4-man-2-best-ball-2/
LOCATION:Wanaki Golf Course\, N50 W20830 Lisbon Rd\, Menomonee Falls\, WI\, WI\, 53051\, United States
CATEGORIES:Club Tournament
ORGANIZER;CN="Todd Halverson":MAILTO:mensclubwanaki@gmail.com
END:VEVENT
BEGIN:VEVENT
DTSTART;TZID=America/Chicago:20210505T163000
DTEND;TZID=America/Chicago:20210505T203000
DTSTAMP:20260425T075606
CREATED:20210117T150141Z
LAST-MODIFIED:20210817T170026Z
UID:10000227-1620232200-1620246600@www.wanakimensclub.com
SUMMARY:Wednesday Night Golf League
DESCRIPTION:
URL:https://www.wanakimensclub.com/event/wednesday-night-golf-league-3/2021-05-05/
LOCATION:Wanaki Golf Course\, N50 W20830 Lisbon Rd\, Menomonee Falls\, WI\, WI\, 53051\, United States
CATEGORIES:Wed Night League
ORGANIZER;CN="Martin Cherney Sr.":MAILTO:mcherney@sbcglobal.net
END:VEVENT
BEGIN:VEVENT
DTSTART;TZID=America/Chicago:20210506T103000
DTEND;TZID=America/Chicago:20210506T123000
DTSTAMP:20260425T075606
CREATED:20210117T143352Z
LAST-MODIFIED:20210428T181515Z
UID:10000115-1620297000-1620304200@www.wanakimensclub.com
SUMMARY:Thursday 18 Hole Golf League
DESCRIPTION:Tee times are are from 10:26am-12:18pm.\n** Tee times will be compressed to fill gaps\, so if you sign up in a later tee time you may actually get a slightly earlier time so Wanaki can optimize the tee sheet. **\nPay attention to the tee times already used when you register. Tee times are set in order of registration and those that sign up for a tee time already taken will be moved to an available tee time.\nREGISTRATION OPENS ON WEDNESDAY (8 DAYS PRIOR TO THE LEAGUE DATE) AT 6:30AM AND CLOSES AT 6:00AM THE DAY BEFORE.  If you decide you want to play or make changes after the registration deadline\, please call the pro shop at (262) 252-3480 to check availability.\n\n 
URL:https://www.wanakimensclub.com/event/thursday-18-hole-golf-league-2021-05-06/
LOCATION:Wanaki Golf Course\, N50 W20830 Lisbon Rd\, Menomonee Falls\, WI\, WI\, 53051\, United States
CATEGORIES:Thurs 18 Hole League
ORGANIZER;CN="Jim Ehnert":MAILTO:wanakijim@gmail.com
END:VEVENT
BEGIN:VEVENT
DTSTART;TZID=America/Chicago:20210506T163000
DTEND;TZID=America/Chicago:20210506T203000
DTSTAMP:20260425T075606
CREATED:20210117T144216Z
LAST-MODIFIED:20210817T170428Z
UID:10000209-1620318600-1620333000@www.wanakimensclub.com
SUMMARY:Thursday Night Golf League
DESCRIPTION:
URL:https://www.wanakimensclub.com/event/thursday-night-golf-league-3/2021-05-06/
LOCATION:Wanaki Golf Course\, N50 W20830 Lisbon Rd\, Menomonee Falls\, WI\, WI\, 53051\, United States
CATEGORIES:Thurs Night League
ORGANIZER;CN="David Strackbein":MAILTO:dstrackbein@wi.rr.com
END:VEVENT
BEGIN:VEVENT
DTSTART;TZID=America/Chicago:20210512T163000
DTEND;TZID=America/Chicago:20210512T203000
DTSTAMP:20260425T075606
CREATED:20210117T150141Z
LAST-MODIFIED:20210817T170026Z
UID:10000228-1620837000-1620851400@www.wanakimensclub.com
SUMMARY:Wednesday Night Golf League
DESCRIPTION:
URL:https://www.wanakimensclub.com/event/wednesday-night-golf-league-3/2021-05-12/
LOCATION:Wanaki Golf Course\, N50 W20830 Lisbon Rd\, Menomonee Falls\, WI\, WI\, 53051\, United States
CATEGORIES:Wed Night League
ORGANIZER;CN="Martin Cherney Sr.":MAILTO:mcherney@sbcglobal.net
END:VEVENT
BEGIN:VEVENT
DTSTART;TZID=America/Chicago:20210513T103000
DTEND;TZID=America/Chicago:20210513T123000
DTSTAMP:20260425T075606
CREATED:20210117T143352Z
LAST-MODIFIED:20210505T001359Z
UID:10000125-1620901800-1620909000@www.wanakimensclub.com
SUMMARY:Thursday 18 Hole Golf League
DESCRIPTION:Tee times are are from 10:26am-12:18pm.\n** Tee times will be compressed to fill gaps\, so if you sign up in a later tee time you may actually get a slightly earlier time so Wanaki can optimize the tee sheet. **\nPay attention to the tee times already used when you register. Tee times are set in order of registration and those that sign up for a tee time already taken will be moved to an available tee time.\nREGISTRATION OPENS ON WEDNESDAY (8 DAYS PRIOR TO THE LEAGUE DATE) AT 6:30AM AND CLOSES AT 6:00AM THE DAY BEFORE.  If you decide you want to play or make changes after the registration deadline\, please call the pro shop at (262) 252-3480 to check availability.\n\n 
URL:https://www.wanakimensclub.com/event/thursday-18-hole-golf-league-2021-05-13/
LOCATION:Wanaki Golf Course\, N50 W20830 Lisbon Rd\, Menomonee Falls\, WI\, WI\, 53051\, United States
CATEGORIES:Thurs 18 Hole League
ORGANIZER;CN="Jim Ehnert":MAILTO:wanakijim@gmail.com
END:VEVENT
BEGIN:VEVENT
DTSTART;TZID=America/Chicago:20210513T163000
DTEND;TZID=America/Chicago:20210513T203000
DTSTAMP:20260425T075606
CREATED:20210117T144216Z
LAST-MODIFIED:20210817T170428Z
UID:10000210-1620923400-1620937800@www.wanakimensclub.com
SUMMARY:Thursday Night Golf League
DESCRIPTION:
URL:https://www.wanakimensclub.com/event/thursday-night-golf-league-3/2021-05-13/
LOCATION:Wanaki Golf Course\, N50 W20830 Lisbon Rd\, Menomonee Falls\, WI\, WI\, 53051\, United States
CATEGORIES:Thurs Night League
ORGANIZER;CN="David Strackbein":MAILTO:dstrackbein@wi.rr.com
END:VEVENT
BEGIN:VEVENT
DTSTART;TZID=America/Chicago:20210516T080000
DTEND;TZID=America/Chicago:20210516T130000
DTSTAMP:20260425T075606
CREATED:20210117T153248Z
LAST-MODIFIED:20210503T122614Z
UID:10000299-1621152000-1621170000@www.wanakimensclub.com
SUMMARY:Memorial 3-2-1
DESCRIPTION:Memorial 3-2-1  is a 4 man team event\, teams will be made up of players in your foursome\, not a blind draw.  The competition is played as follows : \nOn all Par 5’s\, 1 low net score (after handicap adjustment) is the team score\nOn all Par 4’s\, 2 low net scores (after handicap adjustment) is the team score\nOn all Par 3’s\, 3 low net scores (after handicap adjustment) is the team score \nEven par for this event is 137 and players will receive 90% of their individual Wanaki WSGA handicap at the time of the event. \n8:00am shotgun start. \n 
URL:https://www.wanakimensclub.com/event/memorial-3-2-1-2/
LOCATION:Wanaki Golf Course\, N50 W20830 Lisbon Rd\, Menomonee Falls\, WI\, WI\, 53051\, United States
CATEGORIES:Club Tournament
ORGANIZER;CN="Todd Halverson":MAILTO:mensclubwanaki@gmail.com
END:VEVENT
BEGIN:VEVENT
DTSTART;TZID=America/Chicago:20210519T163000
DTEND;TZID=America/Chicago:20210519T203000
DTSTAMP:20260425T075606
CREATED:20210117T150141Z
LAST-MODIFIED:20210817T170026Z
UID:10000229-1621441800-1621456200@www.wanakimensclub.com
SUMMARY:Wednesday Night Golf League
DESCRIPTION:
URL:https://www.wanakimensclub.com/event/wednesday-night-golf-league-3/2021-05-19/
LOCATION:Wanaki Golf Course\, N50 W20830 Lisbon Rd\, Menomonee Falls\, WI\, WI\, 53051\, United States
CATEGORIES:Wed Night League
ORGANIZER;CN="Martin Cherney Sr.":MAILTO:mcherney@sbcglobal.net
END:VEVENT
BEGIN:VEVENT
DTSTART;TZID=America/Chicago:20210520T103000
DTEND;TZID=America/Chicago:20210520T123000
DTSTAMP:20260425T075606
CREATED:20210117T143352Z
LAST-MODIFIED:20210505T005300Z
UID:10000119-1621506600-1621513800@www.wanakimensclub.com
SUMMARY:Thursday 18 Hole Golf League
DESCRIPTION:Tee times are are from 10:26am-12:18pm.\n** Tee times will be compressed to fill gaps\, so if you sign up in a later tee time you may actually get a slightly earlier time so Wanaki can optimize the tee sheet. **\nPay attention to the tee times already used when you register. Tee times are set in order of registration and those that sign up for a tee time already taken will be moved to an available tee time.\nREGISTRATION OPENS ON WEDNESDAY (8 DAYS PRIOR TO THE LEAGUE DATE) AT 6:30AM AND CLOSES AT 6:00AM THE DAY BEFORE.  If you decide you want to play or make changes after the registration deadline\, please call the pro shop at (262) 252-3480 to check availability.\n\n 
URL:https://www.wanakimensclub.com/event/thursday-18-hole-golf-league-2021-05-13-2021-05-20/
LOCATION:Wanaki Golf Course\, N50 W20830 Lisbon Rd\, Menomonee Falls\, WI\, WI\, 53051\, United States
CATEGORIES:Thurs 18 Hole League
ORGANIZER;CN="Jim Ehnert":MAILTO:wanakijim@gmail.com
END:VEVENT
BEGIN:VEVENT
DTSTART;TZID=America/Chicago:20210520T163000
DTEND;TZID=America/Chicago:20210520T203000
DTSTAMP:20260425T075606
CREATED:20210117T144216Z
LAST-MODIFIED:20210817T170428Z
UID:10000211-1621528200-1621542600@www.wanakimensclub.com
SUMMARY:Thursday Night Golf League
DESCRIPTION:
URL:https://www.wanakimensclub.com/event/thursday-night-golf-league-3/2021-05-20/
LOCATION:Wanaki Golf Course\, N50 W20830 Lisbon Rd\, Menomonee Falls\, WI\, WI\, 53051\, United States
CATEGORIES:Thurs Night League
ORGANIZER;CN="David Strackbein":MAILTO:dstrackbein@wi.rr.com
END:VEVENT
BEGIN:VEVENT
DTSTART;TZID=America/Chicago:20210523T080000
DTEND;TZID=America/Chicago:20210523T080000
DTSTAMP:20260425T075606
CREATED:20210211T133623Z
LAST-MODIFIED:20210427T184548Z
UID:10000102-1621756800-1621756800@www.wanakimensclub.com
SUMMARY:Net Partners Registration Opens
DESCRIPTION:Go to http://www.wanakimensclub.com/event/net-partners-2/ to register for the Net Partners event. \n  \n 
URL:https://www.wanakimensclub.com/event/net-partners-registration-opens/
CATEGORIES:Registration
END:VEVENT
BEGIN:VEVENT
DTSTART;TZID=America/Chicago:20210526T163000
DTEND;TZID=America/Chicago:20210526T203000
DTSTAMP:20260425T075606
CREATED:20210117T150141Z
LAST-MODIFIED:20210817T170026Z
UID:10000230-1622046600-1622061000@www.wanakimensclub.com
SUMMARY:Wednesday Night Golf League
DESCRIPTION:
URL:https://www.wanakimensclub.com/event/wednesday-night-golf-league-3/2021-05-26/
LOCATION:Wanaki Golf Course\, N50 W20830 Lisbon Rd\, Menomonee Falls\, WI\, WI\, 53051\, United States
CATEGORIES:Wed Night League
ORGANIZER;CN="Martin Cherney Sr.":MAILTO:mcherney@sbcglobal.net
END:VEVENT
BEGIN:VEVENT
DTSTART;TZID=America/Chicago:20210527T103000
DTEND;TZID=America/Chicago:20210527T123000
DTSTAMP:20260425T075606
CREATED:20210117T143352Z
LAST-MODIFIED:20210518T133509Z
UID:10000121-1622111400-1622118600@www.wanakimensclub.com
SUMMARY:Thursday 18 Hole Golf League
DESCRIPTION:Tee times are are from 10:26am-12:18pm.\n** Tee times will be compressed to fill gaps\, so if you sign up in a later tee time you may actually get a slightly earlier time so Wanaki can optimize the tee sheet. **\nPay attention to the tee times already used when you register. Tee times are set in order of registration and those that sign up for a tee time already taken will be moved to an available tee time.\nREGISTRATION OPENS ON WEDNESDAY (8 DAYS PRIOR TO THE LEAGUE DATE) AT 6:30AM AND CLOSES AT 6:00AM THE DAY BEFORE.  If you decide you want to play or make changes after the registration deadline\, please call the pro shop at (262) 252-3480 to check availability.\n\n 
URL:https://www.wanakimensclub.com/event/thursday-18-hole-golf-league-2021-05-13-2021-05-27/
LOCATION:Wanaki Golf Course\, N50 W20830 Lisbon Rd\, Menomonee Falls\, WI\, WI\, 53051\, United States
CATEGORIES:Thurs 18 Hole League
ORGANIZER;CN="Jim Ehnert":MAILTO:wanakijim@gmail.com
END:VEVENT
BEGIN:VEVENT
DTSTART;TZID=America/Chicago:20210527T163000
DTEND;TZID=America/Chicago:20210527T203000
DTSTAMP:20260425T075606
CREATED:20210117T144216Z
LAST-MODIFIED:20210817T170428Z
UID:10000212-1622133000-1622147400@www.wanakimensclub.com
SUMMARY:Thursday Night Golf League
DESCRIPTION:
URL:https://www.wanakimensclub.com/event/thursday-night-golf-league-3/2021-05-27/
LOCATION:Wanaki Golf Course\, N50 W20830 Lisbon Rd\, Menomonee Falls\, WI\, WI\, 53051\, United States
CATEGORIES:Thurs Night League
ORGANIZER;CN="David Strackbein":MAILTO:dstrackbein@wi.rr.com
END:VEVENT
BEGIN:VEVENT
DTSTART;TZID=America/Chicago:20210602T163000
DTEND;TZID=America/Chicago:20210602T203000
DTSTAMP:20260425T075606
CREATED:20210117T150141Z
LAST-MODIFIED:20210817T170026Z
UID:10000231-1622651400-1622665800@www.wanakimensclub.com
SUMMARY:Wednesday Night Golf League
DESCRIPTION:
URL:https://www.wanakimensclub.com/event/wednesday-night-golf-league-3/2021-06-02/
LOCATION:Wanaki Golf Course\, N50 W20830 Lisbon Rd\, Menomonee Falls\, WI\, WI\, 53051\, United States
CATEGORIES:Wed Night League
ORGANIZER;CN="Martin Cherney Sr.":MAILTO:mcherney@sbcglobal.net
END:VEVENT
BEGIN:VEVENT
DTSTART;TZID=America/Chicago:20210603T103000
DTEND;TZID=America/Chicago:20210603T123000
DTSTAMP:20260425T075606
CREATED:20210117T143352Z
LAST-MODIFIED:20210526T142058Z
UID:10000120-1622716200-1622723400@www.wanakimensclub.com
SUMMARY:Thursday 18 Hole Golf League
DESCRIPTION:Tee times are are from 10:26am-12:18pm.\n** Tee times will be compressed to fill gaps\, so if you sign up in a later tee time you may actually get a slightly earlier time so Wanaki can optimize the tee sheet. **\nPay attention to the tee times already used when you register. Tee times are set in order of registration and those that sign up for a tee time already taken will be moved to an available tee time.\nREGISTRATION OPENS ON WEDNESDAY (8 DAYS PRIOR TO THE LEAGUE DATE) AT 6:30AM AND CLOSES AT 6:00AM THE DAY BEFORE.  If you decide you want to play or make changes after the registration deadline\, please call the pro shop at (262) 252-3480 to check availability.\n\n 
URL:https://www.wanakimensclub.com/event/thursday-18-hole-golf-league-2021-05-13-2021-06-03/
LOCATION:Wanaki Golf Course\, N50 W20830 Lisbon Rd\, Menomonee Falls\, WI\, WI\, 53051\, United States
CATEGORIES:Thurs 18 Hole League
ORGANIZER;CN="Jim Ehnert":MAILTO:wanakijim@gmail.com
END:VEVENT
BEGIN:VEVENT
DTSTART;TZID=America/Chicago:20210603T163000
DTEND;TZID=America/Chicago:20210603T203000
DTSTAMP:20260425T075606
CREATED:20210117T144216Z
LAST-MODIFIED:20210817T170428Z
UID:10000213-1622737800-1622752200@www.wanakimensclub.com
SUMMARY:Thursday Night Golf League
DESCRIPTION:
URL:https://www.wanakimensclub.com/event/thursday-night-golf-league-3/2021-06-03/
LOCATION:Wanaki Golf Course\, N50 W20830 Lisbon Rd\, Menomonee Falls\, WI\, WI\, 53051\, United States
CATEGORIES:Thurs Night League
ORGANIZER;CN="David Strackbein":MAILTO:dstrackbein@wi.rr.com
END:VEVENT
BEGIN:VEVENT
DTSTART;TZID=America/Chicago:20210606T073000
DTEND;TZID=America/Chicago:20210606T143000
DTSTAMP:20260425T075606
CREATED:20210117T153030Z
LAST-MODIFIED:20210604T031848Z
UID:10000297-1622964600-1622989800@www.wanakimensclub.com
SUMMARY:Net Partners
DESCRIPTION:Net Partners is a golf format for teams comprised of two golfers. The team generates 3 scores for each hole during the round. \nHole Score = Player 1 Net + Player 2 Net + Lowest of Player 1/Player 2 Net. \nThis is an away event at Western Lakes Golf Course. It will be an 8am shotgun start and the price of $70 will include 18 holes of golf with cart\, a drink ticket\, and lunch afterwards in the main dining room. \n 
URL:https://www.wanakimensclub.com/event/net-partners-2/
LOCATION:Western Lakes Golf Course\, W287N1963 Oakton Rd\, Pewaukee\, WI\, 53072\, United States
CATEGORIES:Club Tournament
ORGANIZER;CN="Todd Halverson":MAILTO:mensclubwanaki@gmail.com
END:VEVENT
BEGIN:VEVENT
DTSTART;TZID=America/Chicago:20210609T163000
DTEND;TZID=America/Chicago:20210609T203000
DTSTAMP:20260425T075606
CREATED:20210117T150141Z
LAST-MODIFIED:20210817T170026Z
UID:10000232-1623256200-1623270600@www.wanakimensclub.com
SUMMARY:Wednesday Night Golf League
DESCRIPTION:
URL:https://www.wanakimensclub.com/event/wednesday-night-golf-league-3/2021-06-09/
LOCATION:Wanaki Golf Course\, N50 W20830 Lisbon Rd\, Menomonee Falls\, WI\, WI\, 53051\, United States
CATEGORIES:Wed Night League
ORGANIZER;CN="Martin Cherney Sr.":MAILTO:mcherney@sbcglobal.net
END:VEVENT
BEGIN:VEVENT
DTSTART;TZID=America/Chicago:20210610T103000
DTEND;TZID=America/Chicago:20210610T123000
DTSTAMP:20260425T075606
CREATED:20210117T143352Z
LAST-MODIFIED:20210526T142444Z
UID:10000122-1623321000-1623328200@www.wanakimensclub.com
SUMMARY:Thursday 18 Hole Golf League
DESCRIPTION:Tee times are are from 10:26am-12:18pm.\n** Tee times will be compressed to fill gaps\, so if you sign up in a later tee time you may actually get a slightly earlier time so Wanaki can optimize the tee sheet. **\nPay attention to the tee times already used when you register. Tee times are set in order of registration and those that sign up for a tee time already taken will be moved to an available tee time.\nREGISTRATION OPENS ON WEDNESDAY (8 DAYS PRIOR TO THE LEAGUE DATE) AT 6:30AM AND CLOSES AT 6:00AM THE DAY BEFORE.  If you decide you want to play or make changes after the registration deadline\, please call the pro shop at (262) 252-3480 to check availability.\n\n 
URL:https://www.wanakimensclub.com/event/thursday-18-hole-golf-league-2021-05-13-2021-06-10/
LOCATION:Wanaki Golf Course\, N50 W20830 Lisbon Rd\, Menomonee Falls\, WI\, WI\, 53051\, United States
CATEGORIES:Thurs 18 Hole League
ORGANIZER;CN="Jim Ehnert":MAILTO:wanakijim@gmail.com
END:VEVENT
END:VCALENDAR