BEGIN:VCALENDAR
VERSION:2.0
PRODID:-//Wanaki Men&#039;s Club - ECPv6.15.18//NONSGML v1.0//EN
CALSCALE:GREGORIAN
METHOD:PUBLISH
X-ORIGINAL-URL:https://www.wanakimensclub.com
X-WR-CALDESC:Events for Wanaki Men&#039;s Club
REFRESH-INTERVAL;VALUE=DURATION:PT1H
X-Robots-Tag:noindex
X-PUBLISHED-TTL:PT1H
BEGIN:VTIMEZONE
TZID:America/Chicago
BEGIN:DAYLIGHT
TZOFFSETFROM:-0600
TZOFFSETTO:-0500
TZNAME:CDT
DTSTART:20230312T080000
END:DAYLIGHT
BEGIN:STANDARD
TZOFFSETFROM:-0500
TZOFFSETTO:-0600
TZNAME:CST
DTSTART:20231105T070000
END:STANDARD
BEGIN:DAYLIGHT
TZOFFSETFROM:-0600
TZOFFSETTO:-0500
TZNAME:CDT
DTSTART:20240310T080000
END:DAYLIGHT
BEGIN:STANDARD
TZOFFSETFROM:-0500
TZOFFSETTO:-0600
TZNAME:CST
DTSTART:20241103T070000
END:STANDARD
BEGIN:DAYLIGHT
TZOFFSETFROM:-0600
TZOFFSETTO:-0500
TZNAME:CDT
DTSTART:20250309T080000
END:DAYLIGHT
BEGIN:STANDARD
TZOFFSETFROM:-0500
TZOFFSETTO:-0600
TZNAME:CST
DTSTART:20251102T070000
END:STANDARD
END:VTIMEZONE
BEGIN:VEVENT
DTSTART;TZID=America/Chicago:20240627T163000
DTEND;TZID=America/Chicago:20240627T203000
DTSTAMP:20260425T073951
CREATED:20231118T193841Z
LAST-MODIFIED:20231118T204632Z
UID:10000418-1719505800-1719520200@www.wanakimensclub.com
SUMMARY:2024 Thursday Night Golf League
DESCRIPTION:
URL:https://www.wanakimensclub.com/event/2024-thursday-night-golf-league/2024-06-27/
LOCATION:Wanaki Golf Course\, N50 W20830 Lisbon Rd\, Menomonee Falls\, WI\, WI\, 53051\, United States
CATEGORIES:Thurs Night League
ORGANIZER;CN="David Strackbein":MAILTO:dstrackbein@wi.rr.com
END:VEVENT
BEGIN:VEVENT
DTSTART;TZID=America/Chicago:20240627T093000
DTEND;TZID=America/Chicago:20240627T163000
DTSTAMP:20260425T073951
CREATED:20231118T193455Z
LAST-MODIFIED:20240906T161204Z
UID:10000453-1719480600-1719505800@www.wanakimensclub.com
SUMMARY:2024 Thursday 18 Hole Golf League
DESCRIPTION:Tee times are are from 9:38am-12:34pm. (92 spots)\n** Tee times will be compressed to fill gaps as much as possible\, so if you sign up in a later tee time you may actually get a slightly earlier time so Wanaki can optimize the tee sheet. **\nIf you or your group tend to be slower players and you sign up for early tee times you may be pushed back at the league administrators discretion. Pace of play expectation is 4 hours and 10 minutes.\nPay attention to the tee times already used when you register. Tee times are set in order of registration and those that sign up for a tee time already taken will be moved to an available tee time.\nREGISTRATION OPENS ON WEDNESDAY(8 DAYS PRIOR TO THE LEAGUE DATE) AT 9:30AM AND CLOSES AT 9:30am THE DAY BEFORE. Late registrations will not be accepted after the deadline.\n\nContact Dave Strackbein via email dstrackbein@wi.rr.com or text (414) 350-8231 for post-deadline cancelations. \n 
URL:https://www.wanakimensclub.com/event/2024-thursday-18-hole-golf-league/2024-06-27/
LOCATION:Wanaki Golf Course\, N50 W20830 Lisbon Rd\, Menomonee Falls\, WI\, WI\, 53051\, United States
CATEGORIES:Thurs 18 Hole League
ORGANIZER;CN="David Strackbein":MAILTO:dstrackbein@wi.rr.com
END:VEVENT
BEGIN:VEVENT
DTSTART;TZID=America/Chicago:20240626T163000
DTEND;TZID=America/Chicago:20240626T203000
DTSTAMP:20260425T073951
CREATED:20231118T193640Z
LAST-MODIFIED:20231118T204733Z
UID:10000433-1719419400-1719433800@www.wanakimensclub.com
SUMMARY:2024 Wednesday Night Golf League
DESCRIPTION:
URL:https://www.wanakimensclub.com/event/2024-wednesday-night-golf-league/2024-06-26/
LOCATION:Wanaki Golf Course\, N50 W20830 Lisbon Rd\, Menomonee Falls\, WI\, WI\, 53051\, United States
CATEGORIES:Wed Night League
ORGANIZER;CN="Bob Hart":MAILTO:amscrayhart62@yahoo.com
END:VEVENT
BEGIN:VEVENT
DTSTART;TZID=America/Chicago:20240623T073000
DTEND;TZID=America/Chicago:20240623T153000
DTSTAMP:20260425T073951
CREATED:20231118T194639Z
LAST-MODIFIED:20231118T195050Z
UID:10000401-1719127800-1719156600@www.wanakimensclub.com
SUMMARY:2024 Stableford
DESCRIPTION:The Stableford is an individual event where each individual’s net score is used to calculate points awarded. Players will use 100% of their Wanaki WSGA handicap index from the competition set of tees.  Points are awarded on each hole using the net score as follows; \nDouble Bogey+ – 0 Points\nBogey – 1 Points\nPar – 2 Points\nBirdie – 3 Points\nEagle – 4 Points\nDouble Eagle – 5 \nTee times will start at 7:30am \n 
URL:https://www.wanakimensclub.com/event/2024-stableford/
LOCATION:Wanaki Golf Course\, N50 W20830 Lisbon Rd\, Menomonee Falls\, WI\, WI\, 53051\, United States
CATEGORIES:Club Tournament
ORGANIZER;CN="Todd Halverson":MAILTO:mensclubwanaki@gmail.com
END:VEVENT
BEGIN:VEVENT
DTSTART;TZID=America/Chicago:20240620T163000
DTEND;TZID=America/Chicago:20240620T203000
DTSTAMP:20260425T073951
CREATED:20231118T193841Z
LAST-MODIFIED:20231118T204632Z
UID:10000417-1718901000-1718915400@www.wanakimensclub.com
SUMMARY:2024 Thursday Night Golf League
DESCRIPTION:
URL:https://www.wanakimensclub.com/event/2024-thursday-night-golf-league/2024-06-20/
LOCATION:Wanaki Golf Course\, N50 W20830 Lisbon Rd\, Menomonee Falls\, WI\, WI\, 53051\, United States
CATEGORIES:Thurs Night League
ORGANIZER;CN="David Strackbein":MAILTO:dstrackbein@wi.rr.com
END:VEVENT
BEGIN:VEVENT
DTSTART;TZID=America/Chicago:20240620T093000
DTEND;TZID=America/Chicago:20240620T163000
DTSTAMP:20260425T073951
CREATED:20231118T193455Z
LAST-MODIFIED:20240906T161204Z
UID:10000452-1718875800-1718901000@www.wanakimensclub.com
SUMMARY:2024 Thursday 18 Hole Golf League
DESCRIPTION:Tee times are are from 9:38am-12:34pm. (92 spots)\n** Tee times will be compressed to fill gaps as much as possible\, so if you sign up in a later tee time you may actually get a slightly earlier time so Wanaki can optimize the tee sheet. **\nIf you or your group tend to be slower players and you sign up for early tee times you may be pushed back at the league administrators discretion. Pace of play expectation is 4 hours and 10 minutes.\nPay attention to the tee times already used when you register. Tee times are set in order of registration and those that sign up for a tee time already taken will be moved to an available tee time.\nREGISTRATION OPENS ON WEDNESDAY(8 DAYS PRIOR TO THE LEAGUE DATE) AT 9:30AM AND CLOSES AT 9:30am THE DAY BEFORE. Late registrations will not be accepted after the deadline.\n\nContact Dave Strackbein via email dstrackbein@wi.rr.com or text (414) 350-8231 for post-deadline cancelations. \n 
URL:https://www.wanakimensclub.com/event/2024-thursday-18-hole-golf-league/2024-06-20/
LOCATION:Wanaki Golf Course\, N50 W20830 Lisbon Rd\, Menomonee Falls\, WI\, WI\, 53051\, United States
CATEGORIES:Thurs 18 Hole League
ORGANIZER;CN="David Strackbein":MAILTO:dstrackbein@wi.rr.com
END:VEVENT
BEGIN:VEVENT
DTSTART;TZID=America/Chicago:20240619T163000
DTEND;TZID=America/Chicago:20240619T203000
DTSTAMP:20260425T073951
CREATED:20231118T193640Z
LAST-MODIFIED:20231118T204733Z
UID:10000432-1718814600-1718829000@www.wanakimensclub.com
SUMMARY:2024 Wednesday Night Golf League
DESCRIPTION:
URL:https://www.wanakimensclub.com/event/2024-wednesday-night-golf-league/2024-06-19/
LOCATION:Wanaki Golf Course\, N50 W20830 Lisbon Rd\, Menomonee Falls\, WI\, WI\, 53051\, United States
CATEGORIES:Wed Night League
ORGANIZER;CN="Bob Hart":MAILTO:amscrayhart62@yahoo.com
END:VEVENT
BEGIN:VEVENT
DTSTART;TZID=America/Chicago:20240613T163000
DTEND;TZID=America/Chicago:20240613T203000
DTSTAMP:20260425T073951
CREATED:20231118T193841Z
LAST-MODIFIED:20231118T204632Z
UID:10000416-1718296200-1718310600@www.wanakimensclub.com
SUMMARY:2024 Thursday Night Golf League
DESCRIPTION:
URL:https://www.wanakimensclub.com/event/2024-thursday-night-golf-league/2024-06-13/
LOCATION:Wanaki Golf Course\, N50 W20830 Lisbon Rd\, Menomonee Falls\, WI\, WI\, 53051\, United States
CATEGORIES:Thurs Night League
ORGANIZER;CN="David Strackbein":MAILTO:dstrackbein@wi.rr.com
END:VEVENT
BEGIN:VEVENT
DTSTART;TZID=America/Chicago:20240613T093000
DTEND;TZID=America/Chicago:20240613T163000
DTSTAMP:20260425T073951
CREATED:20231118T193455Z
LAST-MODIFIED:20240906T161204Z
UID:10000451-1718271000-1718296200@www.wanakimensclub.com
SUMMARY:2024 Thursday 18 Hole Golf League
DESCRIPTION:Tee times are are from 9:38am-12:34pm. (92 spots)\n** Tee times will be compressed to fill gaps as much as possible\, so if you sign up in a later tee time you may actually get a slightly earlier time so Wanaki can optimize the tee sheet. **\nIf you or your group tend to be slower players and you sign up for early tee times you may be pushed back at the league administrators discretion. Pace of play expectation is 4 hours and 10 minutes.\nPay attention to the tee times already used when you register. Tee times are set in order of registration and those that sign up for a tee time already taken will be moved to an available tee time.\nREGISTRATION OPENS ON WEDNESDAY(8 DAYS PRIOR TO THE LEAGUE DATE) AT 9:30AM AND CLOSES AT 9:30am THE DAY BEFORE. Late registrations will not be accepted after the deadline.\n\nContact Dave Strackbein via email dstrackbein@wi.rr.com or text (414) 350-8231 for post-deadline cancelations. \n 
URL:https://www.wanakimensclub.com/event/2024-thursday-18-hole-golf-league/2024-06-13/
LOCATION:Wanaki Golf Course\, N50 W20830 Lisbon Rd\, Menomonee Falls\, WI\, WI\, 53051\, United States
CATEGORIES:Thurs 18 Hole League
ORGANIZER;CN="David Strackbein":MAILTO:dstrackbein@wi.rr.com
END:VEVENT
BEGIN:VEVENT
DTSTART;TZID=America/Chicago:20240612T163000
DTEND;TZID=America/Chicago:20240612T203000
DTSTAMP:20260425T073951
CREATED:20231118T193640Z
LAST-MODIFIED:20231118T204733Z
UID:10000431-1718209800-1718224200@www.wanakimensclub.com
SUMMARY:2024 Wednesday Night Golf League
DESCRIPTION:
URL:https://www.wanakimensclub.com/event/2024-wednesday-night-golf-league/2024-06-12/
LOCATION:Wanaki Golf Course\, N50 W20830 Lisbon Rd\, Menomonee Falls\, WI\, WI\, 53051\, United States
CATEGORIES:Wed Night League
ORGANIZER;CN="Bob Hart":MAILTO:amscrayhart62@yahoo.com
END:VEVENT
BEGIN:VEVENT
DTSTART;TZID=America/Chicago:20240606T163000
DTEND;TZID=America/Chicago:20240606T203000
DTSTAMP:20260425T073951
CREATED:20231118T193841Z
LAST-MODIFIED:20231118T204632Z
UID:10000415-1717691400-1717705800@www.wanakimensclub.com
SUMMARY:2024 Thursday Night Golf League
DESCRIPTION:
URL:https://www.wanakimensclub.com/event/2024-thursday-night-golf-league/2024-06-06/
LOCATION:Wanaki Golf Course\, N50 W20830 Lisbon Rd\, Menomonee Falls\, WI\, WI\, 53051\, United States
CATEGORIES:Thurs Night League
ORGANIZER;CN="David Strackbein":MAILTO:dstrackbein@wi.rr.com
END:VEVENT
BEGIN:VEVENT
DTSTART;TZID=America/Chicago:20240606T093000
DTEND;TZID=America/Chicago:20240606T163000
DTSTAMP:20260425T073951
CREATED:20231118T193455Z
LAST-MODIFIED:20240906T161204Z
UID:10000450-1717666200-1717691400@www.wanakimensclub.com
SUMMARY:2024 Thursday 18 Hole Golf League
DESCRIPTION:Tee times are are from 9:38am-12:34pm. (92 spots)\n** Tee times will be compressed to fill gaps as much as possible\, so if you sign up in a later tee time you may actually get a slightly earlier time so Wanaki can optimize the tee sheet. **\nIf you or your group tend to be slower players and you sign up for early tee times you may be pushed back at the league administrators discretion. Pace of play expectation is 4 hours and 10 minutes.\nPay attention to the tee times already used when you register. Tee times are set in order of registration and those that sign up for a tee time already taken will be moved to an available tee time.\nREGISTRATION OPENS ON WEDNESDAY(8 DAYS PRIOR TO THE LEAGUE DATE) AT 9:30AM AND CLOSES AT 9:30am THE DAY BEFORE. Late registrations will not be accepted after the deadline.\n\nContact Dave Strackbein via email dstrackbein@wi.rr.com or text (414) 350-8231 for post-deadline cancelations. \n 
URL:https://www.wanakimensclub.com/event/2024-thursday-18-hole-golf-league/2024-06-06/
LOCATION:Wanaki Golf Course\, N50 W20830 Lisbon Rd\, Menomonee Falls\, WI\, WI\, 53051\, United States
CATEGORIES:Thurs 18 Hole League
ORGANIZER;CN="David Strackbein":MAILTO:dstrackbein@wi.rr.com
END:VEVENT
BEGIN:VEVENT
DTSTART;TZID=America/Chicago:20240605T163000
DTEND;TZID=America/Chicago:20240605T203000
DTSTAMP:20260425T073951
CREATED:20231118T193640Z
LAST-MODIFIED:20231118T204733Z
UID:10000430-1717605000-1717619400@www.wanakimensclub.com
SUMMARY:2024 Wednesday Night Golf League
DESCRIPTION:
URL:https://www.wanakimensclub.com/event/2024-wednesday-night-golf-league/2024-06-05/
LOCATION:Wanaki Golf Course\, N50 W20830 Lisbon Rd\, Menomonee Falls\, WI\, WI\, 53051\, United States
CATEGORIES:Wed Night League
ORGANIZER;CN="Bob Hart":MAILTO:amscrayhart62@yahoo.com
END:VEVENT
BEGIN:VEVENT
DTSTART;TZID=America/Chicago:20240602T073000
DTEND;TZID=America/Chicago:20240602T143000
DTSTAMP:20260425T073951
CREATED:20231118T194945Z
LAST-MODIFIED:20231118T194945Z
UID:10000403-1717313400-1717338600@www.wanakimensclub.com
SUMMARY:2024 Net Partners
DESCRIPTION:Net Partners is a golf format for teams comprised of two golfers. The team generates 3 scores for each hole during the round. \nHole Score = Player 1 Net + Player 2 Net + Lowest of Player 1/Player 2 Net. \nTee times start at 7:30am. \n 
URL:https://www.wanakimensclub.com/event/2024-net-partners/
LOCATION:Wanaki Golf Course\, N50 W20830 Lisbon Rd\, Menomonee Falls\, WI\, WI\, 53051\, United States
CATEGORIES:Club Tournament
ORGANIZER;CN="Todd Halverson":MAILTO:mensclubwanaki@gmail.com
END:VEVENT
BEGIN:VEVENT
DTSTART;TZID=America/Chicago:20240530T163000
DTEND;TZID=America/Chicago:20240530T203000
DTSTAMP:20260425T073951
CREATED:20231118T193841Z
LAST-MODIFIED:20231118T204632Z
UID:10000414-1717086600-1717101000@www.wanakimensclub.com
SUMMARY:2024 Thursday Night Golf League
DESCRIPTION:
URL:https://www.wanakimensclub.com/event/2024-thursday-night-golf-league/2024-05-30/
LOCATION:Wanaki Golf Course\, N50 W20830 Lisbon Rd\, Menomonee Falls\, WI\, WI\, 53051\, United States
CATEGORIES:Thurs Night League
ORGANIZER;CN="David Strackbein":MAILTO:dstrackbein@wi.rr.com
END:VEVENT
BEGIN:VEVENT
DTSTART;TZID=America/Chicago:20240530T093000
DTEND;TZID=America/Chicago:20240530T163000
DTSTAMP:20260425T073951
CREATED:20231118T193455Z
LAST-MODIFIED:20240906T161204Z
UID:10000449-1717061400-1717086600@www.wanakimensclub.com
SUMMARY:2024 Thursday 18 Hole Golf League
DESCRIPTION:Tee times are are from 9:38am-12:34pm. (92 spots)\n** Tee times will be compressed to fill gaps as much as possible\, so if you sign up in a later tee time you may actually get a slightly earlier time so Wanaki can optimize the tee sheet. **\nIf you or your group tend to be slower players and you sign up for early tee times you may be pushed back at the league administrators discretion. Pace of play expectation is 4 hours and 10 minutes.\nPay attention to the tee times already used when you register. Tee times are set in order of registration and those that sign up for a tee time already taken will be moved to an available tee time.\nREGISTRATION OPENS ON WEDNESDAY(8 DAYS PRIOR TO THE LEAGUE DATE) AT 9:30AM AND CLOSES AT 9:30am THE DAY BEFORE. Late registrations will not be accepted after the deadline.\n\nContact Dave Strackbein via email dstrackbein@wi.rr.com or text (414) 350-8231 for post-deadline cancelations. \n 
URL:https://www.wanakimensclub.com/event/2024-thursday-18-hole-golf-league/2024-05-30/
LOCATION:Wanaki Golf Course\, N50 W20830 Lisbon Rd\, Menomonee Falls\, WI\, WI\, 53051\, United States
CATEGORIES:Thurs 18 Hole League
ORGANIZER;CN="David Strackbein":MAILTO:dstrackbein@wi.rr.com
END:VEVENT
BEGIN:VEVENT
DTSTART;TZID=America/Chicago:20240529T163000
DTEND;TZID=America/Chicago:20240529T203000
DTSTAMP:20260425T073951
CREATED:20231118T193640Z
LAST-MODIFIED:20231118T204733Z
UID:10000429-1717000200-1717014600@www.wanakimensclub.com
SUMMARY:2024 Wednesday Night Golf League
DESCRIPTION:
URL:https://www.wanakimensclub.com/event/2024-wednesday-night-golf-league/2024-05-29/
LOCATION:Wanaki Golf Course\, N50 W20830 Lisbon Rd\, Menomonee Falls\, WI\, WI\, 53051\, United States
CATEGORIES:Wed Night League
ORGANIZER;CN="Bob Hart":MAILTO:amscrayhart62@yahoo.com
END:VEVENT
BEGIN:VEVENT
DTSTART;TZID=America/Chicago:20240523T163000
DTEND;TZID=America/Chicago:20240523T203000
DTSTAMP:20260425T073951
CREATED:20231118T193841Z
LAST-MODIFIED:20231118T204632Z
UID:10000413-1716481800-1716496200@www.wanakimensclub.com
SUMMARY:2024 Thursday Night Golf League
DESCRIPTION:
URL:https://www.wanakimensclub.com/event/2024-thursday-night-golf-league/2024-05-23/
LOCATION:Wanaki Golf Course\, N50 W20830 Lisbon Rd\, Menomonee Falls\, WI\, WI\, 53051\, United States
CATEGORIES:Thurs Night League
ORGANIZER;CN="David Strackbein":MAILTO:dstrackbein@wi.rr.com
END:VEVENT
BEGIN:VEVENT
DTSTART;TZID=America/Chicago:20240523T093000
DTEND;TZID=America/Chicago:20240523T163000
DTSTAMP:20260425T073951
CREATED:20231118T193455Z
LAST-MODIFIED:20240906T161204Z
UID:10000448-1716456600-1716481800@www.wanakimensclub.com
SUMMARY:2024 Thursday 18 Hole Golf League
DESCRIPTION:Tee times are are from 9:38am-12:34pm. (92 spots)\n** Tee times will be compressed to fill gaps as much as possible\, so if you sign up in a later tee time you may actually get a slightly earlier time so Wanaki can optimize the tee sheet. **\nIf you or your group tend to be slower players and you sign up for early tee times you may be pushed back at the league administrators discretion. Pace of play expectation is 4 hours and 10 minutes.\nPay attention to the tee times already used when you register. Tee times are set in order of registration and those that sign up for a tee time already taken will be moved to an available tee time.\nREGISTRATION OPENS ON WEDNESDAY(8 DAYS PRIOR TO THE LEAGUE DATE) AT 9:30AM AND CLOSES AT 9:30am THE DAY BEFORE. Late registrations will not be accepted after the deadline.\n\nContact Dave Strackbein via email dstrackbein@wi.rr.com or text (414) 350-8231 for post-deadline cancelations. \n 
URL:https://www.wanakimensclub.com/event/2024-thursday-18-hole-golf-league/2024-05-23/
LOCATION:Wanaki Golf Course\, N50 W20830 Lisbon Rd\, Menomonee Falls\, WI\, WI\, 53051\, United States
CATEGORIES:Thurs 18 Hole League
ORGANIZER;CN="David Strackbein":MAILTO:dstrackbein@wi.rr.com
END:VEVENT
BEGIN:VEVENT
DTSTART;TZID=America/Chicago:20240522T163000
DTEND;TZID=America/Chicago:20240522T203000
DTSTAMP:20260425T073951
CREATED:20231118T193640Z
LAST-MODIFIED:20231118T204733Z
UID:10000428-1716395400-1716409800@www.wanakimensclub.com
SUMMARY:2024 Wednesday Night Golf League
DESCRIPTION:
URL:https://www.wanakimensclub.com/event/2024-wednesday-night-golf-league/2024-05-22/
LOCATION:Wanaki Golf Course\, N50 W20830 Lisbon Rd\, Menomonee Falls\, WI\, WI\, 53051\, United States
CATEGORIES:Wed Night League
ORGANIZER;CN="Bob Hart":MAILTO:amscrayhart62@yahoo.com
END:VEVENT
BEGIN:VEVENT
DTSTART;TZID=America/Chicago:20240519T080000
DTEND;TZID=America/Chicago:20240519T130000
DTSTAMP:20260425T073951
CREATED:20231118T194523Z
LAST-MODIFIED:20240515T164213Z
UID:10000400-1716105600-1716123600@www.wanakimensclub.com
SUMMARY:2024 Memorial 3-2-1
DESCRIPTION:Memorial 3-2-1  is a 4 man team event\, teams will be made up of players in your foursome\, not a blind draw.  The competition is played as follows : \nOn all Par 5’s\, 1 low net score (after handicap adjustment) is the team score\nOn all Par 4’s\, 2 low net scores (after handicap adjustment) is the team score\nOn all Par 3’s\, 3 low net scores (after handicap adjustment) is the team score \nEven par for this event is 137 and players will receive 90% of their individual Wanaki WSGA handicap at the time of the event. \n8:00am shotgun start with a complementary buffet offered for all men’s club members after golf.
URL:https://www.wanakimensclub.com/event/2024-memorial-3-2-1/
LOCATION:Wanaki Golf Course\, N50 W20830 Lisbon Rd\, Menomonee Falls\, WI\, WI\, 53051\, United States
CATEGORIES:Club Tournament
ORGANIZER;CN="Todd Halverson":MAILTO:mensclubwanaki@gmail.com
END:VEVENT
BEGIN:VEVENT
DTSTART;TZID=America/Chicago:20240516T163000
DTEND;TZID=America/Chicago:20240516T203000
DTSTAMP:20260425T073951
CREATED:20231118T193841Z
LAST-MODIFIED:20231118T204632Z
UID:10000412-1715877000-1715891400@www.wanakimensclub.com
SUMMARY:2024 Thursday Night Golf League
DESCRIPTION:
URL:https://www.wanakimensclub.com/event/2024-thursday-night-golf-league/2024-05-16/
LOCATION:Wanaki Golf Course\, N50 W20830 Lisbon Rd\, Menomonee Falls\, WI\, WI\, 53051\, United States
CATEGORIES:Thurs Night League
ORGANIZER;CN="David Strackbein":MAILTO:dstrackbein@wi.rr.com
END:VEVENT
BEGIN:VEVENT
DTSTART;TZID=America/Chicago:20240516T093000
DTEND;TZID=America/Chicago:20240516T163000
DTSTAMP:20260425T073951
CREATED:20231118T193455Z
LAST-MODIFIED:20240906T161204Z
UID:10000447-1715851800-1715877000@www.wanakimensclub.com
SUMMARY:2024 Thursday 18 Hole Golf League
DESCRIPTION:Tee times are are from 9:38am-12:34pm. (92 spots)\n** Tee times will be compressed to fill gaps as much as possible\, so if you sign up in a later tee time you may actually get a slightly earlier time so Wanaki can optimize the tee sheet. **\nIf you or your group tend to be slower players and you sign up for early tee times you may be pushed back at the league administrators discretion. Pace of play expectation is 4 hours and 10 minutes.\nPay attention to the tee times already used when you register. Tee times are set in order of registration and those that sign up for a tee time already taken will be moved to an available tee time.\nREGISTRATION OPENS ON WEDNESDAY(8 DAYS PRIOR TO THE LEAGUE DATE) AT 9:30AM AND CLOSES AT 9:30am THE DAY BEFORE. Late registrations will not be accepted after the deadline.\n\nContact Dave Strackbein via email dstrackbein@wi.rr.com or text (414) 350-8231 for post-deadline cancelations. \n 
URL:https://www.wanakimensclub.com/event/2024-thursday-18-hole-golf-league/2024-05-16/
LOCATION:Wanaki Golf Course\, N50 W20830 Lisbon Rd\, Menomonee Falls\, WI\, WI\, 53051\, United States
CATEGORIES:Thurs 18 Hole League
ORGANIZER;CN="David Strackbein":MAILTO:dstrackbein@wi.rr.com
END:VEVENT
BEGIN:VEVENT
DTSTART;TZID=America/Chicago:20240515T163000
DTEND;TZID=America/Chicago:20240515T203000
DTSTAMP:20260425T073951
CREATED:20231118T193640Z
LAST-MODIFIED:20231118T204733Z
UID:10000427-1715790600-1715805000@www.wanakimensclub.com
SUMMARY:2024 Wednesday Night Golf League
DESCRIPTION:
URL:https://www.wanakimensclub.com/event/2024-wednesday-night-golf-league/2024-05-15/
LOCATION:Wanaki Golf Course\, N50 W20830 Lisbon Rd\, Menomonee Falls\, WI\, WI\, 53051\, United States
CATEGORIES:Wed Night League
ORGANIZER;CN="Bob Hart":MAILTO:amscrayhart62@yahoo.com
END:VEVENT
BEGIN:VEVENT
DTSTART;TZID=America/Chicago:20240509T163000
DTEND;TZID=America/Chicago:20240509T203000
DTSTAMP:20260425T073951
CREATED:20231118T193841Z
LAST-MODIFIED:20231118T204632Z
UID:10000411-1715272200-1715286600@www.wanakimensclub.com
SUMMARY:2024 Thursday Night Golf League
DESCRIPTION:
URL:https://www.wanakimensclub.com/event/2024-thursday-night-golf-league/2024-05-09/
LOCATION:Wanaki Golf Course\, N50 W20830 Lisbon Rd\, Menomonee Falls\, WI\, WI\, 53051\, United States
CATEGORIES:Thurs Night League
ORGANIZER;CN="David Strackbein":MAILTO:dstrackbein@wi.rr.com
END:VEVENT
BEGIN:VEVENT
DTSTART;TZID=America/Chicago:20240509T093000
DTEND;TZID=America/Chicago:20240509T163000
DTSTAMP:20260425T073951
CREATED:20231118T193455Z
LAST-MODIFIED:20240906T161204Z
UID:10000446-1715247000-1715272200@www.wanakimensclub.com
SUMMARY:2024 Thursday 18 Hole Golf League
DESCRIPTION:Tee times are are from 9:38am-12:34pm. (92 spots)\n** Tee times will be compressed to fill gaps as much as possible\, so if you sign up in a later tee time you may actually get a slightly earlier time so Wanaki can optimize the tee sheet. **\nIf you or your group tend to be slower players and you sign up for early tee times you may be pushed back at the league administrators discretion. Pace of play expectation is 4 hours and 10 minutes.\nPay attention to the tee times already used when you register. Tee times are set in order of registration and those that sign up for a tee time already taken will be moved to an available tee time.\nREGISTRATION OPENS ON WEDNESDAY(8 DAYS PRIOR TO THE LEAGUE DATE) AT 9:30AM AND CLOSES AT 9:30am THE DAY BEFORE. Late registrations will not be accepted after the deadline.\n\nContact Dave Strackbein via email dstrackbein@wi.rr.com or text (414) 350-8231 for post-deadline cancelations. \n 
URL:https://www.wanakimensclub.com/event/2024-thursday-18-hole-golf-league/2024-05-09/
LOCATION:Wanaki Golf Course\, N50 W20830 Lisbon Rd\, Menomonee Falls\, WI\, WI\, 53051\, United States
CATEGORIES:Thurs 18 Hole League
ORGANIZER;CN="David Strackbein":MAILTO:dstrackbein@wi.rr.com
END:VEVENT
BEGIN:VEVENT
DTSTART;TZID=America/Chicago:20240508T163000
DTEND;TZID=America/Chicago:20240508T203000
DTSTAMP:20260425T073951
CREATED:20231118T193640Z
LAST-MODIFIED:20231118T204733Z
UID:10000426-1715185800-1715200200@www.wanakimensclub.com
SUMMARY:2024 Wednesday Night Golf League
DESCRIPTION:
URL:https://www.wanakimensclub.com/event/2024-wednesday-night-golf-league/2024-05-08/
LOCATION:Wanaki Golf Course\, N50 W20830 Lisbon Rd\, Menomonee Falls\, WI\, WI\, 53051\, United States
CATEGORIES:Wed Night League
ORGANIZER;CN="Bob Hart":MAILTO:amscrayhart62@yahoo.com
END:VEVENT
BEGIN:VEVENT
DTSTART;TZID=America/Chicago:20240505T083000
DTEND;TZID=America/Chicago:20240505T130000
DTSTAMP:20260425T073951
CREATED:20231118T194416Z
LAST-MODIFIED:20240501T181615Z
UID:10000399-1714897800-1714914000@www.wanakimensclub.com
SUMMARY:2024 Early Bird
DESCRIPTION:Early Bird will be an 8:30am shotgun start. \nEach foursome makes up a 4 Man Best Ball team. We will combine registrations less than 4 to make full foursomes. If there is a group less than 4\, a blind draw of of 1 or more golfers in other groups will be used to to score the 4 Man Best Ball event for that team. 4 Man Best Ball is a golf format for teams comprised of four golfers. Each of the golfers on the team play their own ball throughout and the lowest score in the foursome counts as the team score. This is also sometimes referred to as “Better ball” when used in stroke play\, or “Fourball” when used in match play.  This is also played as 2 Best Balls or even 3 Best Balls depending on the event.
URL:https://www.wanakimensclub.com/event/2024-early-bird/
LOCATION:Wanaki Golf Course\, N50 W20830 Lisbon Rd\, Menomonee Falls\, WI\, WI\, 53051\, United States
CATEGORIES:Club Tournament
ORGANIZER;CN="Todd Halverson":MAILTO:mensclubwanaki@gmail.com
END:VEVENT
BEGIN:VEVENT
DTSTART;TZID=America/Chicago:20240502T163000
DTEND;TZID=America/Chicago:20240502T203000
DTSTAMP:20260425T073951
CREATED:20231118T193841Z
LAST-MODIFIED:20231118T204632Z
UID:10000398-1714667400-1714681800@www.wanakimensclub.com
SUMMARY:2024 Thursday Night Golf League
DESCRIPTION:
URL:https://www.wanakimensclub.com/event/2024-thursday-night-golf-league/2024-05-02/
LOCATION:Wanaki Golf Course\, N50 W20830 Lisbon Rd\, Menomonee Falls\, WI\, WI\, 53051\, United States
CATEGORIES:Thurs Night League
ORGANIZER;CN="David Strackbein":MAILTO:dstrackbein@wi.rr.com
END:VEVENT
BEGIN:VEVENT
DTSTART;TZID=America/Chicago:20240502T093000
DTEND;TZID=America/Chicago:20240502T163000
DTSTAMP:20260425T073951
CREATED:20231118T193455Z
LAST-MODIFIED:20240906T161204Z
UID:10000445-1714642200-1714667400@www.wanakimensclub.com
SUMMARY:2024 Thursday 18 Hole Golf League
DESCRIPTION:Tee times are are from 9:38am-12:34pm. (92 spots)\n** Tee times will be compressed to fill gaps as much as possible\, so if you sign up in a later tee time you may actually get a slightly earlier time so Wanaki can optimize the tee sheet. **\nIf you or your group tend to be slower players and you sign up for early tee times you may be pushed back at the league administrators discretion. Pace of play expectation is 4 hours and 10 minutes.\nPay attention to the tee times already used when you register. Tee times are set in order of registration and those that sign up for a tee time already taken will be moved to an available tee time.\nREGISTRATION OPENS ON WEDNESDAY(8 DAYS PRIOR TO THE LEAGUE DATE) AT 9:30AM AND CLOSES AT 9:30am THE DAY BEFORE. Late registrations will not be accepted after the deadline.\n\nContact Dave Strackbein via email dstrackbein@wi.rr.com or text (414) 350-8231 for post-deadline cancelations. \n 
URL:https://www.wanakimensclub.com/event/2024-thursday-18-hole-golf-league/2024-05-02/
LOCATION:Wanaki Golf Course\, N50 W20830 Lisbon Rd\, Menomonee Falls\, WI\, WI\, 53051\, United States
CATEGORIES:Thurs 18 Hole League
ORGANIZER;CN="David Strackbein":MAILTO:dstrackbein@wi.rr.com
END:VEVENT
END:VCALENDAR