BEGIN:VCALENDAR
VERSION:2.0
PRODID:-//Wanaki Men&#039;s Club - ECPv6.15.18//NONSGML v1.0//EN
CALSCALE:GREGORIAN
METHOD:PUBLISH
X-ORIGINAL-URL:https://www.wanakimensclub.com
X-WR-CALDESC:Events for Wanaki Men&#039;s Club
REFRESH-INTERVAL;VALUE=DURATION:PT1H
X-Robots-Tag:noindex
X-PUBLISHED-TTL:PT1H
BEGIN:VTIMEZONE
TZID:America/Chicago
BEGIN:DAYLIGHT
TZOFFSETFROM:-0600
TZOFFSETTO:-0500
TZNAME:CDT
DTSTART:20240310T080000
END:DAYLIGHT
BEGIN:STANDARD
TZOFFSETFROM:-0500
TZOFFSETTO:-0600
TZNAME:CST
DTSTART:20241103T070000
END:STANDARD
BEGIN:DAYLIGHT
TZOFFSETFROM:-0600
TZOFFSETTO:-0500
TZNAME:CDT
DTSTART:20250309T080000
END:DAYLIGHT
BEGIN:STANDARD
TZOFFSETFROM:-0500
TZOFFSETTO:-0600
TZNAME:CST
DTSTART:20251102T070000
END:STANDARD
BEGIN:DAYLIGHT
TZOFFSETFROM:-0600
TZOFFSETTO:-0500
TZNAME:CDT
DTSTART:20260308T080000
END:DAYLIGHT
BEGIN:STANDARD
TZOFFSETFROM:-0500
TZOFFSETTO:-0600
TZNAME:CST
DTSTART:20261101T070000
END:STANDARD
END:VTIMEZONE
BEGIN:VEVENT
DTSTART;VALUE=DATE:20250315
DTEND;VALUE=DATE:20250316
DTSTAMP:20260425T082952
CREATED:20241021T141540Z
LAST-MODIFIED:20260111T121915Z
UID:10000468-1741996800-1742083199@www.wanakimensclub.com
SUMMARY:2025 New Member Registration Open
DESCRIPTION:2025 new member registration period starts on March 15th. \n  \n  \n  \n 
URL:https://www.wanakimensclub.com/event/2025-new-member-registration-open/
LOCATION:WI
CATEGORIES:Special Event
ORGANIZER;CN="David Strackbein":MAILTO:dstrackbein@wi.rr.com
END:VEVENT
BEGIN:VEVENT
DTSTART;TZID=America/Chicago:20250315T130000
DTEND;TZID=America/Chicago:20250315T150000
DTSTAMP:20260425T082952
CREATED:20250117T160529Z
LAST-MODIFIED:20250117T160529Z
UID:10000469-1742043600-1742050800@www.wanakimensclub.com
SUMMARY:2025 Informational Meeting
DESCRIPTION:The 2025 informational meeting will be held from 1:00-3:00pm at The Turn Bar and Grill at Wanaki Golf Course.  This will be a great time to ask questions about Wanaki Men’s Club. \n  \n 
URL:https://www.wanakimensclub.com/event/2025-informational-meeting/
LOCATION:Wanaki Golf Course\, N50 W20830 Lisbon Rd\, Menomonee Falls\, WI\, WI\, 53051\, United States
CATEGORIES:Special Event
ORGANIZER;CN="Todd Halverson":MAILTO:mensclubwanaki@gmail.com
END:VEVENT
END:VCALENDAR