BEGIN:VCALENDAR
VERSION:2.0
PRODID:-//Wanaki Men&#039;s Club - ECPv6.15.18//NONSGML v1.0//EN
CALSCALE:GREGORIAN
METHOD:PUBLISH
X-WR-CALNAME:Wanaki Men&#039;s Club
X-ORIGINAL-URL:https://www.wanakimensclub.com
X-WR-CALDESC:Events for Wanaki Men&#039;s Club
REFRESH-INTERVAL;VALUE=DURATION:PT1H
X-Robots-Tag:noindex
X-PUBLISHED-TTL:PT1H
BEGIN:VTIMEZONE
TZID:America/Chicago
BEGIN:DAYLIGHT
TZOFFSETFROM:-0600
TZOFFSETTO:-0500
TZNAME:CDT
DTSTART:20200308T080000
END:DAYLIGHT
BEGIN:STANDARD
TZOFFSETFROM:-0500
TZOFFSETTO:-0600
TZNAME:CST
DTSTART:20201101T070000
END:STANDARD
BEGIN:DAYLIGHT
TZOFFSETFROM:-0600
TZOFFSETTO:-0500
TZNAME:CDT
DTSTART:20210314T080000
END:DAYLIGHT
BEGIN:STANDARD
TZOFFSETFROM:-0500
TZOFFSETTO:-0600
TZNAME:CST
DTSTART:20211107T070000
END:STANDARD
BEGIN:DAYLIGHT
TZOFFSETFROM:-0600
TZOFFSETTO:-0500
TZNAME:CDT
DTSTART:20220313T080000
END:DAYLIGHT
BEGIN:STANDARD
TZOFFSETFROM:-0500
TZOFFSETTO:-0600
TZNAME:CST
DTSTART:20221106T070000
END:STANDARD
BEGIN:DAYLIGHT
TZOFFSETFROM:-0600
TZOFFSETTO:-0500
TZNAME:CDT
DTSTART:20230312T080000
END:DAYLIGHT
BEGIN:STANDARD
TZOFFSETFROM:-0500
TZOFFSETTO:-0600
TZNAME:CST
DTSTART:20231105T070000
END:STANDARD
END:VTIMEZONE
BEGIN:VEVENT
DTSTART;TZID=America/Chicago:20220804T163000
DTEND;TZID=America/Chicago:20220804T203000
DTSTAMP:20260424T112955
CREATED:20220124T223732Z
LAST-MODIFIED:20220124T223732Z
UID:10000156-1659630600-1659645000@www.wanakimensclub.com
SUMMARY:Thursday Night Golf League
DESCRIPTION:
URL:https://www.wanakimensclub.com/event/thursday-night-golf-league-4/2022-08-04/
LOCATION:Wanaki Golf Course\, N50 W20830 Lisbon Rd\, Menomonee Falls\, WI\, WI\, 53051\, United States
CATEGORIES:Thurs Night League
ORGANIZER;CN="David Strackbein":MAILTO:dstrackbein@wi.rr.com
END:VEVENT
BEGIN:VEVENT
DTSTART;TZID=America/Chicago:20220728T163000
DTEND;TZID=America/Chicago:20220728T203000
DTSTAMP:20260424T112955
CREATED:20220124T223732Z
LAST-MODIFIED:20220124T223732Z
UID:10000155-1659025800-1659040200@www.wanakimensclub.com
SUMMARY:Thursday Night Golf League
DESCRIPTION:
URL:https://www.wanakimensclub.com/event/thursday-night-golf-league-4/2022-07-28/
LOCATION:Wanaki Golf Course\, N50 W20830 Lisbon Rd\, Menomonee Falls\, WI\, WI\, 53051\, United States
CATEGORIES:Thurs Night League
ORGANIZER;CN="David Strackbein":MAILTO:dstrackbein@wi.rr.com
END:VEVENT
BEGIN:VEVENT
DTSTART;TZID=America/Chicago:20220721T163000
DTEND;TZID=America/Chicago:20220721T203000
DTSTAMP:20260424T112955
CREATED:20220124T223732Z
LAST-MODIFIED:20220124T223732Z
UID:10000154-1658421000-1658435400@www.wanakimensclub.com
SUMMARY:Thursday Night Golf League
DESCRIPTION:
URL:https://www.wanakimensclub.com/event/thursday-night-golf-league-4/2022-07-21/
LOCATION:Wanaki Golf Course\, N50 W20830 Lisbon Rd\, Menomonee Falls\, WI\, WI\, 53051\, United States
CATEGORIES:Thurs Night League
ORGANIZER;CN="David Strackbein":MAILTO:dstrackbein@wi.rr.com
END:VEVENT
BEGIN:VEVENT
DTSTART;TZID=America/Chicago:20220714T163000
DTEND;TZID=America/Chicago:20220714T203000
DTSTAMP:20260424T112955
CREATED:20220124T223732Z
LAST-MODIFIED:20220124T223732Z
UID:10000153-1657816200-1657830600@www.wanakimensclub.com
SUMMARY:Thursday Night Golf League
DESCRIPTION:
URL:https://www.wanakimensclub.com/event/thursday-night-golf-league-4/2022-07-14/
LOCATION:Wanaki Golf Course\, N50 W20830 Lisbon Rd\, Menomonee Falls\, WI\, WI\, 53051\, United States
CATEGORIES:Thurs Night League
ORGANIZER;CN="David Strackbein":MAILTO:dstrackbein@wi.rr.com
END:VEVENT
BEGIN:VEVENT
DTSTART;TZID=America/Chicago:20220714T103000
DTEND;TZID=America/Chicago:20220714T123000
DTSTAMP:20260424T112955
CREATED:20220124T224626Z
LAST-MODIFIED:20220705T213109Z
UID:10000251-1657794600-1657801800@www.wanakimensclub.com
SUMMARY:Thursday 18 Hole Golf League
DESCRIPTION:Tee times are are from 10:26am-12:18pm. (72 spots)\n** Tee times will be compressed to fill gaps\, so if you sign up in a later tee time you may actually get a slightly earlier time so Wanaki can optimize the tee sheet. **\nPay attention to the tee times already used when you register. Tee times are set in order of registration and those that sign up for a tee time already taken will be moved to an available tee time.\nREGISTRATION OPENS ON WEDNESDAY(8 DAYS PRIOR TO THE LEAGUE DATE) AT 6:30AM AND CLOSES AT 12:00pm THE DAY BEFORE. Late registrations will not be accepted after the 12:00pm deadline.\n\nContact Dave Strackbein via email dstrackbein@wi.rr.com or text (414) 350-8231 for post-deadline cancelations. \n 
URL:https://www.wanakimensclub.com/event/thursday-18-hole-golf-league-3-2022-05-05-2022-05-12-2022-05-26-2022-07-14/
LOCATION:Wanaki Golf Course\, N50 W20830 Lisbon Rd\, Menomonee Falls\, WI\, WI\, 53051\, United States
CATEGORIES:Thurs 18 Hole League
ORGANIZER;CN="David Strackbein":MAILTO:dstrackbein@wi.rr.com
END:VEVENT
BEGIN:VEVENT
DTSTART;TZID=America/Chicago:20220707T163000
DTEND;TZID=America/Chicago:20220707T203000
DTSTAMP:20260424T112955
CREATED:20220124T223732Z
LAST-MODIFIED:20220124T223732Z
UID:10000152-1657211400-1657225800@www.wanakimensclub.com
SUMMARY:Thursday Night Golf League
DESCRIPTION:
URL:https://www.wanakimensclub.com/event/thursday-night-golf-league-4/2022-07-07/
LOCATION:Wanaki Golf Course\, N50 W20830 Lisbon Rd\, Menomonee Falls\, WI\, WI\, 53051\, United States
CATEGORIES:Thurs Night League
ORGANIZER;CN="David Strackbein":MAILTO:dstrackbein@wi.rr.com
END:VEVENT
BEGIN:VEVENT
DTSTART;TZID=America/Chicago:20220707T103000
DTEND;TZID=America/Chicago:20220707T123000
DTSTAMP:20260424T112955
CREATED:20220124T224626Z
LAST-MODIFIED:20220622T142811Z
UID:10000249-1657189800-1657197000@www.wanakimensclub.com
SUMMARY:Thursday 18 Hole Golf League
DESCRIPTION:Tee times are are from 10:26am-12:18pm. (72 spots)\n** Tee times will be compressed to fill gaps\, so if you sign up in a later tee time you may actually get a slightly earlier time so Wanaki can optimize the tee sheet. **\nPay attention to the tee times already used when you register. Tee times are set in order of registration and those that sign up for a tee time already taken will be moved to an available tee time.\nREGISTRATION OPENS ON WEDNESDAY(8 DAYS PRIOR TO THE LEAGUE DATE) AT 6:30AM AND CLOSES AT 12:00pm THE DAY BEFORE. Late registrations will not be accepted after the 12:00pm deadline.\n\nContact Dave Strackbein via email dstrackbein@wi.rr.com or text (414) 350-8231 for post-deadline cancelations. \n 
URL:https://www.wanakimensclub.com/event/thursday-18-hole-golf-league-3-2022-05-05-2022-05-12-2022-05-26-2022-07-07/
LOCATION:Wanaki Golf Course\, N50 W20830 Lisbon Rd\, Menomonee Falls\, WI\, WI\, 53051\, United States
CATEGORIES:Thurs 18 Hole League
ORGANIZER;CN="David Strackbein":MAILTO:dstrackbein@wi.rr.com
END:VEVENT
BEGIN:VEVENT
DTSTART;TZID=America/Chicago:20220630T163000
DTEND;TZID=America/Chicago:20220630T203000
DTSTAMP:20260424T112955
CREATED:20220124T223732Z
LAST-MODIFIED:20220124T223732Z
UID:10000151-1656606600-1656621000@www.wanakimensclub.com
SUMMARY:Thursday Night Golf League
DESCRIPTION:
URL:https://www.wanakimensclub.com/event/thursday-night-golf-league-4/2022-06-30/
LOCATION:Wanaki Golf Course\, N50 W20830 Lisbon Rd\, Menomonee Falls\, WI\, WI\, 53051\, United States
CATEGORIES:Thurs Night League
ORGANIZER;CN="David Strackbein":MAILTO:dstrackbein@wi.rr.com
END:VEVENT
BEGIN:VEVENT
DTSTART;TZID=America/Chicago:20220630T103000
DTEND;TZID=America/Chicago:20220630T123000
DTSTAMP:20260424T112955
CREATED:20220124T224626Z
LAST-MODIFIED:20220622T142704Z
UID:10000275-1656585000-1656592200@www.wanakimensclub.com
SUMMARY:Thursday 18 Hole Golf League
DESCRIPTION:Tee times are are from 10:26am-12:18pm. (72 spots)\n** Tee times will be compressed to fill gaps\, so if you sign up in a later tee time you may actually get a slightly earlier time so Wanaki can optimize the tee sheet. **\nPay attention to the tee times already used when you register. Tee times are set in order of registration and those that sign up for a tee time already taken will be moved to an available tee time.\nREGISTRATION OPENS ON WEDNESDAY(8 DAYS PRIOR TO THE LEAGUE DATE) AT 6:30AM AND CLOSES AT 12:00pm THE DAY BEFORE. Late registrations will not be accepted after the 12:00pm deadline.\n\nContact Dave Strackbein via email dstrackbein@wi.rr.com or text (414) 350-8231 for post-deadline cancelations. \n 
URL:https://www.wanakimensclub.com/event/thursday-18-hole-golf-league-3-2022-05-05-2022-05-12-2022-05-26-2022-06-30/
LOCATION:Wanaki Golf Course\, N50 W20830 Lisbon Rd\, Menomonee Falls\, WI\, WI\, 53051\, United States
CATEGORIES:Thurs 18 Hole League
ORGANIZER;CN="David Strackbein":MAILTO:dstrackbein@wi.rr.com
END:VEVENT
BEGIN:VEVENT
DTSTART;TZID=America/Chicago:20220623T163000
DTEND;TZID=America/Chicago:20220623T203000
DTSTAMP:20260424T112955
CREATED:20220124T223732Z
LAST-MODIFIED:20220124T223732Z
UID:10000150-1656001800-1656016200@www.wanakimensclub.com
SUMMARY:Thursday Night Golf League
DESCRIPTION:
URL:https://www.wanakimensclub.com/event/thursday-night-golf-league-4/2022-06-23/
LOCATION:Wanaki Golf Course\, N50 W20830 Lisbon Rd\, Menomonee Falls\, WI\, WI\, 53051\, United States
CATEGORIES:Thurs Night League
ORGANIZER;CN="David Strackbein":MAILTO:dstrackbein@wi.rr.com
END:VEVENT
BEGIN:VEVENT
DTSTART;TZID=America/Chicago:20220623T103000
DTEND;TZID=America/Chicago:20220623T123000
DTSTAMP:20260424T112955
CREATED:20220124T224626Z
LAST-MODIFIED:20220610T181534Z
UID:10000272-1655980200-1655987400@www.wanakimensclub.com
SUMMARY:Thursday 18 Hole Golf League
DESCRIPTION:Tee times are are from 10:26am-12:18pm. (72 spots)\n** Tee times will be compressed to fill gaps\, so if you sign up in a later tee time you may actually get a slightly earlier time so Wanaki can optimize the tee sheet. **\nPay attention to the tee times already used when you register. Tee times are set in order of registration and those that sign up for a tee time already taken will be moved to an available tee time.\nREGISTRATION OPENS ON WEDNESDAY(8 DAYS PRIOR TO THE LEAGUE DATE) AT 6:30AM AND CLOSES AT 12:00pm THE DAY BEFORE. Late registrations will not be accepted after the 12:00pm deadline.\n\nContact Dave Strackbein via email dstrackbein@wi.rr.com or text (414) 350-8231 for post-deadline cancelations. \n 
URL:https://www.wanakimensclub.com/event/thursday-18-hole-golf-league-3-2022-05-05-2022-05-12-2022-05-26-2022-06-23/
LOCATION:Wanaki Golf Course\, N50 W20830 Lisbon Rd\, Menomonee Falls\, WI\, WI\, 53051\, United States
CATEGORIES:Thurs 18 Hole League
ORGANIZER;CN="David Strackbein":MAILTO:dstrackbein@wi.rr.com
END:VEVENT
BEGIN:VEVENT
DTSTART;TZID=America/Chicago:20220616T163000
DTEND;TZID=America/Chicago:20220616T203000
DTSTAMP:20260424T112955
CREATED:20220124T223732Z
LAST-MODIFIED:20220124T223732Z
UID:10000149-1655397000-1655411400@www.wanakimensclub.com
SUMMARY:Thursday Night Golf League
DESCRIPTION:
URL:https://www.wanakimensclub.com/event/thursday-night-golf-league-4/2022-06-16/
LOCATION:Wanaki Golf Course\, N50 W20830 Lisbon Rd\, Menomonee Falls\, WI\, WI\, 53051\, United States
CATEGORIES:Thurs Night League
ORGANIZER;CN="David Strackbein":MAILTO:dstrackbein@wi.rr.com
END:VEVENT
BEGIN:VEVENT
DTSTART;TZID=America/Chicago:20220616T103000
DTEND;TZID=America/Chicago:20220616T123000
DTSTAMP:20260424T112955
CREATED:20220124T224626Z
LAST-MODIFIED:20220525T115244Z
UID:10000171-1655375400-1655382600@www.wanakimensclub.com
SUMMARY:Thursday 18 Hole Golf League
DESCRIPTION:Tee times are are from 10:26am-12:18pm. (72 spots)\n** Tee times will be compressed to fill gaps\, so if you sign up in a later tee time you may actually get a slightly earlier time so Wanaki can optimize the tee sheet. **\nPay attention to the tee times already used when you register. Tee times are set in order of registration and those that sign up for a tee time already taken will be moved to an available tee time.\nREGISTRATION OPENS ON WEDNESDAY(8 DAYS PRIOR TO THE LEAGUE DATE) AT 6:30AM AND CLOSES AT 12:00pm THE DAY BEFORE. Late registrations will not be accepted after the 12:00pm deadline.\n\nContact Dave Strackbein via email dstrackbein@wi.rr.com or text (414) 350-8231 for post-deadline cancelations. \n 
URL:https://www.wanakimensclub.com/event/thursday-18-hole-golf-league-3-2022-05-05-2022-05-12-2022-05-26-2022-06-16/
LOCATION:Wanaki Golf Course\, N50 W20830 Lisbon Rd\, Menomonee Falls\, WI\, WI\, 53051\, United States
CATEGORIES:Thurs 18 Hole League
ORGANIZER;CN="David Strackbein":MAILTO:dstrackbein@wi.rr.com
END:VEVENT
BEGIN:VEVENT
DTSTART;TZID=America/Chicago:20220609T163000
DTEND;TZID=America/Chicago:20220609T203000
DTSTAMP:20260424T112955
CREATED:20220124T223732Z
LAST-MODIFIED:20220124T223732Z
UID:10000148-1654792200-1654806600@www.wanakimensclub.com
SUMMARY:Thursday Night Golf League
DESCRIPTION:
URL:https://www.wanakimensclub.com/event/thursday-night-golf-league-4/2022-06-09/
LOCATION:Wanaki Golf Course\, N50 W20830 Lisbon Rd\, Menomonee Falls\, WI\, WI\, 53051\, United States
CATEGORIES:Thurs Night League
ORGANIZER;CN="David Strackbein":MAILTO:dstrackbein@wi.rr.com
END:VEVENT
BEGIN:VEVENT
DTSTART;TZID=America/Chicago:20220609T103000
DTEND;TZID=America/Chicago:20220609T123000
DTSTAMP:20260424T112955
CREATED:20220124T224626Z
LAST-MODIFIED:20220525T170352Z
UID:10000170-1654770600-1654777800@www.wanakimensclub.com
SUMMARY:Thursday 18 Hole Golf League
DESCRIPTION:Tee times are are from 10:26am-12:18pm. (72 spots)\n** Tee times will be compressed to fill gaps\, so if you sign up in a later tee time you may actually get a slightly earlier time so Wanaki can optimize the tee sheet. **\nPay attention to the tee times already used when you register. Tee times are set in order of registration and those that sign up for a tee time already taken will be moved to an available tee time.\nREGISTRATION OPENS ON WEDNESDAY(8 DAYS PRIOR TO THE LEAGUE DATE) AT 6:30AM AND CLOSES AT 12:00pm THE DAY BEFORE. Late registrations will not be accepted after the 12:00pm deadline.\n\nContact Dave Strackbein via email dstrackbein@wi.rr.com or text (414) 350-8231 for post-deadline cancelations. \n 
URL:https://www.wanakimensclub.com/event/thursday-18-hole-golf-league-3-2022-05-05-2022-05-12-2022-05-26-2022-06-09/
LOCATION:Wanaki Golf Course\, N50 W20830 Lisbon Rd\, Menomonee Falls\, WI\, WI\, 53051\, United States
CATEGORIES:Thurs 18 Hole League
ORGANIZER;CN="David Strackbein":MAILTO:dstrackbein@wi.rr.com
END:VEVENT
BEGIN:VEVENT
DTSTART;TZID=America/Chicago:20220602T163000
DTEND;TZID=America/Chicago:20220602T203000
DTSTAMP:20260424T112955
CREATED:20220124T223732Z
LAST-MODIFIED:20220124T223732Z
UID:10000147-1654187400-1654201800@www.wanakimensclub.com
SUMMARY:Thursday Night Golf League
DESCRIPTION:
URL:https://www.wanakimensclub.com/event/thursday-night-golf-league-4/2022-06-02/
LOCATION:Wanaki Golf Course\, N50 W20830 Lisbon Rd\, Menomonee Falls\, WI\, WI\, 53051\, United States
CATEGORIES:Thurs Night League
ORGANIZER;CN="David Strackbein":MAILTO:dstrackbein@wi.rr.com
END:VEVENT
BEGIN:VEVENT
DTSTART;TZID=America/Chicago:20220602T103000
DTEND;TZID=America/Chicago:20220602T123000
DTSTAMP:20260424T112955
CREATED:20220124T224626Z
LAST-MODIFIED:20220531T133902Z
UID:10000169-1654165800-1654173000@www.wanakimensclub.com
SUMMARY:Thursday 18 Hole Golf League
DESCRIPTION:View Current BlueGolf Pairings Here \n\nTee times are are from 10:26am-12:18pm. (72 spots)\n** Tee times will be compressed to fill gaps\, so if you sign up in a later tee time you may actually get a slightly earlier time so Wanaki can optimize the tee sheet. **\nPay attention to the tee times already used when you register. Tee times are set in order of registration and those that sign up for a tee time already taken will be moved to an available tee time.\nREGISTRATION OPENS ON WEDNESDAY(8 DAYS PRIOR TO THE LEAGUE DATE) AT 6:30AM AND CLOSES AT 12:00pm THE DAY BEFORE. Late registrations will not be accepted after the 12:00pm deadline.\n\nContact Dave Strackbein via email dstrackbein@wi.rr.com or text (414) 350-8231 for post-deadline cancelations. \n 
URL:https://www.wanakimensclub.com/event/thursday-18-hole-golf-league-3-2022-05-05-2022-05-12-2022-05-26-2022-06-02/
LOCATION:Wanaki Golf Course\, N50 W20830 Lisbon Rd\, Menomonee Falls\, WI\, WI\, 53051\, United States
CATEGORIES:Thurs 18 Hole League
ORGANIZER;CN="David Strackbein":MAILTO:dstrackbein@wi.rr.com
END:VEVENT
BEGIN:VEVENT
DTSTART;TZID=America/Chicago:20220526T163000
DTEND;TZID=America/Chicago:20220526T203000
DTSTAMP:20260424T112955
CREATED:20220124T223732Z
LAST-MODIFIED:20220124T223732Z
UID:10000146-1653582600-1653597000@www.wanakimensclub.com
SUMMARY:Thursday Night Golf League
DESCRIPTION:
URL:https://www.wanakimensclub.com/event/thursday-night-golf-league-4/2022-05-26/
LOCATION:Wanaki Golf Course\, N50 W20830 Lisbon Rd\, Menomonee Falls\, WI\, WI\, 53051\, United States
CATEGORIES:Thurs Night League
ORGANIZER;CN="David Strackbein":MAILTO:dstrackbein@wi.rr.com
END:VEVENT
BEGIN:VEVENT
DTSTART;TZID=America/Chicago:20220526T103000
DTEND;TZID=America/Chicago:20220526T123000
DTSTAMP:20260424T112955
CREATED:20220124T224626Z
LAST-MODIFIED:20220518T111635Z
UID:10000323-1653561000-1653568200@www.wanakimensclub.com
SUMMARY:Thursday 18 Hole Golf League
DESCRIPTION:Tee times are are from 10:26am-12:18pm. (72 spots)\n** Tee times will be compressed to fill gaps\, so if you sign up in a later tee time you may actually get a slightly earlier time so Wanaki can optimize the tee sheet. **\nPay attention to the tee times already used when you register. Tee times are set in order of registration and those that sign up for a tee time already taken will be moved to an available tee time.\nREGISTRATION OPENS ON WEDNESDAY(8 DAYS PRIOR TO THE LEAGUE DATE) AT 6:30AM AND CLOSES AT 12:00pm THE DAY BEFORE. Late registrations will not be accepted after the 12:00pm deadline.\n\nContact Dave Strackbein via email dstrackbein@wi.rr.com or text (414) 350-8231 for post-deadline cancelations. \n 
URL:https://www.wanakimensclub.com/event/thursday-18-hole-golf-league-3-2022-05-05-2022-05-12-2022-05-26/
LOCATION:Wanaki Golf Course\, N50 W20830 Lisbon Rd\, Menomonee Falls\, WI\, WI\, 53051\, United States
CATEGORIES:Thurs 18 Hole League
ORGANIZER;CN="David Strackbein":MAILTO:dstrackbein@wi.rr.com
END:VEVENT
BEGIN:VEVENT
DTSTART;TZID=America/Chicago:20220519T163000
DTEND;TZID=America/Chicago:20220519T203000
DTSTAMP:20260424T112955
CREATED:20220124T223732Z
LAST-MODIFIED:20220124T223732Z
UID:10000145-1652977800-1652992200@www.wanakimensclub.com
SUMMARY:Thursday Night Golf League
DESCRIPTION:
URL:https://www.wanakimensclub.com/event/thursday-night-golf-league-4/2022-05-19/
LOCATION:Wanaki Golf Course\, N50 W20830 Lisbon Rd\, Menomonee Falls\, WI\, WI\, 53051\, United States
CATEGORIES:Thurs Night League
ORGANIZER;CN="David Strackbein":MAILTO:dstrackbein@wi.rr.com
END:VEVENT
BEGIN:VEVENT
DTSTART;TZID=America/Chicago:20220519T103000
DTEND;TZID=America/Chicago:20220519T123000
DTSTAMP:20260424T112955
CREATED:20220124T224626Z
LAST-MODIFIED:20220510T182109Z
UID:10000321-1652956200-1652963400@www.wanakimensclub.com
SUMMARY:Thursday 18 Hole Golf League
DESCRIPTION:Tee times are are from 10:26am-12:18pm. (72 spots)\n** Tee times will be compressed to fill gaps\, so if you sign up in a later tee time you may actually get a slightly earlier time so Wanaki can optimize the tee sheet. **\nPay attention to the tee times already used when you register. Tee times are set in order of registration and those that sign up for a tee time already taken will be moved to an available tee time.\nREGISTRATION OPENS ON WEDNESDAY(8 DAYS PRIOR TO THE LEAGUE DATE) AT 6:30AM AND CLOSES AT 12:00pm THE DAY BEFORE.  Late registrations will not be accepted after the 12:00pm deadline.\n\nContact Dave Strackbein via email dstrackbein@wi.rr.com or text (414) 350-8231 for post-deadline cancelations. \n 
URL:https://www.wanakimensclub.com/event/thursday-18-hole-golf-league-3-2022-05-05-2022-05-12-2022-05-19/
LOCATION:Wanaki Golf Course\, N50 W20830 Lisbon Rd\, Menomonee Falls\, WI\, WI\, 53051\, United States
CATEGORIES:Thurs 18 Hole League
ORGANIZER;CN="David Strackbein":MAILTO:dstrackbein@wi.rr.com
END:VEVENT
BEGIN:VEVENT
DTSTART;TZID=America/Chicago:20220512T163000
DTEND;TZID=America/Chicago:20220512T203000
DTSTAMP:20260424T112955
CREATED:20220124T223732Z
LAST-MODIFIED:20220124T223732Z
UID:10000144-1652373000-1652387400@www.wanakimensclub.com
SUMMARY:Thursday Night Golf League
DESCRIPTION:
URL:https://www.wanakimensclub.com/event/thursday-night-golf-league-4/2022-05-12/
LOCATION:Wanaki Golf Course\, N50 W20830 Lisbon Rd\, Menomonee Falls\, WI\, WI\, 53051\, United States
CATEGORIES:Thurs Night League
ORGANIZER;CN="David Strackbein":MAILTO:dstrackbein@wi.rr.com
END:VEVENT
BEGIN:VEVENT
DTSTART;TZID=America/Chicago:20220512T103000
DTEND;TZID=America/Chicago:20220512T123000
DTSTAMP:20260424T112955
CREATED:20220124T224626Z
LAST-MODIFIED:20220504T105819Z
UID:10000320-1652351400-1652358600@www.wanakimensclub.com
SUMMARY:Thursday 18 Hole Golf League
DESCRIPTION:Tee times are are from 10:26am-12:18pm. (72 spots)\n** Tee times will be compressed to fill gaps\, so if you sign up in a later tee time you may actually get a slightly earlier time so Wanaki can optimize the tee sheet. **\nPay attention to the tee times already used when you register. Tee times are set in order of registration and those that sign up for a tee time already taken will be moved to an available tee time.\nREGISTRATION OPENS ON WEDNESDAY(8 DAYS PRIOR TO THE LEAGUE DATE) AT 6:30AM AND CLOSES AT 12:00pm THE DAY BEFORE.  If you decide you want to play or make changes after the registration deadline\, please call call or text Dave Strackbein at (414) 350-8231 to check availability.\n\n 
URL:https://www.wanakimensclub.com/event/thursday-18-hole-golf-league-3-2022-05-05-2022-05-12/
LOCATION:Wanaki Golf Course\, N50 W20830 Lisbon Rd\, Menomonee Falls\, WI\, WI\, 53051\, United States
CATEGORIES:Thurs 18 Hole League
ORGANIZER;CN="David Strackbein":MAILTO:dstrackbein@wi.rr.com
END:VEVENT
BEGIN:VEVENT
DTSTART;TZID=America/Chicago:20220505T163000
DTEND;TZID=America/Chicago:20220505T203000
DTSTAMP:20260424T112955
CREATED:20220124T223732Z
LAST-MODIFIED:20220124T223732Z
UID:10000143-1651768200-1651782600@www.wanakimensclub.com
SUMMARY:Thursday Night Golf League
DESCRIPTION:
URL:https://www.wanakimensclub.com/event/thursday-night-golf-league-4/2022-05-05/
LOCATION:Wanaki Golf Course\, N50 W20830 Lisbon Rd\, Menomonee Falls\, WI\, WI\, 53051\, United States
CATEGORIES:Thurs Night League
ORGANIZER;CN="David Strackbein":MAILTO:dstrackbein@wi.rr.com
END:VEVENT
BEGIN:VEVENT
DTSTART;TZID=America/Chicago:20220505T103000
DTEND;TZID=America/Chicago:20220505T123000
DTSTAMP:20260424T112955
CREATED:20220124T224626Z
LAST-MODIFIED:20220429T182359Z
UID:10000319-1651746600-1651753800@www.wanakimensclub.com
SUMMARY:Thursday 18 Hole Golf League
DESCRIPTION:Tee times are are from 10:26am-12:18pm. (72 spots)\n** Tee times will be compressed to fill gaps\, so if you sign up in a later tee time you may actually get a slightly earlier time so Wanaki can optimize the tee sheet. **\nPay attention to the tee times already used when you register. Tee times are set in order of registration and those that sign up for a tee time already taken will be moved to an available tee time.\nREGISTRATION OPENS ON WEDNESDAY(8 DAYS PRIOR TO THE LEAGUE DATE) AT 6:30AM AND CLOSES AT 12:00pm THE DAY BEFORE.  If you decide you want to play or make changes after the registration deadline\, please call call or text Dave Strackbein at (414) 350-8231 to check availability.\n\n 
URL:https://www.wanakimensclub.com/event/thursday-18-hole-golf-league-3-2022-05-05/
LOCATION:Wanaki Golf Course\, N50 W20830 Lisbon Rd\, Menomonee Falls\, WI\, WI\, 53051\, United States
CATEGORIES:Thurs 18 Hole League
ORGANIZER;CN="David Strackbein":MAILTO:dstrackbein@wi.rr.com
END:VEVENT
BEGIN:VEVENT
DTSTART;TZID=America/Chicago:20220428T103000
DTEND;TZID=America/Chicago:20220428T123000
DTSTAMP:20260424T112955
CREATED:20220124T224626Z
LAST-MODIFIED:20220421T150356Z
UID:10000161-1651141800-1651149000@www.wanakimensclub.com
SUMMARY:Thursday 18 Hole Golf League
DESCRIPTION:Tee times are are from 10:26am-12:18pm.\n** Tee times will be compressed to fill gaps\, so if you sign up in a later tee time you may actually get a slightly earlier time so Wanaki can optimize the tee sheet. **\nPay attention to the tee times already used when you register. Tee times are set in order of registration and those that sign up for a tee time already taken will be moved to an available tee time.\nREGISTRATION OPENS ON WEDNESDAY(8 DAYS PRIOR TO THE LEAGUE DATE) AT 6:30AM AND CLOSES AT 6:00AM THE DAY BEFORE.  If you decide you want to play or make changes after the registration deadline\, please call the pro shop at (262) 252-3480 to check availability.\n\n 
URL:https://www.wanakimensclub.com/event/thursday-18-hole-golf-league-3/
LOCATION:Wanaki Golf Course\, N50 W20830 Lisbon Rd\, Menomonee Falls\, WI\, WI\, 53051\, United States
CATEGORIES:Thurs 18 Hole League
ORGANIZER;CN="David Strackbein":MAILTO:dstrackbein@wi.rr.com
END:VEVENT
BEGIN:VEVENT
DTSTART;VALUE=DATE:20220319
DTEND;VALUE=DATE:20220320
DTSTAMP:20260424T112955
CREATED:20211112T002742Z
LAST-MODIFIED:20211227T184307Z
UID:10000159-1647648000-1647734399@www.wanakimensclub.com
SUMMARY:2022 New Member Registration Open
DESCRIPTION:2022 new member registration period starts on March 19th. \nClick here to go to our registration page! \n  \n  \n 
URL:https://www.wanakimensclub.com/event/2022-new-member-online-registration-opens/
CATEGORIES:Special Event
ORGANIZER;CN="David Strackbein":MAILTO:dstrackbein@wi.rr.com
END:VEVENT
BEGIN:VEVENT
DTSTART;VALUE=DATE:20220212
DTEND;VALUE=DATE:20220213
DTSTAMP:20260424T112955
CREATED:20211112T002603Z
LAST-MODIFIED:20211227T184229Z
UID:10000279-1644624000-1644710399@www.wanakimensclub.com
SUMMARY:2022 Returning Member Registration Open
DESCRIPTION:2022 returning member registration period starts on February 12th. \nClick here to go to our registration page! \n  \n  \n 
URL:https://www.wanakimensclub.com/event/2022-returning-member-online-registration-opens/
CATEGORIES:Special Event
ORGANIZER;CN="David Strackbein":MAILTO:dstrackbein@wi.rr.com
END:VEVENT
BEGIN:VEVENT
DTSTART;TZID=America/Chicago:20210902T163000
DTEND;TZID=America/Chicago:20210902T203000
DTSTAMP:20260424T112955
CREATED:20210117T144216Z
LAST-MODIFIED:20210817T170428Z
UID:10000226-1630600200-1630614600@www.wanakimensclub.com
SUMMARY:Thursday Night Golf League
DESCRIPTION:
URL:https://www.wanakimensclub.com/event/thursday-night-golf-league-3/2021-09-02/
LOCATION:Wanaki Golf Course\, N50 W20830 Lisbon Rd\, Menomonee Falls\, WI\, WI\, 53051\, United States
CATEGORIES:Thurs Night League
ORGANIZER;CN="David Strackbein":MAILTO:dstrackbein@wi.rr.com
END:VEVENT
BEGIN:VEVENT
DTSTART;TZID=America/Chicago:20210826T163000
DTEND;TZID=America/Chicago:20210826T203000
DTSTAMP:20260424T112955
CREATED:20210117T144216Z
LAST-MODIFIED:20210817T170428Z
UID:10000225-1629995400-1630009800@www.wanakimensclub.com
SUMMARY:Thursday Night Golf League
DESCRIPTION:
URL:https://www.wanakimensclub.com/event/thursday-night-golf-league-3/2021-08-26/
LOCATION:Wanaki Golf Course\, N50 W20830 Lisbon Rd\, Menomonee Falls\, WI\, WI\, 53051\, United States
CATEGORIES:Thurs Night League
ORGANIZER;CN="David Strackbein":MAILTO:dstrackbein@wi.rr.com
END:VEVENT
END:VCALENDAR