BEGIN:VCALENDAR
VERSION:2.0
PRODID:-//Wanaki Men&#039;s Club - ECPv6.15.18//NONSGML v1.0//EN
CALSCALE:GREGORIAN
METHOD:PUBLISH
X-ORIGINAL-URL:https://www.wanakimensclub.com
X-WR-CALDESC:Events for Wanaki Men&#039;s Club
REFRESH-INTERVAL;VALUE=DURATION:PT1H
X-Robots-Tag:noindex
X-PUBLISHED-TTL:PT1H
BEGIN:VTIMEZONE
TZID:America/Chicago
BEGIN:DAYLIGHT
TZOFFSETFROM:-0600
TZOFFSETTO:-0500
TZNAME:CDT
DTSTART:20200308T080000
END:DAYLIGHT
BEGIN:STANDARD
TZOFFSETFROM:-0500
TZOFFSETTO:-0600
TZNAME:CST
DTSTART:20201101T070000
END:STANDARD
BEGIN:DAYLIGHT
TZOFFSETFROM:-0600
TZOFFSETTO:-0500
TZNAME:CDT
DTSTART:20210314T080000
END:DAYLIGHT
BEGIN:STANDARD
TZOFFSETFROM:-0500
TZOFFSETTO:-0600
TZNAME:CST
DTSTART:20211107T070000
END:STANDARD
BEGIN:DAYLIGHT
TZOFFSETFROM:-0600
TZOFFSETTO:-0500
TZNAME:CDT
DTSTART:20220313T080000
END:DAYLIGHT
BEGIN:STANDARD
TZOFFSETFROM:-0500
TZOFFSETTO:-0600
TZNAME:CST
DTSTART:20221106T070000
END:STANDARD
END:VTIMEZONE
BEGIN:VEVENT
DTSTART;TZID=America/Chicago:20210808T073000
DTEND;TZID=America/Chicago:20210808T143000
DTSTAMP:20260424T041630
CREATED:20210117T152127Z
LAST-MODIFIED:20210802T172236Z
UID:10000285-1628407800-1628433000@www.wanakimensclub.com
SUMMARY:Individual Net
DESCRIPTION:There is no mystery to the Individual Net tournament format.  Each player plays on their own ball and will record gross and net scores for each hole. The handicap for each player is 90% of their current Wanaki WSGA Handicap Index for the tees being played \nThis event will be held at Old Hickory Golf Course in Beaver Dam. Cost is $60 which includes 18 holes with cart\, range balls\, and a box lunch at the turn. Tee times from 9:00am through 11:50am. Final tee times may be adjusted to fill gaps. \n 
URL:https://www.wanakimensclub.com/event/individual-net-2/
LOCATION:Old Hickory Golf Course\, W7596 State Road 33\,\, Beaver Dam\, WI\, 53916\, United States
CATEGORIES:Club Tournament
ORGANIZER;CN="Todd Halverson":MAILTO:mensclubwanaki@gmail.com
END:VEVENT
END:VCALENDAR