BEGIN:VCALENDAR
VERSION:2.0
PRODID:-//Wanaki Men&#039;s Club - ECPv6.15.18//NONSGML v1.0//EN
CALSCALE:GREGORIAN
METHOD:PUBLISH
X-ORIGINAL-URL:https://www.wanakimensclub.com
X-WR-CALDESC:Events for Wanaki Men&#039;s Club
REFRESH-INTERVAL;VALUE=DURATION:PT1H
X-Robots-Tag:noindex
X-PUBLISHED-TTL:PT1H
BEGIN:VTIMEZONE
TZID:America/Chicago
BEGIN:DAYLIGHT
TZOFFSETFROM:-0600
TZOFFSETTO:-0500
TZNAME:CDT
DTSTART:20210314T080000
END:DAYLIGHT
BEGIN:STANDARD
TZOFFSETFROM:-0500
TZOFFSETTO:-0600
TZNAME:CST
DTSTART:20211107T070000
END:STANDARD
BEGIN:DAYLIGHT
TZOFFSETFROM:-0600
TZOFFSETTO:-0500
TZNAME:CDT
DTSTART:20220313T080000
END:DAYLIGHT
BEGIN:STANDARD
TZOFFSETFROM:-0500
TZOFFSETTO:-0600
TZNAME:CST
DTSTART:20221106T070000
END:STANDARD
BEGIN:DAYLIGHT
TZOFFSETFROM:-0600
TZOFFSETTO:-0500
TZNAME:CDT
DTSTART:20230312T080000
END:DAYLIGHT
BEGIN:STANDARD
TZOFFSETFROM:-0500
TZOFFSETTO:-0600
TZNAME:CST
DTSTART:20231105T070000
END:STANDARD
BEGIN:DAYLIGHT
TZOFFSETFROM:-0600
TZOFFSETTO:-0500
TZNAME:CDT
DTSTART:20240310T080000
END:DAYLIGHT
BEGIN:STANDARD
TZOFFSETFROM:-0500
TZOFFSETTO:-0600
TZNAME:CST
DTSTART:20241103T070000
END:STANDARD
END:VTIMEZONE
BEGIN:VEVENT
DTSTART;TZID=America/Chicago:20230608T100000
DTEND;TZID=America/Chicago:20230608T123000
DTSTAMP:20260425T062224
CREATED:20230114T135436Z
LAST-MODIFIED:20230516T170540Z
UID:10000330-1686218400-1686227400@www.wanakimensclub.com
SUMMARY:2023 Thursday 18 Hole Golf League
DESCRIPTION:Tee times are are from 10:10am-12:34pm. (76 spots)\n** Tee times will be compressed to fill gaps\, so if you sign up in a later tee time you may actually get a slightly earlier time so Wanaki can optimize the tee sheet. **\nPay attention to the tee times already used when you register. Tee times are set in order of registration and those that sign up for a tee time already taken will be moved to an available tee time.\nREGISTRATION OPENS ON WEDNESDAY(8 DAYS PRIOR TO THE LEAGUE DATE) AT 10:00AM AND CLOSES AT 10:00am THE DAY BEFORE. Late registrations will not be accepted after the deadline.\n\nContact Dave Strackbein via email dstrackbein@wi.rr.com or text (414) 350-8231 for post-deadline cancelations. \n 
URL:https://www.wanakimensclub.com/event/2023-thursday-18-hole-golf-league/2023-06-08/
LOCATION:Wanaki Golf Course\, N50 W20830 Lisbon Rd\, Menomonee Falls\, WI\, WI\, 53051\, United States
CATEGORIES:Thurs 18 Hole League
ORGANIZER;CN="David Strackbein":MAILTO:dstrackbein@wi.rr.com
END:VEVENT
BEGIN:VEVENT
DTSTART;TZID=America/Chicago:20230607T163000
DTEND;TZID=America/Chicago:20230607T203000
DTSTAMP:20260425T062224
CREATED:20230114T143346Z
LAST-MODIFIED:20230114T182318Z
UID:10000376-1686155400-1686169800@www.wanakimensclub.com
SUMMARY:2023 Wednesday Night Golf League
DESCRIPTION:
URL:https://www.wanakimensclub.com/event/2023-wednesday-night-golf-league/2023-06-07/
LOCATION:Wanaki Golf Course\, N50 W20830 Lisbon Rd\, Menomonee Falls\, WI\, WI\, 53051\, United States
CATEGORIES:Wed Night League
ORGANIZER;CN="Bob Hart":MAILTO:amscrayhart62@yahoo.com
END:VEVENT
BEGIN:VEVENT
DTSTART;TZID=America/Chicago:20230604T073000
DTEND;TZID=America/Chicago:20230604T143000
DTSTAMP:20260425T062224
CREATED:20230114T182957Z
LAST-MODIFIED:20230602T232851Z
UID:10000354-1685863800-1685889000@www.wanakimensclub.com
SUMMARY:2023 Net Partners
DESCRIPTION:Net Partners is a golf format for teams comprised of two golfers. The team generates 3 scores for each hole during the round. \nHole Score = Player 1 Net + Player 2 Net + Lowest of Player 1/Player 2 Net. \nTee times start at 7:30am. \n 
URL:https://www.wanakimensclub.com/event/2023-net-partners/
LOCATION:Wanaki Golf Course\, N50 W20830 Lisbon Rd\, Menomonee Falls\, WI\, WI\, 53051\, United States
CATEGORIES:Club Tournament
ORGANIZER;CN="Todd Halverson":MAILTO:mensclubwanaki@gmail.com
END:VEVENT
BEGIN:VEVENT
DTSTART;TZID=America/Chicago:20230601T163000
DTEND;TZID=America/Chicago:20230601T203000
DTSTAMP:20260425T062224
CREATED:20230114T143221Z
LAST-MODIFIED:20230114T182208Z
UID:10000360-1685637000-1685651400@www.wanakimensclub.com
SUMMARY:2023 Thursday Night Golf League
DESCRIPTION:
URL:https://www.wanakimensclub.com/event/2023-thursday-night-golf-league/2023-06-01/
LOCATION:Wanaki Golf Course\, N50 W20830 Lisbon Rd\, Menomonee Falls\, WI\, WI\, 53051\, United States
CATEGORIES:Thurs Night League
ORGANIZER;CN="David Strackbein":MAILTO:dstrackbein@wi.rr.com
END:VEVENT
BEGIN:VEVENT
DTSTART;TZID=America/Chicago:20230601T100000
DTEND;TZID=America/Chicago:20230601T123000
DTSTAMP:20260425T062224
CREATED:20230114T135436Z
LAST-MODIFIED:20230516T170540Z
UID:10000329-1685613600-1685622600@www.wanakimensclub.com
SUMMARY:2023 Thursday 18 Hole Golf League
DESCRIPTION:Tee times are are from 10:10am-12:34pm. (76 spots)\n** Tee times will be compressed to fill gaps\, so if you sign up in a later tee time you may actually get a slightly earlier time so Wanaki can optimize the tee sheet. **\nPay attention to the tee times already used when you register. Tee times are set in order of registration and those that sign up for a tee time already taken will be moved to an available tee time.\nREGISTRATION OPENS ON WEDNESDAY(8 DAYS PRIOR TO THE LEAGUE DATE) AT 10:00AM AND CLOSES AT 10:00am THE DAY BEFORE. Late registrations will not be accepted after the deadline.\n\nContact Dave Strackbein via email dstrackbein@wi.rr.com or text (414) 350-8231 for post-deadline cancelations. \n 
URL:https://www.wanakimensclub.com/event/2023-thursday-18-hole-golf-league/2023-06-01/
LOCATION:Wanaki Golf Course\, N50 W20830 Lisbon Rd\, Menomonee Falls\, WI\, WI\, 53051\, United States
CATEGORIES:Thurs 18 Hole League
ORGANIZER;CN="David Strackbein":MAILTO:dstrackbein@wi.rr.com
END:VEVENT
BEGIN:VEVENT
DTSTART;TZID=America/Chicago:20230531T163000
DTEND;TZID=America/Chicago:20230531T203000
DTSTAMP:20260425T062224
CREATED:20230114T143346Z
LAST-MODIFIED:20230114T182318Z
UID:10000375-1685550600-1685565000@www.wanakimensclub.com
SUMMARY:2023 Wednesday Night Golf League
DESCRIPTION:
URL:https://www.wanakimensclub.com/event/2023-wednesday-night-golf-league/2023-05-31/
LOCATION:Wanaki Golf Course\, N50 W20830 Lisbon Rd\, Menomonee Falls\, WI\, WI\, 53051\, United States
CATEGORIES:Wed Night League
ORGANIZER;CN="Bob Hart":MAILTO:amscrayhart62@yahoo.com
END:VEVENT
BEGIN:VEVENT
DTSTART;TZID=America/Chicago:20230525T163000
DTEND;TZID=America/Chicago:20230525T203000
DTSTAMP:20260425T062224
CREATED:20230114T143221Z
LAST-MODIFIED:20230114T182208Z
UID:10000359-1685032200-1685046600@www.wanakimensclub.com
SUMMARY:2023 Thursday Night Golf League
DESCRIPTION:
URL:https://www.wanakimensclub.com/event/2023-thursday-night-golf-league/2023-05-25/
LOCATION:Wanaki Golf Course\, N50 W20830 Lisbon Rd\, Menomonee Falls\, WI\, WI\, 53051\, United States
CATEGORIES:Thurs Night League
ORGANIZER;CN="David Strackbein":MAILTO:dstrackbein@wi.rr.com
END:VEVENT
BEGIN:VEVENT
DTSTART;TZID=America/Chicago:20230525T100000
DTEND;TZID=America/Chicago:20230525T123000
DTSTAMP:20260425T062224
CREATED:20230115T135108Z
LAST-MODIFIED:20230523T212536Z
UID:10000388-1685008800-1685017800@www.wanakimensclub.com
SUMMARY:2023 Thursday 18 Hole Golf League
DESCRIPTION:Tee times are are from 11:22am-12:58pm. *** Tee Times Shifted This week due to WSGA qualifier ****\n** Tee times will be compressed to fill gaps\, so if you sign up in a later tee time you may actually get a slightly earlier time so Wanaki can optimize the tee sheet. **\nPay attention to the tee times already used when you register. Tee times are set in order of registration and those that sign up for a tee time already taken will be moved to an available tee time.\nREGISTRATION OPENS ON WEDNESDAY(8 DAYS PRIOR TO THE LEAGUE DATE) AT 10:00AM AND CLOSES AT 10:00am on 5/23/2023.\n\nContact Dave Strackbein via email dstrackbein@wi.rr.com or text (414) 350-8231 for post-deadline cancelations. \n 
URL:https://www.wanakimensclub.com/event/2023-thursday-18-hole-golf-league-away-event/
LOCATION:Wanaki Golf Course\, N50 W20830 Lisbon Rd\, Menomonee Falls\, WI\, WI\, 53051\, United States
CATEGORIES:Thurs 18 Hole League
ORGANIZER;CN="David Strackbein":MAILTO:dstrackbein@wi.rr.com
END:VEVENT
BEGIN:VEVENT
DTSTART;TZID=America/Chicago:20230524T163000
DTEND;TZID=America/Chicago:20230524T203000
DTSTAMP:20260425T062224
CREATED:20230114T143346Z
LAST-MODIFIED:20230114T182318Z
UID:10000374-1684945800-1684960200@www.wanakimensclub.com
SUMMARY:2023 Wednesday Night Golf League
DESCRIPTION:
URL:https://www.wanakimensclub.com/event/2023-wednesday-night-golf-league/2023-05-24/
LOCATION:Wanaki Golf Course\, N50 W20830 Lisbon Rd\, Menomonee Falls\, WI\, WI\, 53051\, United States
CATEGORIES:Wed Night League
ORGANIZER;CN="Bob Hart":MAILTO:amscrayhart62@yahoo.com
END:VEVENT
BEGIN:VEVENT
DTSTART;TZID=America/Chicago:20230521T080000
DTEND;TZID=America/Chicago:20230521T130000
DTSTAMP:20260425T062224
CREATED:20230114T182824Z
LAST-MODIFIED:20230512T211659Z
UID:10000355-1684656000-1684674000@www.wanakimensclub.com
SUMMARY:2023 Memorial 3-2-1
DESCRIPTION:Memorial 3-2-1  is a 4 man team event\, teams will be made up of players in your foursome\, not a blind draw.  The competition is played as follows : \nOn all Par 5’s\, 1 low net score (after handicap adjustment) is the team score\nOn all Par 4’s\, 2 low net scores (after handicap adjustment) is the team score\nOn all Par 3’s\, 3 low net scores (after handicap adjustment) is the team score \nEven par for this event is 137 and players will receive 90% of their individual Wanaki WSGA handicap at the time of the event. \n8:00am shotgun start with a complementary buffet offered for all men’s club members after golf…and then the fun really begins. Live music from local favorite “Scotch and Soda” on the patio from 1:00 p.m. to 4:00 p.m.  Bring the wives and girlfriends guys as we will be holding a “Ladies Par 3 contest” at 2:30 p.m. A dedication will also be held for the annual Men’s Club Memorial tree – a newly planted oak on hole #17 honoring fallen members of the club. Plan on staying the whole day as fun will be had by all!
URL:https://www.wanakimensclub.com/event/2023-memorial-3-2-1/
LOCATION:Wanaki Golf Course\, N50 W20830 Lisbon Rd\, Menomonee Falls\, WI\, WI\, 53051\, United States
CATEGORIES:Club Tournament
ORGANIZER;CN="Todd Halverson":MAILTO:mensclubwanaki@gmail.com
END:VEVENT
BEGIN:VEVENT
DTSTART;TZID=America/Chicago:20230518T163000
DTEND;TZID=America/Chicago:20230518T203000
DTSTAMP:20260425T062224
CREATED:20230114T143221Z
LAST-MODIFIED:20230114T182208Z
UID:10000358-1684427400-1684441800@www.wanakimensclub.com
SUMMARY:2023 Thursday Night Golf League
DESCRIPTION:
URL:https://www.wanakimensclub.com/event/2023-thursday-night-golf-league/2023-05-18/
LOCATION:Wanaki Golf Course\, N50 W20830 Lisbon Rd\, Menomonee Falls\, WI\, WI\, 53051\, United States
CATEGORIES:Thurs Night League
ORGANIZER;CN="David Strackbein":MAILTO:dstrackbein@wi.rr.com
END:VEVENT
BEGIN:VEVENT
DTSTART;TZID=America/Chicago:20230518T100000
DTEND;TZID=America/Chicago:20230518T123000
DTSTAMP:20260425T062224
CREATED:20230114T135436Z
LAST-MODIFIED:20230516T170540Z
UID:10000327-1684404000-1684413000@www.wanakimensclub.com
SUMMARY:2023 Thursday 18 Hole Golf League
DESCRIPTION:Tee times are are from 10:10am-12:34pm. (76 spots)\n** Tee times will be compressed to fill gaps\, so if you sign up in a later tee time you may actually get a slightly earlier time so Wanaki can optimize the tee sheet. **\nPay attention to the tee times already used when you register. Tee times are set in order of registration and those that sign up for a tee time already taken will be moved to an available tee time.\nREGISTRATION OPENS ON WEDNESDAY(8 DAYS PRIOR TO THE LEAGUE DATE) AT 10:00AM AND CLOSES AT 10:00am THE DAY BEFORE. Late registrations will not be accepted after the deadline.\n\nContact Dave Strackbein via email dstrackbein@wi.rr.com or text (414) 350-8231 for post-deadline cancelations. \n 
URL:https://www.wanakimensclub.com/event/2023-thursday-18-hole-golf-league/2023-05-18/
LOCATION:Wanaki Golf Course\, N50 W20830 Lisbon Rd\, Menomonee Falls\, WI\, WI\, 53051\, United States
CATEGORIES:Thurs 18 Hole League
ORGANIZER;CN="David Strackbein":MAILTO:dstrackbein@wi.rr.com
END:VEVENT
BEGIN:VEVENT
DTSTART;TZID=America/Chicago:20230517T163000
DTEND;TZID=America/Chicago:20230517T203000
DTSTAMP:20260425T062224
CREATED:20230114T143346Z
LAST-MODIFIED:20230114T182318Z
UID:10000373-1684341000-1684355400@www.wanakimensclub.com
SUMMARY:2023 Wednesday Night Golf League
DESCRIPTION:
URL:https://www.wanakimensclub.com/event/2023-wednesday-night-golf-league/2023-05-17/
LOCATION:Wanaki Golf Course\, N50 W20830 Lisbon Rd\, Menomonee Falls\, WI\, WI\, 53051\, United States
CATEGORIES:Wed Night League
ORGANIZER;CN="Bob Hart":MAILTO:amscrayhart62@yahoo.com
END:VEVENT
BEGIN:VEVENT
DTSTART;TZID=America/Chicago:20230511T163000
DTEND;TZID=America/Chicago:20230511T203000
DTSTAMP:20260425T062224
CREATED:20230114T143221Z
LAST-MODIFIED:20230114T182208Z
UID:10000357-1683822600-1683837000@www.wanakimensclub.com
SUMMARY:2023 Thursday Night Golf League
DESCRIPTION:
URL:https://www.wanakimensclub.com/event/2023-thursday-night-golf-league/2023-05-11/
LOCATION:Wanaki Golf Course\, N50 W20830 Lisbon Rd\, Menomonee Falls\, WI\, WI\, 53051\, United States
CATEGORIES:Thurs Night League
ORGANIZER;CN="David Strackbein":MAILTO:dstrackbein@wi.rr.com
END:VEVENT
BEGIN:VEVENT
DTSTART;TZID=America/Chicago:20230511T100000
DTEND;TZID=America/Chicago:20230511T123000
DTSTAMP:20260425T062224
CREATED:20230114T135436Z
LAST-MODIFIED:20230516T170540Z
UID:10000326-1683799200-1683808200@www.wanakimensclub.com
SUMMARY:2023 Thursday 18 Hole Golf League
DESCRIPTION:Tee times are are from 10:10am-12:34pm. (76 spots)\n** Tee times will be compressed to fill gaps\, so if you sign up in a later tee time you may actually get a slightly earlier time so Wanaki can optimize the tee sheet. **\nPay attention to the tee times already used when you register. Tee times are set in order of registration and those that sign up for a tee time already taken will be moved to an available tee time.\nREGISTRATION OPENS ON WEDNESDAY(8 DAYS PRIOR TO THE LEAGUE DATE) AT 10:00AM AND CLOSES AT 10:00am THE DAY BEFORE. Late registrations will not be accepted after the deadline.\n\nContact Dave Strackbein via email dstrackbein@wi.rr.com or text (414) 350-8231 for post-deadline cancelations. \n 
URL:https://www.wanakimensclub.com/event/2023-thursday-18-hole-golf-league/2023-05-11/
LOCATION:Wanaki Golf Course\, N50 W20830 Lisbon Rd\, Menomonee Falls\, WI\, WI\, 53051\, United States
CATEGORIES:Thurs 18 Hole League
ORGANIZER;CN="David Strackbein":MAILTO:dstrackbein@wi.rr.com
END:VEVENT
BEGIN:VEVENT
DTSTART;TZID=America/Chicago:20230510T163000
DTEND;TZID=America/Chicago:20230510T203000
DTSTAMP:20260425T062224
CREATED:20230114T143346Z
LAST-MODIFIED:20230114T182318Z
UID:10000372-1683736200-1683750600@www.wanakimensclub.com
SUMMARY:2023 Wednesday Night Golf League
DESCRIPTION:
URL:https://www.wanakimensclub.com/event/2023-wednesday-night-golf-league/2023-05-10/
LOCATION:Wanaki Golf Course\, N50 W20830 Lisbon Rd\, Menomonee Falls\, WI\, WI\, 53051\, United States
CATEGORIES:Wed Night League
ORGANIZER;CN="Bob Hart":MAILTO:amscrayhart62@yahoo.com
END:VEVENT
BEGIN:VEVENT
DTSTART;TZID=America/Chicago:20230507T083000
DTEND;TZID=America/Chicago:20230507T130000
DTSTAMP:20260425T062224
CREATED:20230114T182712Z
LAST-MODIFIED:20230119T000540Z
UID:10000356-1683448200-1683464400@www.wanakimensclub.com
SUMMARY:2023 Early Bird
DESCRIPTION:4 Man Best Ball is a golf format for teams comprised of four golfers. Each of the golfers on the team play their own ball throughout and the lowest score in the foursome counts as the team score. This is also sometimes referred to as “Better ball” when used in stroke play\, or “Fourball” when used in match play.  This is also played as 2 Best Balls or even 3 Best Balls depending on the event. \nEarly Bird will be an 8:30am shotgun start. \nEach foursome makes up a 4 Man Best Ball team. We will combine registrations less than 4 to make full foursomes. If there is a group less than 4\, a blind draw of of 1 or more golfers in other groups will be used to to score the 4 Man Best Ball event for that team.
URL:https://www.wanakimensclub.com/event/2023-early-bird/
LOCATION:Wanaki Golf Course\, N50 W20830 Lisbon Rd\, Menomonee Falls\, WI\, WI\, 53051\, United States
CATEGORIES:Club Tournament
ORGANIZER;CN="Todd Halverson":MAILTO:mensclubwanaki@gmail.com
END:VEVENT
BEGIN:VEVENT
DTSTART;TZID=America/Chicago:20230504T163000
DTEND;TZID=America/Chicago:20230504T203000
DTSTAMP:20260425T062224
CREATED:20230114T143221Z
LAST-MODIFIED:20230114T182208Z
UID:10000343-1683217800-1683232200@www.wanakimensclub.com
SUMMARY:2023 Thursday Night Golf League
DESCRIPTION:
URL:https://www.wanakimensclub.com/event/2023-thursday-night-golf-league/2023-05-04/
LOCATION:Wanaki Golf Course\, N50 W20830 Lisbon Rd\, Menomonee Falls\, WI\, WI\, 53051\, United States
CATEGORIES:Thurs Night League
ORGANIZER;CN="David Strackbein":MAILTO:dstrackbein@wi.rr.com
END:VEVENT
BEGIN:VEVENT
DTSTART;TZID=America/Chicago:20230504T100000
DTEND;TZID=America/Chicago:20230504T123000
DTSTAMP:20260425T062224
CREATED:20230114T135436Z
LAST-MODIFIED:20230516T170540Z
UID:10000325-1683194400-1683203400@www.wanakimensclub.com
SUMMARY:2023 Thursday 18 Hole Golf League
DESCRIPTION:Tee times are are from 10:10am-12:34pm. (76 spots)\n** Tee times will be compressed to fill gaps\, so if you sign up in a later tee time you may actually get a slightly earlier time so Wanaki can optimize the tee sheet. **\nPay attention to the tee times already used when you register. Tee times are set in order of registration and those that sign up for a tee time already taken will be moved to an available tee time.\nREGISTRATION OPENS ON WEDNESDAY(8 DAYS PRIOR TO THE LEAGUE DATE) AT 10:00AM AND CLOSES AT 10:00am THE DAY BEFORE. Late registrations will not be accepted after the deadline.\n\nContact Dave Strackbein via email dstrackbein@wi.rr.com or text (414) 350-8231 for post-deadline cancelations. \n 
URL:https://www.wanakimensclub.com/event/2023-thursday-18-hole-golf-league/2023-05-04/
LOCATION:Wanaki Golf Course\, N50 W20830 Lisbon Rd\, Menomonee Falls\, WI\, WI\, 53051\, United States
CATEGORIES:Thurs 18 Hole League
ORGANIZER;CN="David Strackbein":MAILTO:dstrackbein@wi.rr.com
END:VEVENT
BEGIN:VEVENT
DTSTART;TZID=America/Chicago:20230503T163000
DTEND;TZID=America/Chicago:20230503T203000
DTSTAMP:20260425T062224
CREATED:20230114T143346Z
LAST-MODIFIED:20230114T182318Z
UID:10000344-1683131400-1683145800@www.wanakimensclub.com
SUMMARY:2023 Wednesday Night Golf League
DESCRIPTION:
URL:https://www.wanakimensclub.com/event/2023-wednesday-night-golf-league/2023-05-03/
LOCATION:Wanaki Golf Course\, N50 W20830 Lisbon Rd\, Menomonee Falls\, WI\, WI\, 53051\, United States
CATEGORIES:Wed Night League
ORGANIZER;CN="Bob Hart":MAILTO:amscrayhart62@yahoo.com
END:VEVENT
BEGIN:VEVENT
DTSTART;TZID=America/Chicago:20230427T100000
DTEND;TZID=America/Chicago:20230427T123000
DTSTAMP:20260425T062224
CREATED:20230114T135436Z
LAST-MODIFIED:20230516T170540Z
UID:10000324-1682589600-1682598600@www.wanakimensclub.com
SUMMARY:2023 Thursday 18 Hole Golf League
DESCRIPTION:Tee times are are from 10:10am-12:34pm. (76 spots)\n** Tee times will be compressed to fill gaps\, so if you sign up in a later tee time you may actually get a slightly earlier time so Wanaki can optimize the tee sheet. **\nPay attention to the tee times already used when you register. Tee times are set in order of registration and those that sign up for a tee time already taken will be moved to an available tee time.\nREGISTRATION OPENS ON WEDNESDAY(8 DAYS PRIOR TO THE LEAGUE DATE) AT 10:00AM AND CLOSES AT 10:00am THE DAY BEFORE. Late registrations will not be accepted after the deadline.\n\nContact Dave Strackbein via email dstrackbein@wi.rr.com or text (414) 350-8231 for post-deadline cancelations. \n 
URL:https://www.wanakimensclub.com/event/2023-thursday-18-hole-golf-league/2023-04-27/
LOCATION:Wanaki Golf Course\, N50 W20830 Lisbon Rd\, Menomonee Falls\, WI\, WI\, 53051\, United States
CATEGORIES:Thurs 18 Hole League
ORGANIZER;CN="David Strackbein":MAILTO:dstrackbein@wi.rr.com
END:VEVENT
BEGIN:VEVENT
DTSTART;TZID=America/Chicago:20230318T130000
DTEND;TZID=America/Chicago:20230318T150000
DTSTAMP:20260425T062224
CREATED:20230114T182553Z
LAST-MODIFIED:20230114T182553Z
UID:10000387-1679144400-1679151600@www.wanakimensclub.com
SUMMARY:2023 Informational Meeting
DESCRIPTION:
URL:https://www.wanakimensclub.com/event/2023-informational-meeting/
LOCATION:Wanaki Golf Course\, N50 W20830 Lisbon Rd\, Menomonee Falls\, WI\, WI\, 53051\, United States
CATEGORIES:Special Event
ORGANIZER;CN="Todd Halverson":MAILTO:mensclubwanaki@gmail.com
END:VEVENT
BEGIN:VEVENT
DTSTART;TZID=America/Chicago:20221008T090000
DTEND;TZID=America/Chicago:20221008T130000
DTSTAMP:20260425T062224
CREATED:20220124T230011Z
LAST-MODIFIED:20221007T104840Z
UID:10000132-1665219600-1665234000@www.wanakimensclub.com
SUMMARY:Diehard
DESCRIPTION:This is typically the final event of the season. Competition stroke play format from the white tees and players can sign up for one of two divisions\, regular golf or 3 club. Each division has its own hole events\, prize fund and net/gross skins games. \nThis event will be an 9:00am shotgun start with lunch served following the completion of play \n 
URL:https://www.wanakimensclub.com/event/diehard-3/
LOCATION:Wanaki Golf Course\, N50 W20830 Lisbon Rd\, Menomonee Falls\, WI\, WI\, 53051\, United States
CATEGORIES:Club Tournament
ORGANIZER;CN="Todd Halverson":MAILTO:mensclubwanaki@gmail.com
END:VEVENT
BEGIN:VEVENT
DTSTART;VALUE=DATE:20220930
DTEND;VALUE=DATE:20221001
DTSTAMP:20260425T062224
CREATED:20220124T222735Z
LAST-MODIFIED:20220124T222735Z
UID:10000164-1664496000-1664582399@www.wanakimensclub.com
SUMMARY:Club Championship Final Match Deadline
DESCRIPTION:
URL:https://www.wanakimensclub.com/event/club-championship-final-match-deadline-4/
LOCATION:Wanaki Golf Course\, N50 W20830 Lisbon Rd\, Menomonee Falls\, WI\, WI\, 53051\, United States
CATEGORIES:Championship
ORGANIZER;CN="Todd Halverson":MAILTO:mensclubwanaki@gmail.com
END:VEVENT
BEGIN:VEVENT
DTSTART;TZID=America/Chicago:20220925T080000
DTEND;TZID=America/Chicago:20220925T170000
DTSTAMP:20260425T062224
CREATED:20220124T225526Z
LAST-MODIFIED:20220124T225526Z
UID:10000131-1664092800-1664125200@www.wanakimensclub.com
SUMMARY:Club Officer Election Day
DESCRIPTION:
URL:https://www.wanakimensclub.com/event/club-officer-election-day/
LOCATION:Wanaki Golf Course\, N50 W20830 Lisbon Rd\, Menomonee Falls\, WI\, WI\, 53051\, United States
CATEGORIES:Special Event
ORGANIZER;CN="Todd Halverson":MAILTO:mensclubwanaki@gmail.com
END:VEVENT
BEGIN:VEVENT
DTSTART;TZID=America/Chicago:20220925T073000
DTEND;TZID=America/Chicago:20220925T143000
DTSTAMP:20260425T062224
CREATED:20220124T230238Z
LAST-MODIFIED:20220915T124408Z
UID:10000133-1664091000-1664116200@www.wanakimensclub.com
SUMMARY:Flag Day
DESCRIPTION:Flag day is one of the most fun formats of the Men’s Club season. Each participant is given a flag with a number on it. This number is calculated as 60 + your Wanaki WSGA Handicap on the day of the event. The flag travels with you throughout your round until the shot number corresponding to the number on your flag comes to rest. At that point you place your flag in the ground and continue playing your round. When the flag numbered shot does not end up on or around the green\, the flag is placed at the closest edge of the fairway at the same distance from the hole from where the flag numbered shot rests. If it is near or on the green\, the flag is placed at the edge of the green with a notation of how far the ball is from the hole when it came to rest. \nTee times start at 7:30am. \n**** Click Here to Register in BlueGolf **** \nCurrent Pairings \n  \n 
URL:https://www.wanakimensclub.com/event/flag-day-3/
LOCATION:Wanaki Golf Course\, N50 W20830 Lisbon Rd\, Menomonee Falls\, WI\, WI\, 53051\, United States
CATEGORIES:Club Tournament
ORGANIZER;CN="Todd Halverson":MAILTO:mensclubwanaki@gmail.com
END:VEVENT
BEGIN:VEVENT
DTSTART;VALUE=DATE:20220911
DTEND;VALUE=DATE:20220912
DTSTAMP:20260425T062224
CREATED:20220124T225358Z
LAST-MODIFIED:20220124T225358Z
UID:10000130-1662854400-1662940799@www.wanakimensclub.com
SUMMARY:WPLA State 36 Hole Championship
DESCRIPTION:This is a 2 day WSGA tournament\, half of the field plays at Wanaki\, the other half Naga-Waukee. \n 
URL:https://www.wanakimensclub.com/event/wpla-state-36-hole-championship-5/2022-09-11/
LOCATION:Wanaki Golf Course\, N50 W20830 Lisbon Rd\, Menomonee Falls\, WI\, WI\, 53051\, United States
CATEGORIES:Tournament
ORGANIZER;CN="WSGA":MAILTO:info@wsga.org
END:VEVENT
BEGIN:VEVENT
DTSTART;VALUE=DATE:20220910
DTEND;VALUE=DATE:20220911
DTSTAMP:20260425T062224
CREATED:20220124T225358Z
LAST-MODIFIED:20220124T225358Z
UID:10000129-1662768000-1662854399@www.wanakimensclub.com
SUMMARY:WPLA State 36 Hole Championship
DESCRIPTION:This is a 2 day WSGA tournament\, half of the field plays at Wanaki\, the other half Naga-Waukee. \n 
URL:https://www.wanakimensclub.com/event/wpla-state-36-hole-championship-5/2022-09-10/
LOCATION:Wanaki Golf Course\, N50 W20830 Lisbon Rd\, Menomonee Falls\, WI\, WI\, 53051\, United States
CATEGORIES:Tournament
ORGANIZER;CN="WSGA":MAILTO:info@wsga.org
END:VEVENT
BEGIN:VEVENT
DTSTART;VALUE=DATE:20220831
DTEND;VALUE=DATE:20220901
DTSTAMP:20260425T062224
CREATED:20220124T222626Z
LAST-MODIFIED:20220124T222626Z
UID:10000163-1661904000-1661990399@www.wanakimensclub.com
SUMMARY:Club Championship Round 3 Match Deadline
DESCRIPTION:
URL:https://www.wanakimensclub.com/event/club-championship-round-3-match-deadline-4/
LOCATION:Wanaki Golf Course\, N50 W20830 Lisbon Rd\, Menomonee Falls\, WI\, WI\, 53051\, United States
CATEGORIES:Championship
ORGANIZER;CN="Todd Halverson":MAILTO:mensclubwanaki@gmail.com
END:VEVENT
BEGIN:VEVENT
DTSTART;TZID=America/Chicago:20220828T073000
DTEND;TZID=America/Chicago:20220828T140000
DTSTAMP:20260425T062224
CREATED:20220124T230720Z
LAST-MODIFIED:20220125T135738Z
UID:10000136-1661671800-1661695200@www.wanakimensclub.com
SUMMARY:Tom Binney Memorial
DESCRIPTION:“The Binney” is our 36 hole individual stroke play championship. There will be a senior division and an open division with flights based on number of entries. \nClick here to see the list of players that registered for the Tom Binney 36 Hole championship and paid the $10 club championship fee when they joined the club at the beginning of the season. \nIf you did not register for the Tom Binney when you joined the club for the 2022 season you can still participate by emailing Todd Halverson. Let him know if you want to be in the open or senior division.  You will receive an invoice for the $10 club championship fee via email. \nTee times start at 7:30am and will be assigned by the tournament committee. \n 
URL:https://www.wanakimensclub.com/event/tom-binney-memorial-5/
LOCATION:Wanaki Golf Course\, N50 W20830 Lisbon Rd\, Menomonee Falls\, WI\, WI\, 53051\, United States
CATEGORIES:Club Tournament
ORGANIZER;CN="Todd Halverson":MAILTO:mensclubwanaki@gmail.com
END:VEVENT
END:VCALENDAR